PDS_VERSION_ID = PDS3
/* FILE DATA ELEMENTS */
RECORD_TYPE = STREAM
/* POINTERS TO DATA OBJECTS */
^COMPRESSED_FILE = "H2609_0000_S13.JP2"
/* IDENTIFICATION DATA ELEMENTS */
DATA_SET_ID = "MEX-M-HRSC-5-REFDR-MAPPROJECTED-V3.0"
DATA_SET_NAME = "MARS EXPRESS HRSC MAP PROJECTED REFDR V3.0"
DETECTOR_ID = MEX_HRSC_S1
EVENT_TYPE = "MARS-LOCAL-STEREO-Vo-Fl-Mw"
INSTRUMENT_HOST_ID = MEX
INSTRUMENT_HOST_NAME = "MARS EXPRESS"
INSTRUMENT_ID = HRSC
INSTRUMENT_NAME = "HIGH RESOLUTION STEREO CAMERA"
MISSION_NAME = "MARS EXPRESS"
MISSION_PHASE_NAME = ME_Phase_2
PROCESSING_LEVEL_ID = 3
PRODUCT_CREATION_TIME = 2016-04-08T01:44:18.000Z
PRODUCT_ID = "H2609_0000_S13.JP2"
RELEASE_ID = 0033
REVISION_ID = 0000
/* QUALITY DATA ELEMENTS */
DATA_QUALITY_ID = 2
DATA_QUALITY_DESC = "Data calculated based on photogrammetrically improved orbit and attitude data"
/* TIME DATA ELEMENTS */
SPACECRAFT_CLOCK_START_COUNT = "1/0086075377.07317"
SPACECRAFT_CLOCK_STOP_COUNT = "1/0086075947.55700"
START_TIME = 2006-01-23T05:49:42.906Z
STOP_TIME = 2006-01-23T05:52:32.974Z
/* ORBITAL DATA ELEMENTS */
ASCENDING_NODE_LONGITUDE = 173.53
MAXIMUM_RESOLUTION = 36.2
FOOTPRINT_POINT_LATITUDE = (-44.2994,-44.3205,-44.3376,-44.3499, -44.3608,-44.3727,-44.3806,-44.3873, -44.3927,-44.3979,-44.4002,-44.4012, -44.1261,-43.6947,-43.4332,-43.0818, -42.6388,-42.3698,-42.0093,-41.6468, -41.1889,-41.0051,-40.8206,-40.6323, -40.3532,-40.0717,-39.8838,-39.6938, -39.4071,-39.216,-39.0238,-38.8311, -38.5386,-38.3432,-38.1477,-37.9508, -37.7535,-37.5568,-37.36,-37.164, -36.9672,-36.6726,-36.3819,-36.188, -35.8966,-35.5983,-35.314,-35.1231, -34.8796,-34.8887,-34.8925,-34.8939, -34.8954,-34.8949,-34.8934,-34.8868, -34.8801,-34.8719,-34.864,-34.8565, -34.8489,-34.8393,-35.1259,-35.4092, -35.6955,-35.9822,-36.1747,-36.3683, -36.5632,-36.7568,-36.9512,-37.1458, -37.341,-37.5366,-37.7327,-37.9291, -38.2216,-38.4167,-38.6093,-38.898, -39.0902,-39.2788,-39.4706,-39.6576, -39.939,-40.1291,-40.3149,-40.5017, -40.6864,-40.962,-41.4182,-41.7806, -42.1392,-42.4952,-42.7551,-43.0213, -43.3722,-43.7164,-43.9749,-44.2994)
FOOTPRINT_POINT_LONGITUDE = (86.2988,86.7441,87.1488,87.4726, 87.7964,88.2014,88.5253,88.849,89.173, 89.6192,89.9442,90.2695,90.464,90.4835, 90.4952,90.5106,90.5294,90.541,90.5557, 90.5698,90.587,90.5935,90.6,90.6076, 90.6168,90.6262,90.6321,90.6384,90.6478 ,90.6536,90.6594,90.6651,90.674,90.6795 ,90.685,90.6904,90.6958,90.701,90.7062, 90.7111,90.7164,90.724,90.7302,90.7344, 90.7409,90.7498,90.7538,90.757,90.7619, 90.2628,89.9451,89.5372,89.22,88.9937, 88.6317,88.1334,87.7254,87.3627,87.0455 ,86.7734,86.4116,86.1622,86.1715, 86.1793,86.1874,86.195,86.2003,86.2056, 86.2111,86.2159,86.2207,86.2253,86.2298 ,86.2342,86.2384,86.2425,86.248,86.2515 ,86.2546,86.259,86.2619,86.2639,86.2668 ,86.2683,86.271,86.2734,86.2749,86.2764 ,86.2775,86.2788,86.28,86.2805,86.2799, 86.2788,86.2757,86.2747,86.2725,86.2682 ,86.2653,86.2988)
ORBIT_NUMBER = 2609
ORBITAL_ECCENTRICITY = 0.571
ORBITAL_INCLINATION = 86.62
ORBITAL_SEMIMAJOR_AXIS = 8530.33
PERIAPSIS_ALTITUDE = 279.24
PERIAPSIS_ARGUMENT_ANGLE = 259.91
PERIAPSIS_TIME = 2006-01-23T05:35:48.000Z
SPACECRAFT_ORIENTATION = (0.0,-1.0,0.0)
^MEX_ORIENTATION_DESC = "MEX_ORIENTATION_DESC.TXT"
SPACECRAFT_POINTING_MODE = NADIR
^MEX_POINTING_DESC = "MEX_POINTING_DESC.TXT"
RIGHT_ASCENSION = -1e+32
DECLINATION = -1e+32
OFFSET_ANGLE = -1e+32
SPACECRAFT_SOLAR_DISTANCE = 2.33288e+08
TARGET_NAME = MARS
/* CAMERA DATA ELEMENTS */
DETECTOR_TEMPERATURE = 18.3705
FOCAL_PLANE_TEMPERATURE = 8.7872
INST_CMPRS_NAME = "DISCRETE COSINE TRANSFORMATION (DCT)"
INST_CMPRS_RATIO = 8.94619
INST_CMPRS_QUALITY = 0
INST_CMPRS_QUANTZ_TBL_ID = 0
INSTRUMENT_TEMPERATURE = 11.234
LENS_TEMPERATURE = 9.195
MACROPIXEL_SIZE = 1
MISSING_FRAMES = 0
PIXEL_SUBSAMPLING_FLAG = N
SIGNAL_CHAIN_ID = 2
/* RADIOMETRIC DATA ELEMENTS */
BANDWIDTH = 180.0
CENTER_FILTER_WAVELENGTH = 677.0
RADIANCE_OFFSET = 3.67289
RADIANCE_SCALING_FACTOR = 0.00885215
REFLECTANCE_SCALING_FACTOR = 0.000251352
MEX:REFLECTANCE_OFFSET = 0.10429
/* IMAGE OBJECT DEFINITIONS */
OBJECT = IMAGE
  INTERCHANGE_FORMAT = BINARY
  LINES = 11198
  LINE_SAMPLES = 5274
  SAMPLE_TYPE = UNSIGNED_INTEGER
  SAMPLE_BITS = 8
  BANDS = 1
  BAND_STORAGE_TYPE = BAND_SEQUENTIAL
  MAXIMUM = 255
  MEAN = 118.703
  MINIMUM = 1
  STANDARD_DEVIATION = 30.2201
END_OBJECT = IMAGE
/* MAP OBJECT DEFINITIONS */
OBJECT = IMAGE_MAP_PROJECTION
  ^DATA_SET_MAP_PROJECTION_CATALOG= "DSMAP.CAT"
  A_AXIS_RADIUS = 3396.0
  B_AXIS_RADIUS = 3396.0
  C_AXIS_RADIUS = 3396.0
  CENTER_LATITUDE = 0.0
  CENTER_LONGITUDE = 88.0
  COORDINATE_SYSTEM_NAME = PLANETOGRAPHIC
  COORDINATE_SYSTEM_TYPE = "BODY-FIXED ROTATING"
  EASTERNMOST_LONGITUDE = 90.7619
  FIRST_STANDARD_PARALLEL = "N/A"
  LINE_FIRST_PIXEL = 1
  LINE_LAST_PIXEL = 11198
  LINE_PROJECTION_OFFSET = -41351.0
  MAP_PROJECTION_ROTATION = 0.0
  MAP_PROJECTION_TYPE = SINUSOIDAL
  MAP_RESOLUTION = 1185.42760773333
  MAP_SCALE = 0.05
  MAXIMUM_LATITUDE = -34.8393
  MINIMUM_LATITUDE = -44.4012
  POSITIVE_LONGITUDE_DIRECTION = EAST
  REFERENCE_LATITUDE = "N/A"
  REFERENCE_LONGITUDE = "N/A"
  SAMPLE_FIRST_PIXEL = 1
  SAMPLE_LAST_PIXEL = 5274
  SAMPLE_PROJECTION_OFFSET = 2255.0
  SECOND_STANDARD_PARALLEL = "N/A"
  WESTERNMOST_LONGITUDE = 86.1622
END_OBJECT = IMAGE_MAP_PROJECTION
/* The JPEG2000 image data file associated with this label. */
OBJECT = COMPRESSED_FILE
  FILE_NAME = "H2609_0000_S13.JP2"
  RECORD_TYPE = UNDEFINED
  FILE_RECORDS = UNK
  ENCODING_TYPE = "JP2"
  INTERCHANGE_FORMAT = BINARY
  UNCOMPRESSED_FILE_NAME = "H2609_0000_S13.IMG"
  REQUIRED_STORAGE_BYTES = "59084622"
  ^DESCRIPTION = "JP2INFO.TXT"
END_OBJECT = COMPRESSED_FILE
END
