PDS_VERSION_ID = PDS3
/* FILE DATA ELEMENTS */
RECORD_TYPE = STREAM
/* POINTERS TO DATA OBJECTS */
^COMPRESSED_FILE = "H2609_0000_S23.JP2"
/* IDENTIFICATION DATA ELEMENTS */
DATA_SET_ID = "MEX-M-HRSC-5-REFDR-MAPPROJECTED-V3.0"
DATA_SET_NAME = "MARS EXPRESS HRSC MAP PROJECTED REFDR V3.0"
DETECTOR_ID = MEX_HRSC_S2
EVENT_TYPE = "MARS-LOCAL-STEREO-Vo-Fl-Mw"
INSTRUMENT_HOST_ID = MEX
INSTRUMENT_HOST_NAME = "MARS EXPRESS"
INSTRUMENT_ID = HRSC
INSTRUMENT_NAME = "HIGH RESOLUTION STEREO CAMERA"
MISSION_NAME = "MARS EXPRESS"
MISSION_PHASE_NAME = ME_Phase_2
PROCESSING_LEVEL_ID = 3
PRODUCT_CREATION_TIME = 2016-04-08T01:44:18.000Z
PRODUCT_ID = "H2609_0000_S23.JP2"
RELEASE_ID = 0033
REVISION_ID = 0000
/* QUALITY DATA ELEMENTS */
DATA_QUALITY_ID = 2
DATA_QUALITY_DESC = "Data calculated based on photogrammetrically improved orbit and attitude data"
/* TIME DATA ELEMENTS */
SPACECRAFT_CLOCK_START_COUNT = "1/0086075377.07317"
SPACECRAFT_CLOCK_STOP_COUNT = "1/0086075947.55700"
START_TIME = 2006-01-23T05:53:59.909Z
STOP_TIME = 2006-01-23T05:59:11.646Z
/* ORBITAL DATA ELEMENTS */
ASCENDING_NODE_LONGITUDE = 173.53
MAXIMUM_RESOLUTION = 51.2
FOOTPRINT_POINT_LATITUDE = (-44.238,-44.2423,-44.2456,-44.248, -44.2495,-44.2502,-44.2499,-44.2488, -44.2469,-44.2439,-44.2401,-44.2353, -44.2351,-44.02,-43.806,-43.5926, -43.3814,-43.1705,-42.9606,-42.7582, -42.5456,-42.3376,-42.1328,-41.8281, -41.6254,-41.4238,-41.2234,-41.0244, -40.7262,-40.5295,-40.3347,-40.1406, -39.8496,-39.4726,-39.087,-38.7135, -38.1583,-37.7943,-37.4338,-37.1648, -36.8112,-36.4608,-36.1148,-35.7748, -35.4408,-35.1856,-34.8494,-34.8574, -34.8592,-34.8628,-34.8748,-34.8893, -34.9028,-34.9143,-34.9248,-34.9415, -34.9528,-34.9632,-34.9734,-34.9853, -35.003,-35.0173,-35.0285,-35.0383, -35.0495,-35.0664,-35.0738,-35.3379, -35.6527,-35.9867,-36.235,-36.5682, -36.9819,-37.2451,-37.59,-37.9392, -38.2925,-38.7414,-39.1957,-39.6539, -40.1226,-40.5014,-40.6939,-40.8847, -41.176,-41.3701,-41.5665,-41.7622, -42.0604,-42.2602,-42.4631,-42.6684, -42.9716,-43.1802,-43.3842,-43.593, -43.8017,-44.0116,-44.3281,-44.238)
FOOTPRINT_POINT_LONGITUDE = (85.8466,86.3082,86.7694,87.23,87.6905, 88.1509,88.6109,89.0706,89.5305,89.991, 90.4523,90.9145,91.4096,91.4285,91.4472 ,91.4655,91.4842,91.5023,91.5202,91.541 ,91.5564,91.5732,91.5909,91.6174, 91.6346,91.6516,91.6685,91.6856,91.7101 ,91.7267,91.7436,91.7602,91.7842, 91.8192,91.8481,91.8803,91.9272,91.9586 ,91.9896,92.0121,92.0429,92.0731, 92.1035,92.1347,92.1669,92.1877,92.2157 ,91.9403,91.6498,91.3608,91.0756, 90.7194,90.3635,90.0792,89.7949,89.3689 ,89.085,88.8009,88.5167,88.2322,87.7339 ,87.3064,86.95,86.4515,86.0943,85.593, 85.3066,84.9989,85.0277,85.0507,85.0693 ,85.0941,85.1274,85.1426,85.1659, 85.1884,85.2104,85.2364,85.2617,85.2869 ,85.3095,85.3271,85.3349,85.3437, 85.3552,85.3632,85.3705,85.3783,85.3884 ,85.3951,85.4006,85.4053,85.4149, 85.4187,85.4248,85.4289,85.4333,85.4374 ,85.4432,85.8466)
ORBIT_NUMBER = 2609
ORBITAL_ECCENTRICITY = 0.571
ORBITAL_INCLINATION = 86.62
ORBITAL_SEMIMAJOR_AXIS = 8530.33
PERIAPSIS_ALTITUDE = 279.24
PERIAPSIS_ARGUMENT_ANGLE = 259.91
PERIAPSIS_TIME = 2006-01-23T05:35:48.000Z
SPACECRAFT_ORIENTATION = (0.0,-1.0,0.0)
^MEX_ORIENTATION_DESC = "MEX_ORIENTATION_DESC.TXT"
SPACECRAFT_POINTING_MODE = NADIR
^MEX_POINTING_DESC = "MEX_POINTING_DESC.TXT"
RIGHT_ASCENSION = -1e+32
DECLINATION = -1e+32
OFFSET_ANGLE = -1e+32
SPACECRAFT_SOLAR_DISTANCE = 2.33288e+08
TARGET_NAME = MARS
/* CAMERA DATA ELEMENTS */
DETECTOR_TEMPERATURE = 18.5744
FOCAL_PLANE_TEMPERATURE = 8.7872
INST_CMPRS_NAME = "DISCRETE COSINE TRANSFORMATION (DCT)"
INST_CMPRS_RATIO = 8.2047
INST_CMPRS_QUALITY = 0
INST_CMPRS_QUANTZ_TBL_ID = 0
INSTRUMENT_TEMPERATURE = 11.234
LENS_TEMPERATURE = 9.195
MACROPIXEL_SIZE = 1
MISSING_FRAMES = 0
PIXEL_SUBSAMPLING_FLAG = N
SIGNAL_CHAIN_ID = 1
/* RADIOMETRIC DATA ELEMENTS */
BANDWIDTH = 178.0
CENTER_FILTER_WAVELENGTH = 679.0
RADIANCE_OFFSET = 3.84828
RADIANCE_SCALING_FACTOR = 0.0105477
REFLECTANCE_SCALING_FACTOR = 0.000304004
MEX:REFLECTANCE_OFFSET = 0.110915
/* IMAGE OBJECT DEFINITIONS */
OBJECT = IMAGE
  INTERCHANGE_FORMAT = BINARY
  LINES = 11198
  LINE_SAMPLES = 5274
  SAMPLE_TYPE = UNSIGNED_INTEGER
  SAMPLE_BITS = 8
  BANDS = 1
  BAND_STORAGE_TYPE = BAND_SEQUENTIAL
  MAXIMUM = 237
  MEAN = 102.008
  MINIMUM = 1
  STANDARD_DEVIATION = 31.1768
END_OBJECT = IMAGE
/* MAP OBJECT DEFINITIONS */
OBJECT = IMAGE_MAP_PROJECTION
  ^DATA_SET_MAP_PROJECTION_CATALOG= "DSMAP.CAT"
  A_AXIS_RADIUS = 3396.0
  B_AXIS_RADIUS = 3396.0
  C_AXIS_RADIUS = 3396.0
  CENTER_LATITUDE = 0.0
  CENTER_LONGITUDE = 88.0
  COORDINATE_SYSTEM_NAME = PLANETOGRAPHIC
  COORDINATE_SYSTEM_TYPE = "BODY-FIXED ROTATING"
  EASTERNMOST_LONGITUDE = 92.2157
  FIRST_STANDARD_PARALLEL = "N/A"
  LINE_FIRST_PIXEL = 1
  LINE_LAST_PIXEL = 11198
  LINE_PROJECTION_OFFSET = -41351.0
  MAP_PROJECTION_ROTATION = 0.0
  MAP_PROJECTION_TYPE = SINUSOIDAL
  MAP_RESOLUTION = 1185.42760773333
  MAP_SCALE = 0.05
  MAXIMUM_LATITUDE = -34.8494
  MINIMUM_LATITUDE = -44.3281
  POSITIVE_LONGITUDE_DIRECTION = EAST
  REFERENCE_LATITUDE = "N/A"
  REFERENCE_LONGITUDE = "N/A"
  SAMPLE_FIRST_PIXEL = 1
  SAMPLE_LAST_PIXEL = 5274
  SAMPLE_PROJECTION_OFFSET = 2255.0
  SECOND_STANDARD_PARALLEL = "N/A"
  WESTERNMOST_LONGITUDE = 84.99890000000001
END_OBJECT = IMAGE_MAP_PROJECTION
/* The JPEG2000 image data file associated with this label. */
OBJECT = COMPRESSED_FILE
  FILE_NAME = "H2609_0000_S23.JP2"
  RECORD_TYPE = UNDEFINED
  FILE_RECORDS = UNK
  ENCODING_TYPE = "JP2"
  INTERCHANGE_FORMAT = BINARY
  UNCOMPRESSED_FILE_NAME = "H2609_0000_S23.IMG"
  REQUIRED_STORAGE_BYTES = "59084622"
  ^DESCRIPTION = "JP2INFO.TXT"
END_OBJECT = COMPRESSED_FILE
END
