PDS_VERSION_ID = PDS3
/* FILE DATA ELEMENTS */
RECORD_TYPE = STREAM
/* POINTERS TO DATA OBJECTS */
^COMPRESSED_FILE = "H2613_0000_BL3.JP2"
/* IDENTIFICATION DATA ELEMENTS */
DATA_SET_ID = "MEX-M-HRSC-5-REFDR-MAPPROJECTED-V3.0"
DATA_SET_NAME = "MARS EXPRESS HRSC MAP PROJECTED REFDR V3.0"
DETECTOR_ID = MEX_HRSC_BLUE
EVENT_TYPE = "MARS-REGIONAL-MAPPING-Fl-Gl-Mw"
INSTRUMENT_HOST_ID = MEX
INSTRUMENT_HOST_NAME = "MARS EXPRESS"
INSTRUMENT_ID = HRSC
INSTRUMENT_NAME = "HIGH RESOLUTION STEREO CAMERA"
MISSION_NAME = "MARS EXPRESS"
MISSION_PHASE_NAME = ME_Phase_2
PROCESSING_LEVEL_ID = 3
PRODUCT_CREATION_TIME = 2016-04-08T01:44:18.000Z
PRODUCT_ID = "H2613_0000_BL3.JP2"
RELEASE_ID = 0033
REVISION_ID = 0000
/* QUALITY DATA ELEMENTS */
DATA_QUALITY_ID = 2
DATA_QUALITY_DESC = "Data calculated based on photogrammetrically improved orbit and attitude data"
/* TIME DATA ELEMENTS */
SPACECRAFT_CLOCK_START_COUNT = "1/0086171968.08254"
SPACECRAFT_CLOCK_STOP_COUNT = "1/0086172976.02157"
START_TIME = 2006-01-24T08:40:59.212Z
STOP_TIME = 2006-01-24T08:50:52.845Z
/* ORBITAL DATA ELEMENTS */
ASCENDING_NODE_LONGITUDE = 173.44
MAXIMUM_RESOLUTION = 119.9
FOOTPRINT_POINT_LATITUDE = (-54.7551,-54.804,-54.846,-54.8667, -54.2109,-53.2898,-52.3475,-51.8691, -51.3843,-50.895,-50.3998,-49.8988, -49.3926,-48.8806,-48.3628,-47.8385, -47.3085,-46.7713,-46.2277,-45.678, -45.1217,-44.5588,-43.702,-43.1307, -42.5641,-42.0018,-41.4442,-40.8907, -40.3413,-39.7971,-39.2569,-38.7213, -38.1901,-37.6632,-37.141,-36.6223, -36.1075,-35.5975,-35.0915,-34.5891, -34.0911,-33.5969,-33.1064,-32.6203, -32.138,-31.6587,-31.1832,-30.7111, -29.7789,-29.2984,-29.3315,-29.3555, -29.3792,-29.414,-29.4292,-29.448, -30.3493,-31.2698,-32.2059,-32.6798, -33.3992,-33.8816,-34.3699,-34.862, -35.3577,-35.8578,-36.362,-36.8705, -37.3831,-37.9003,-38.4216,-38.9479, -39.4783,-40.0133,-40.5518,-41.0962, -41.6445,-42.1972,-42.7555,-43.3189, -43.8861,-44.7303,-45.2848,-45.8329, -46.3743,-46.9098,-47.4388,-47.9617, -48.479,-48.9901,-49.4954,-49.9956, -50.4899,-50.9791,-51.4626,-51.9409, -52.4146,-53.3463,-54.2582,-54.7551)
FOOTPRINT_POINT_LONGITUDE = (52.9075,54.1016,55.4623,56.4139, 56.8821,56.9812,57.0761,57.1222,57.1664 ,57.2102,57.253,57.2946,57.336,57.3763, 57.4177,57.4556,57.4934,57.5286,57.5638 ,57.5994,57.6332,57.6669,57.7158, 57.7469,57.777,57.8056,57.8333,57.8591, 57.8833,57.9083,57.9313,57.9541,57.9762 ,57.9974,58.0189,58.038,58.0558,58.0744 ,58.092,58.1081,58.1243,58.1394,58.1533 ,58.1678,58.1816,58.1929,58.2039, 58.2135,58.233,57.8402,57.0311,56.3986, 55.593,54.3275,53.5209,52.0575,52.1336, 52.1997,52.2627,52.2932,52.3354,52.3667 ,52.3936,52.4203,52.4469,52.4721, 52.4967,52.52,52.5424,52.5632,52.5833, 52.6008,52.6176,52.6326,52.6484,52.6595 ,52.6705,52.6803,52.6857,52.6883, 52.6908,52.691,52.6887,52.6844,52.679, 52.6704,52.6604,52.6484,52.635,52.6192, 52.6025,52.5826,52.5614,52.5383,52.5131 ,52.4863,52.4572,52.3917,52.3219, 52.9075)
ORBIT_NUMBER = 2613
ORBITAL_ECCENTRICITY = 0.571
ORBITAL_INCLINATION = 86.61
ORBITAL_SEMIMAJOR_AXIS = 8531.48
PERIAPSIS_ALTITUDE = 279.71
PERIAPSIS_ARGUMENT_ANGLE = 259.23
PERIAPSIS_TIME = 2006-01-24T08:28:25.000Z
SPACECRAFT_ORIENTATION = (0.0,-1.0,0.0)
^MEX_ORIENTATION_DESC = "MEX_ORIENTATION_DESC.TXT"
SPACECRAFT_POINTING_MODE = NADIR
^MEX_POINTING_DESC = "MEX_POINTING_DESC.TXT"
RIGHT_ASCENSION = -1e+32
DECLINATION = -1e+32
OFFSET_ANGLE = -1e+32
SPACECRAFT_SOLAR_DISTANCE = 2.33494e+08
TARGET_NAME = MARS
/* CAMERA DATA ELEMENTS */
DETECTOR_TEMPERATURE = 18.3705
FOCAL_PLANE_TEMPERATURE = 8.5833
INST_CMPRS_NAME = "DISCRETE COSINE TRANSFORMATION (DCT)"
INST_CMPRS_RATIO = 18.2335
INST_CMPRS_QUALITY = 0
INST_CMPRS_QUANTZ_TBL_ID = 0
INSTRUMENT_TEMPERATURE = 11.234
LENS_TEMPERATURE = 8.9911
MACROPIXEL_SIZE = 4
MISSING_FRAMES = 0
PIXEL_SUBSAMPLING_FLAG = N
SIGNAL_CHAIN_ID = 2
/* RADIOMETRIC DATA ELEMENTS */
BANDWIDTH = 76.0
CENTER_FILTER_WAVELENGTH = 444.0
RADIANCE_OFFSET = 0.479858
RADIANCE_SCALING_FACTOR = 0.00179722
REFLECTANCE_SCALING_FACTOR = 0.000100673
MEX:REFLECTANCE_OFFSET = 0.0268797
/* IMAGE OBJECT DEFINITIONS */
OBJECT = IMAGE
  INTERCHANGE_FORMAT = BINARY
  LINES = 15182
  LINE_SAMPLES = 3118
  SAMPLE_TYPE = UNSIGNED_INTEGER
  SAMPLE_BITS = 8
  BANDS = 1
  BAND_STORAGE_TYPE = BAND_SEQUENTIAL
  MAXIMUM = 255
  MEAN = 167.711
  MINIMUM = 1
  STANDARD_DEVIATION = 49.5014
END_OBJECT = IMAGE
/* MAP OBJECT DEFINITIONS */
OBJECT = IMAGE_MAP_PROJECTION
  ^DATA_SET_MAP_PROJECTION_CATALOG= "DSMAP.CAT"
  A_AXIS_RADIUS = 3396.0
  B_AXIS_RADIUS = 3396.0
  C_AXIS_RADIUS = 3396.0
  CENTER_LATITUDE = 0.0
  CENTER_LONGITUDE = 55.0
  COORDINATE_SYSTEM_NAME = PLANETOGRAPHIC
  COORDINATE_SYSTEM_TYPE = "BODY-FIXED ROTATING"
  EASTERNMOST_LONGITUDE = 58.233
  FIRST_STANDARD_PARALLEL = "N/A"
  LINE_FIRST_PIXEL = 1
  LINE_LAST_PIXEL = 15182
  LINE_PROJECTION_OFFSET = -17361.125
  MAP_PROJECTION_ROTATION = 0.0
  MAP_PROJECTION_TYPE = SINUSOIDAL
  MAP_RESOLUTION = 592.713803866667
  MAP_SCALE = 0.1
  MAXIMUM_LATITUDE = -29.2984
  MINIMUM_LATITUDE = -54.8667
  POSITIVE_LONGITUDE_DIRECTION = EAST
  REFERENCE_LATITUDE = "N/A"
  REFERENCE_LONGITUDE = "N/A"
  SAMPLE_FIRST_PIXEL = 1
  SAMPLE_LAST_PIXEL = 3118
  SAMPLE_PROJECTION_OFFSET = 1473.875
  SECOND_STANDARD_PARALLEL = "N/A"
  WESTERNMOST_LONGITUDE = 52.0575
END_OBJECT = IMAGE_MAP_PROJECTION
/* The JPEG2000 image data file associated with this label. */
OBJECT = COMPRESSED_FILE
  FILE_NAME = "H2613_0000_BL3.JP2"
  RECORD_TYPE = UNDEFINED
  FILE_RECORDS = UNK
  ENCODING_TYPE = "JP2"
  INTERCHANGE_FORMAT = BINARY
  UNCOMPRESSED_FILE_NAME = "H2613_0000_BL3.IMG"
  REQUIRED_STORAGE_BYTES = "47362420"
  ^DESCRIPTION = "JP2INFO.TXT"
END_OBJECT = COMPRESSED_FILE
END
