PDS_VERSION_ID = PDS3
/* FILE DATA ELEMENTS */
RECORD_TYPE = STREAM
/* POINTERS TO DATA OBJECTS */
^COMPRESSED_FILE = "H2613_0000_GR3.JP2"
/* IDENTIFICATION DATA ELEMENTS */
DATA_SET_ID = "MEX-M-HRSC-5-REFDR-MAPPROJECTED-V3.0"
DATA_SET_NAME = "MARS EXPRESS HRSC MAP PROJECTED REFDR V3.0"
DETECTOR_ID = MEX_HRSC_GREEN
EVENT_TYPE = "MARS-REGIONAL-MAPPING-Fl-Gl-Mw"
INSTRUMENT_HOST_ID = MEX
INSTRUMENT_HOST_NAME = "MARS EXPRESS"
INSTRUMENT_ID = HRSC
INSTRUMENT_NAME = "HIGH RESOLUTION STEREO CAMERA"
MISSION_NAME = "MARS EXPRESS"
MISSION_PHASE_NAME = ME_Phase_2
PROCESSING_LEVEL_ID = 3
PRODUCT_CREATION_TIME = 2016-04-08T01:44:18.000Z
PRODUCT_ID = "H2613_0000_GR3.JP2"
RELEASE_ID = 0033
REVISION_ID = 0000
/* QUALITY DATA ELEMENTS */
DATA_QUALITY_ID = 2
DATA_QUALITY_DESC = "Data calculated based on photogrammetrically improved orbit and attitude data"
/* TIME DATA ELEMENTS */
SPACECRAFT_CLOCK_START_COUNT = "1/0086171968.08254"
SPACECRAFT_CLOCK_STOP_COUNT = "1/0086172976.02157"
START_TIME = 2006-01-24T08:40:31.752Z
STOP_TIME = 2006-01-24T08:49:35.089Z
/* ORBITAL DATA ELEMENTS */
ASCENDING_NODE_LONGITUDE = 173.44
MAXIMUM_RESOLUTION = 114.8
FOOTPRINT_POINT_LATITUDE = (-54.7909,-54.8416,-54.8791,-54.4626, -53.5909,-52.7007,-51.7926,-50.8648, -49.9169,-49.435,-48.9475,-48.4549, -47.9562,-47.453,-46.9273,-46.4124, -45.891,-45.3636,-44.8299,-44.2897, -43.743,-43.1901,-42.63,-42.0636, -41.4919,-40.923,-40.3584,-39.7972, -39.2399,-38.6858,-38.1358,-37.5894, -37.0465,-36.5082,-35.9735,-35.4416, -34.9138,-34.3898,-33.8693,-33.3526, -32.8393,-32.3294,-31.8235,-31.3221, -30.824,-30.3298,-29.8375,-29.35, -29.3252,-29.3536,-29.3768,-29.3902, -29.397,-29.3982,-29.3982,-29.8783, -30.3636,-30.8497,-31.3395,-31.8336, -32.3316,-32.8322,-33.3366,-33.8466, -34.3583,-34.8742,-35.3946,-35.9186, -36.4466,-36.9783,-37.5141,-38.0536, -38.5969,-39.144,-39.6956,-40.2505, -40.8103,-41.3722,-41.9398,-42.5013, -43.0562,-43.6053,-44.1475,-44.6838, -45.214,-45.7382,-46.2565,-46.7686, -47.2911,-47.7917,-48.2871,-48.7771, -49.2619,-49.7416,-50.6844,-51.6082, -52.5115,-53.3969,-54.2643,-54.7909)
FOOTPRINT_POINT_LONGITUDE = (53.0927,54.2772,55.4233,56.7619, 56.8544,56.9435,57.0283,57.1084,57.1853 ,57.2231,57.2598,57.2966,57.3317, 57.3652,57.3991,57.4303,57.4612,57.4916 ,57.522,57.5514,57.5793,57.6068,57.634, 57.6601,57.6856,57.7096,57.7313,57.7532 ,57.7738,57.7949,57.8141,57.833,57.8512 ,57.8668,57.8815,57.8977,57.912,57.9253 ,57.9379,57.9495,57.9607,57.9715, 57.9809,57.9876,57.9939,57.9987,58.0063 ,58.0104,57.2125,56.3066,55.4021, 54.3908,53.645,52.8976,52.2914,52.326, 52.3634,52.3939,52.4237,52.4543,52.4845 ,52.5115,52.5376,52.5672,52.5908, 52.6146,52.6391,52.6618,52.6837,52.7041 ,52.7236,52.7416,52.758,52.7725,52.7871 ,52.7984,52.8102,52.816,52.8256,52.8293 ,52.8301,52.8312,52.8293,52.8264, 52.8221,52.8158,52.8087,52.7984,52.787, 52.774,52.7592,52.7432,52.7258,52.7064, 52.6621,52.6116,52.554,52.4897,52.4187, 53.0927)
ORBIT_NUMBER = 2613
ORBITAL_ECCENTRICITY = 0.571
ORBITAL_INCLINATION = 86.61
ORBITAL_SEMIMAJOR_AXIS = 8531.48
PERIAPSIS_ALTITUDE = 279.71
PERIAPSIS_ARGUMENT_ANGLE = 259.23
PERIAPSIS_TIME = 2006-01-24T08:28:25.000Z
SPACECRAFT_ORIENTATION = (0.0,-1.0,0.0)
^MEX_ORIENTATION_DESC = "MEX_ORIENTATION_DESC.TXT"
SPACECRAFT_POINTING_MODE = NADIR
^MEX_POINTING_DESC = "MEX_POINTING_DESC.TXT"
RIGHT_ASCENSION = -1e+32
DECLINATION = -1e+32
OFFSET_ANGLE = -1e+32
SPACECRAFT_SOLAR_DISTANCE = 2.33494e+08
TARGET_NAME = MARS
/* CAMERA DATA ELEMENTS */
DETECTOR_TEMPERATURE = 18.3705
FOCAL_PLANE_TEMPERATURE = 8.5833
INST_CMPRS_NAME = "DISCRETE COSINE TRANSFORMATION (DCT)"
INST_CMPRS_RATIO = 17.1934
INST_CMPRS_QUALITY = 0
INST_CMPRS_QUANTZ_TBL_ID = 0
INSTRUMENT_TEMPERATURE = 11.234
LENS_TEMPERATURE = 8.9911
MACROPIXEL_SIZE = 4
MISSING_FRAMES = 1
PIXEL_SUBSAMPLING_FLAG = N
SIGNAL_CHAIN_ID = 2
/* RADIOMETRIC DATA ELEMENTS */
BANDWIDTH = 88.0
CENTER_FILTER_WAVELENGTH = 538.0
RADIANCE_OFFSET = 0.998995
RADIANCE_SCALING_FACTOR = 0.00494367
REFLECTANCE_SCALING_FACTOR = 0.000232058
MEX:REFLECTANCE_OFFSET = 0.0468932
/* IMAGE OBJECT DEFINITIONS */
OBJECT = IMAGE
  INTERCHANGE_FORMAT = BINARY
  LINES = 15182
  LINE_SAMPLES = 3118
  SAMPLE_TYPE = UNSIGNED_INTEGER
  SAMPLE_BITS = 8
  BANDS = 1
  BAND_STORAGE_TYPE = BAND_SEQUENTIAL
  MAXIMUM = 255
  MEAN = 151.968
  MINIMUM = 1
  STANDARD_DEVIATION = 50.4899
END_OBJECT = IMAGE
/* MAP OBJECT DEFINITIONS */
OBJECT = IMAGE_MAP_PROJECTION
  ^DATA_SET_MAP_PROJECTION_CATALOG= "DSMAP.CAT"
  A_AXIS_RADIUS = 3396.0
  B_AXIS_RADIUS = 3396.0
  C_AXIS_RADIUS = 3396.0
  CENTER_LATITUDE = 0.0
  CENTER_LONGITUDE = 55.0
  COORDINATE_SYSTEM_NAME = PLANETOGRAPHIC
  COORDINATE_SYSTEM_TYPE = "BODY-FIXED ROTATING"
  EASTERNMOST_LONGITUDE = 58.0104
  FIRST_STANDARD_PARALLEL = "N/A"
  LINE_FIRST_PIXEL = 1
  LINE_LAST_PIXEL = 15182
  LINE_PROJECTION_OFFSET = -17361.125
  MAP_PROJECTION_ROTATION = 0.0
  MAP_PROJECTION_TYPE = SINUSOIDAL
  MAP_RESOLUTION = 592.713803866667
  MAP_SCALE = 0.1
  MAXIMUM_LATITUDE = -29.3252
  MINIMUM_LATITUDE = -54.8791
  POSITIVE_LONGITUDE_DIRECTION = EAST
  REFERENCE_LATITUDE = "N/A"
  REFERENCE_LONGITUDE = "N/A"
  SAMPLE_FIRST_PIXEL = 1
  SAMPLE_LAST_PIXEL = 3118
  SAMPLE_PROJECTION_OFFSET = 1473.875
  SECOND_STANDARD_PARALLEL = "N/A"
  WESTERNMOST_LONGITUDE = 52.2914
END_OBJECT = IMAGE_MAP_PROJECTION
/* The JPEG2000 image data file associated with this label. */
OBJECT = COMPRESSED_FILE
  FILE_NAME = "H2613_0000_GR3.JP2"
  RECORD_TYPE = UNDEFINED
  FILE_RECORDS = UNK
  ENCODING_TYPE = "JP2"
  INTERCHANGE_FORMAT = BINARY
  UNCOMPRESSED_FILE_NAME = "H2613_0000_GR3.IMG"
  REQUIRED_STORAGE_BYTES = "47362420"
  ^DESCRIPTION = "JP2INFO.TXT"
END_OBJECT = COMPRESSED_FILE
END
