PDS_VERSION_ID = PDS3
/* FILE DATA ELEMENTS */
RECORD_TYPE = STREAM
/* POINTERS TO DATA OBJECTS */
^COMPRESSED_FILE = "H2613_0000_IR3.JP2"
/* IDENTIFICATION DATA ELEMENTS */
DATA_SET_ID = "MEX-M-HRSC-5-REFDR-MAPPROJECTED-V3.0"
DATA_SET_NAME = "MARS EXPRESS HRSC MAP PROJECTED REFDR V3.0"
DETECTOR_ID = MEX_HRSC_IR
EVENT_TYPE = "MARS-REGIONAL-MAPPING-Fl-Gl-Mw"
INSTRUMENT_HOST_ID = MEX
INSTRUMENT_HOST_NAME = "MARS EXPRESS"
INSTRUMENT_ID = HRSC
INSTRUMENT_NAME = "HIGH RESOLUTION STEREO CAMERA"
MISSION_NAME = "MARS EXPRESS"
MISSION_PHASE_NAME = ME_Phase_2
PROCESSING_LEVEL_ID = 3
PRODUCT_CREATION_TIME = 2016-04-08T01:44:18.000Z
PRODUCT_ID = "H2613_0000_IR3.JP2"
RELEASE_ID = 0033
REVISION_ID = 0000
/* QUALITY DATA ELEMENTS */
DATA_QUALITY_ID = 2
DATA_QUALITY_DESC = "Data calculated based on photogrammetrically improved orbit and attitude data"
/* TIME DATA ELEMENTS */
SPACECRAFT_CLOCK_START_COUNT = "1/0086171968.08254"
SPACECRAFT_CLOCK_STOP_COUNT = "1/0086172976.02157"
START_TIME = 2006-01-24T08:39:45.011Z
STOP_TIME = 2006-01-24T08:47:36.780Z
/* ORBITAL DATA ELEMENTS */
ASCENDING_NODE_LONGITUDE = 173.44
MAXIMUM_RESOLUTION = 111.7
FOOTPRINT_POINT_LATITUDE = (-54.8995,-54.9424,-54.8826,-54.067, -53.2372,-52.3905,-51.9609,-51.5268, -51.09,-50.648,-50.2,-49.7482,-49.2915, -48.8297,-48.3619,-47.8906,-47.1721, -46.6922,-46.2043,-45.7088,-45.2097, -44.7028,-44.19,-43.673,-43.1494, -42.6195,-42.0832,-41.5405,-40.9913, -40.438,-39.8766,-39.3069,-38.7281, -38.1456,-37.5503,-36.9605,-36.3765, -35.5014,-34.6332,-34.06,-33.204, -32.6377,-32.0736,-31.5204,-30.9692, -30.1503,-29.5999,-29.3303,-29.3362, -29.3571,-29.3739,-29.3633,-29.3606, -29.3452,-30.1545,-30.7014,-31.5191, -32.071,-32.9007,-33.4591,-34.0201, -34.5881,-35.1595,-35.7337,-36.3112, -36.8931,-37.477,-38.0631,-38.6417, -39.2153,-39.7827,-40.3426,-40.8933, -41.4369,-42.2476,-42.7752,-43.2979, -43.8137,-44.3239,-44.8296,-45.3308, -45.8266,-46.3169,-46.8021,-47.2819, -47.7554,-48.2252,-48.689,-49.1493, -49.605,-50.0549,-50.5006,-50.9414, -51.3775,-51.8097,-52.2365,-53.0804, -53.9037,-54.7123,-54.8995)
FOOTPRINT_POINT_LONGITUDE = (54.4605,55.7564,56.6011,56.6887, 56.7716,56.8509,56.8894,56.927,56.9628, 56.9981,57.0334,57.0674,57.1009,57.1337 ,57.1662,57.1972,57.2431,57.2699, 57.2973,57.3248,57.3508,57.3773,57.4028 ,57.4268,57.4503,57.4733,57.4957, 57.5172,57.5379,57.5568,57.5755,57.5942 ,57.613,57.6296,57.6482,57.6638,57.6771 ,57.6974,57.7157,57.7259,57.7406, 57.7491,57.7571,57.7612,57.7651,57.7687 ,57.7735,57.2041,56.6343,56.0144, 55.1118,54.3503,53.7323,52.9694,52.7155 ,52.7464,52.7874,52.8145,52.8512, 52.8747,52.8967,52.919,52.94,52.9596, 52.9777,52.9949,53.0101,53.024,53.0356, 53.0461,53.0553,53.0624,53.0667,53.069, 53.0728,53.071,53.0684,53.0636,53.0574, 53.0504,53.042,53.0325,53.0217,53.0092, 52.9952,52.9795,52.963,52.9445,52.9252, 52.9048,52.8823,52.8586,52.8334,52.8068 ,52.779,52.7494,52.6871,52.6177,52.5431 ,54.4605)
ORBIT_NUMBER = 2613
ORBITAL_ECCENTRICITY = 0.571
ORBITAL_INCLINATION = 86.61
ORBITAL_SEMIMAJOR_AXIS = 8531.48
PERIAPSIS_ALTITUDE = 279.71
PERIAPSIS_ARGUMENT_ANGLE = 259.23
PERIAPSIS_TIME = 2006-01-24T08:28:25.000Z
SPACECRAFT_ORIENTATION = (0.0,-1.0,0.0)
^MEX_ORIENTATION_DESC = "MEX_ORIENTATION_DESC.TXT"
SPACECRAFT_POINTING_MODE = NADIR
^MEX_POINTING_DESC = "MEX_POINTING_DESC.TXT"
RIGHT_ASCENSION = -1e+32
DECLINATION = -1e+32
OFFSET_ANGLE = -1e+32
SPACECRAFT_SOLAR_DISTANCE = 2.33494e+08
TARGET_NAME = MARS
/* CAMERA DATA ELEMENTS */
DETECTOR_TEMPERATURE = 17.5549
FOCAL_PLANE_TEMPERATURE = 8.5833
INST_CMPRS_NAME = "DISCRETE COSINE TRANSFORMATION (DCT)"
INST_CMPRS_RATIO = 20.4721
INST_CMPRS_QUALITY = 0
INST_CMPRS_QUANTZ_TBL_ID = 0
INSTRUMENT_TEMPERATURE = 11.234
LENS_TEMPERATURE = 8.9911
MACROPIXEL_SIZE = 4
MISSING_FRAMES = 0
PIXEL_SUBSAMPLING_FLAG = N
SIGNAL_CHAIN_ID = 2
/* RADIOMETRIC DATA ELEMENTS */
BANDWIDTH = 81.0
CENTER_FILTER_WAVELENGTH = 955.5
RADIANCE_OFFSET = 0.599835
RADIANCE_SCALING_FACTOR = 0.00450524
REFLECTANCE_SCALING_FACTOR = 0.000529908
MEX:REFLECTANCE_OFFSET = 0.0705528
/* IMAGE OBJECT DEFINITIONS */
OBJECT = IMAGE
  INTERCHANGE_FORMAT = BINARY
  LINES = 15182
  LINE_SAMPLES = 3118
  SAMPLE_TYPE = UNSIGNED_INTEGER
  SAMPLE_BITS = 8
  BANDS = 1
  BAND_STORAGE_TYPE = BAND_SEQUENTIAL
  MAXIMUM = 255
  MEAN = 132.016
  MINIMUM = 1
  STANDARD_DEVIATION = 53.2138
END_OBJECT = IMAGE
/* MAP OBJECT DEFINITIONS */
OBJECT = IMAGE_MAP_PROJECTION
  ^DATA_SET_MAP_PROJECTION_CATALOG= "DSMAP.CAT"
  A_AXIS_RADIUS = 3396.0
  B_AXIS_RADIUS = 3396.0
  C_AXIS_RADIUS = 3396.0
  CENTER_LATITUDE = 0.0
  CENTER_LONGITUDE = 55.0
  COORDINATE_SYSTEM_NAME = PLANETOGRAPHIC
  COORDINATE_SYSTEM_TYPE = "BODY-FIXED ROTATING"
  EASTERNMOST_LONGITUDE = 57.7735
  FIRST_STANDARD_PARALLEL = "N/A"
  LINE_FIRST_PIXEL = 1
  LINE_LAST_PIXEL = 15182
  LINE_PROJECTION_OFFSET = -17361.125
  MAP_PROJECTION_ROTATION = 0.0
  MAP_PROJECTION_TYPE = SINUSOIDAL
  MAP_RESOLUTION = 592.713803866667
  MAP_SCALE = 0.1
  MAXIMUM_LATITUDE = -29.3303
  MINIMUM_LATITUDE = -54.9424
  POSITIVE_LONGITUDE_DIRECTION = EAST
  REFERENCE_LATITUDE = "N/A"
  REFERENCE_LONGITUDE = "N/A"
  SAMPLE_FIRST_PIXEL = 1
  SAMPLE_LAST_PIXEL = 3118
  SAMPLE_PROJECTION_OFFSET = 1473.875
  SECOND_STANDARD_PARALLEL = "N/A"
  WESTERNMOST_LONGITUDE = 52.5431
END_OBJECT = IMAGE_MAP_PROJECTION
/* The JPEG2000 image data file associated with this label. */
OBJECT = COMPRESSED_FILE
  FILE_NAME = "H2613_0000_IR3.JP2"
  RECORD_TYPE = UNDEFINED
  FILE_RECORDS = UNK
  ENCODING_TYPE = "JP2"
  INTERCHANGE_FORMAT = BINARY
  UNCOMPRESSED_FILE_NAME = "H2613_0000_IR3.IMG"
  REQUIRED_STORAGE_BYTES = "47362420"
  ^DESCRIPTION = "JP2INFO.TXT"
END_OBJECT = COMPRESSED_FILE
END
