PDS_VERSION_ID = PDS3
/* FILE DATA ELEMENTS */
RECORD_TYPE = STREAM
/* POINTERS TO DATA OBJECTS */
^COMPRESSED_FILE = "H2614_0000_IR3.JP2"
/* IDENTIFICATION DATA ELEMENTS */
DATA_SET_ID = "MEX-M-HRSC-5-REFDR-MAPPROJECTED-V3.0"
DATA_SET_NAME = "MARS EXPRESS HRSC MAP PROJECTED REFDR V3.0"
DETECTOR_ID = MEX_HRSC_IR
EVENT_TYPE = "MARS-REGIONAL-MAPPING-Im-Fl-Gl"
INSTRUMENT_HOST_ID = MEX
INSTRUMENT_HOST_NAME = "MARS EXPRESS"
INSTRUMENT_ID = HRSC
INSTRUMENT_NAME = "HIGH RESOLUTION STEREO CAMERA"
MISSION_NAME = "MARS EXPRESS"
MISSION_PHASE_NAME = ME_Phase_2
PROCESSING_LEVEL_ID = 3
PRODUCT_CREATION_TIME = 2016-04-08T01:44:18.000Z
PRODUCT_ID = "H2614_0000_IR3.JP2"
RELEASE_ID = 0033
REVISION_ID = 0000
/* QUALITY DATA ELEMENTS */
DATA_QUALITY_ID = 1
DATA_QUALITY_DESC = "Data calculated based on original SPICE kernels"
/* TIME DATA ELEMENTS */
SPACECRAFT_CLOCK_START_COUNT = "1/0086195905.07276"
SPACECRAFT_CLOCK_STOP_COUNT = "1/0086196408.12055"
START_TIME = 2006-01-24T15:18:37.521Z
STOP_TIME = 2006-01-24T15:23:51.536Z
/* ORBITAL DATA ELEMENTS */
ASCENDING_NODE_LONGITUDE = 173.43
MAXIMUM_RESOLUTION = 72.5
FOOTPRINT_POINT_LATITUDE = (-71.1209,-71.1821,-71.2649,-71.2473, -70.9396,-70.6288,-70.3189,-70.0028, -69.5303,-69.045,-68.7209,-68.3924, -68.0614,-67.7246,-67.3835,-66.8728, -66.5295,-66.1831,-65.8364,-65.4861, -65.1375,-64.5957,-64.049,-63.6818, -63.3095,-62.9337,-62.5528,-61.975, -61.3876,-60.7942,-60.3967,-59.9907, -59.5832,-58.9636,-58.334,-57.9086, -57.2715,-56.6132,-56.146,-55.6972, -55.2442,-54.7857,-54.3217,-53.8525, -53.3785,-52.6544,-52.1691,-51.8331, -51.8223,-51.8051,-51.7683,-51.7369, -51.9444,-52.4322,-52.9122,-53.3871, -53.8569,-54.3214,-54.7785,-55.2371, -55.6877,-56.1338,-56.5934,-57.2378, -57.67,-58.093,-58.5185,-58.9369, -59.5384,-59.9451,-60.3521,-60.7463, -61.1359,-61.528,-61.9165,-62.2988, -62.6778,-63.0491,-63.4207,-63.7871, -64.1514,-64.5122,-65.0473,-65.5645, -66.0847,-66.5972,-66.9411,-67.2842, -67.6188,-67.9469,-68.2751,-68.5985, -68.9184,-69.2378,-69.5513,-69.8664, -70.1774,-70.4851,-70.7927,-71.1209)
FOOTPRINT_POINT_LONGITUDE = (310.662,311.657,313.203,314.643, 314.779,314.911,315.038,315.164,315.34, 315.517,315.629,315.74,315.848,315.958, 316.065,316.215,316.311,316.405,316.493 ,316.58,316.659,316.789,316.913,316.991 ,317.069,317.146,317.221,317.332,317.44 ,317.542,317.606,317.671,317.734, 317.825,317.914,317.972,318.049,318.132 ,318.202,318.253,318.303,318.352,318.4, 318.447,318.493,318.561,318.602,318.169 ,317.629,316.974,315.935,315.243, 314.483,314.449,314.412,314.373,314.332 ,314.289,314.244,314.199,314.152, 314.103,314.06,313.975,313.921,313.862, 313.803,313.742,313.637,313.571,313.503 ,313.429,313.354,313.278,313.2,313.119, 313.034,312.948,312.858,312.767,312.673 ,312.576,312.426,312.264,312.099, 311.929,311.814,311.697,311.572,311.445 ,311.313,311.178,311.038,310.894, 310.748,310.596,310.441,310.281,310.115 ,310.662)
ORBIT_NUMBER = 2614
ORBITAL_ECCENTRICITY = 0.571
ORBITAL_INCLINATION = 86.62
ORBITAL_SEMIMAJOR_AXIS = 8532.4
PERIAPSIS_ALTITUDE = 280.22
PERIAPSIS_ARGUMENT_ANGLE = 259.06
PERIAPSIS_TIME = 2006-01-24T15:11:37.000Z
SPACECRAFT_ORIENTATION = (0.0,-1.0,0.0)
^MEX_ORIENTATION_DESC = "MEX_ORIENTATION_DESC.TXT"
SPACECRAFT_POINTING_MODE = NADIR
^MEX_POINTING_DESC = "MEX_POINTING_DESC.TXT"
RIGHT_ASCENSION = -1e+32
DECLINATION = -1e+32
OFFSET_ANGLE = -1e+32
SPACECRAFT_SOLAR_DISTANCE = 2.33545e+08
TARGET_NAME = MARS
/* CAMERA DATA ELEMENTS */
DETECTOR_TEMPERATURE = 17.351
FOCAL_PLANE_TEMPERATURE = 8.3794
INST_CMPRS_NAME = "DISCRETE COSINE TRANSFORMATION (DCT)"
INST_CMPRS_RATIO = 18.8156
INST_CMPRS_QUALITY = 0
INST_CMPRS_QUANTZ_TBL_ID = 0
INSTRUMENT_TEMPERATURE = 11.234
LENS_TEMPERATURE = 8.9911
MACROPIXEL_SIZE = 4
MISSING_FRAMES = 0
PIXEL_SUBSAMPLING_FLAG = N
SIGNAL_CHAIN_ID = 2
/* RADIOMETRIC DATA ELEMENTS */
BANDWIDTH = 81.0
CENTER_FILTER_WAVELENGTH = 955.5
RADIANCE_OFFSET = 0.241634
RADIANCE_SCALING_FACTOR = 0.00328495
REFLECTANCE_SCALING_FACTOR = 0.000386546
MEX:REFLECTANCE_OFFSET = 0.0284335
/* IMAGE OBJECT DEFINITIONS */
OBJECT = IMAGE
  INTERCHANGE_FORMAT = BINARY
  LINES = 23130
  LINE_SAMPLES = 4787
  SAMPLE_TYPE = UNSIGNED_INTEGER
  SAMPLE_BITS = 8
  BANDS = 1
  BAND_STORAGE_TYPE = BAND_SEQUENTIAL
  MAXIMUM = 255
  MEAN = 102.751
  MINIMUM = 1
  STANDARD_DEVIATION = 43.0309
END_OBJECT = IMAGE
/* MAP OBJECT DEFINITIONS */
OBJECT = IMAGE_MAP_PROJECTION
  ^DATA_SET_MAP_PROJECTION_CATALOG= "DSMAP.CAT"
  A_AXIS_RADIUS = 3396.0
  B_AXIS_RADIUS = 3396.0
  C_AXIS_RADIUS = 3396.0
  CENTER_LATITUDE = 0.0
  CENTER_LONGITUDE = 315.0
  COORDINATE_SYSTEM_NAME = PLANETOGRAPHIC
  COORDINATE_SYSTEM_TYPE = "BODY-FIXED ROTATING"
  EASTERNMOST_LONGITUDE = 318.602
  FIRST_STANDARD_PARALLEL = "N/A"
  LINE_FIRST_PIXEL = 1
  LINE_LAST_PIXEL = 23130
  LINE_PROJECTION_OFFSET = -61325.875
  MAP_PROJECTION_ROTATION = 0.0
  MAP_PROJECTION_TYPE = SINUSOIDAL
  MAP_RESOLUTION = 1185.42760773333
  MAP_SCALE = 0.05
  MAXIMUM_LATITUDE = -51.7369
  MINIMUM_LATITUDE = -71.2649
  POSITIVE_LONGITUDE_DIRECTION = EAST
  REFERENCE_LATITUDE = "N/A"
  REFERENCE_LONGITUDE = "N/A"
  SAMPLE_FIRST_PIXEL = 1
  SAMPLE_LAST_PIXEL = 4787
  SAMPLE_PROJECTION_OFFSET = 1986.875
  SECOND_STANDARD_PARALLEL = "N/A"
  WESTERNMOST_LONGITUDE = 310.115
END_OBJECT = IMAGE_MAP_PROJECTION
/* The JPEG2000 image data file associated with this label. */
OBJECT = COMPRESSED_FILE
  FILE_NAME = "H2614_0000_IR3.JP2"
  RECORD_TYPE = UNDEFINED
  FILE_RECORDS = UNK
  ENCODING_TYPE = "JP2"
  INTERCHANGE_FORMAT = BINARY
  UNCOMPRESSED_FILE_NAME = "H2614_0000_IR3.IMG"
  REQUIRED_STORAGE_BYTES = "110747245"
  ^DESCRIPTION = "JP2INFO.TXT"
END_OBJECT = COMPRESSED_FILE
END
