PDS_VERSION_ID = PDS3
/* FILE DATA ELEMENTS */
RECORD_TYPE = STREAM
/* POINTERS TO DATA OBJECTS */
^COMPRESSED_FILE = "H2616_0000_P23.JP2"
/* IDENTIFICATION DATA ELEMENTS */
DATA_SET_ID = "MEX-M-HRSC-5-REFDR-MAPPROJECTED-V3.0"
DATA_SET_NAME = "MARS EXPRESS HRSC MAP PROJECTED REFDR V3.0"
DETECTOR_ID = MEX_HRSC_P2
EVENT_TYPE = "MARS-REGIONAL-MAPPING-Te-Im-Eo"
INSTRUMENT_HOST_ID = MEX
INSTRUMENT_HOST_NAME = "MARS EXPRESS"
INSTRUMENT_ID = HRSC
INSTRUMENT_NAME = "HIGH RESOLUTION STEREO CAMERA"
MISSION_NAME = "MARS EXPRESS"
MISSION_PHASE_NAME = ME_Phase_2
PROCESSING_LEVEL_ID = 3
PRODUCT_CREATION_TIME = 2016-04-08T01:44:18.000Z
PRODUCT_ID = "H2616_0000_P23.JP2"
RELEASE_ID = 0033
REVISION_ID = 0000
/* QUALITY DATA ELEMENTS */
DATA_QUALITY_ID = 2
DATA_QUALITY_DESC = "Data calculated based on photogrammetrically improved orbit and attitude data"
/* TIME DATA ELEMENTS */
SPACECRAFT_CLOCK_START_COUNT = "1/0086244346.09062"
SPACECRAFT_CLOCK_STOP_COUNT = "1/0086244672.40734"
START_TIME = 2006-01-25T04:47:15.268Z
STOP_TIME = 2006-01-25T04:50:41.443Z
/* ORBITAL DATA ELEMENTS */
ASCENDING_NODE_LONGITUDE = 173.39
MAXIMUM_RESOLUTION = 45.1
FOOTPRINT_POINT_LATITUDE = (-67.3256,-67.3762,-67.4107,-67.4539, -67.485,-67.5151,-67.4221,-67.0471, -66.7634,-66.3822,-66.1896,-65.9966, -65.8038,-65.6124,-65.4173,-65.2206, -65.0156,-64.7181,-64.5179,-64.3176, -64.1141,-63.9152,-63.7116,-63.5026, -63.2972,-63.095,-62.8879,-62.6783, -62.4658,-62.2532,-62.0426,-61.8293, -61.616,-61.4007,-61.1848,-60.9665, -60.7483,-60.4259,-60.2047,-59.9827, -59.7588,-59.4171,-59.1853,-58.9569, -58.7278,-58.3861,-58.0363,-57.8012, -57.5692,-57.3337,-57.082,-57.0729, -57.058,-57.0467,-57.0264,-57.0053, -56.9859,-56.9685,-56.9525,-57.0427, -57.3923,-57.6269,-57.859,-58.0885, -58.4332,-58.7752,-59.0022,-59.2275, -59.5631,-59.7852,-60.0059,-60.2257, -60.4439,-60.7686,-60.9892,-61.2036, -61.4171,-61.6252,-61.8373,-62.0483, -62.2578,-62.4654,-62.7768,-62.9821, -63.1874,-63.4905,-63.6945,-63.994, -64.2018,-64.4006,-64.6974,-64.893, -65.0842,-65.2827,-65.4769,-65.6701, -66.0516,-66.4267,-66.9904,-67.3256)
FOOTPRINT_POINT_LONGITUDE = (115.07,115.954,116.606,117.495,118.198 ,118.951,119.838,119.952,120.035, 120.142,120.195,120.247,120.298,120.353 ,120.403,120.453,120.496,120.568, 120.616,120.662,120.708,120.757,120.803 ,120.844,120.888,120.937,120.98,121.023 ,121.062,121.104,121.145,121.187, 121.228,121.268,121.307,121.347,121.385 ,121.449,121.487,121.525,121.562, 121.613,121.645,121.68,121.715,121.77, 121.821,121.854,121.89,121.924,121.769, 121.291,120.672,120.244,119.58,118.964, 118.442,118.065,117.687,117.04,117.002, 116.972,116.943,116.915,116.868,116.82, 116.787,116.754,116.702,116.668,116.632 ,116.597,116.56,116.505,116.461,116.421 ,116.382,116.346,116.304,116.261, 116.218,116.174,116.107,116.061,116.014 ,115.945,115.894,115.822,115.76,115.708 ,115.629,115.576,115.528,115.466, 115.408,115.35,115.234,115.118,114.926, 115.07)
ORBIT_NUMBER = 2616
ORBITAL_ECCENTRICITY = 0.571
ORBITAL_INCLINATION = 86.61
ORBITAL_SEMIMAJOR_AXIS = 8531.63
PERIAPSIS_ALTITUDE = 280.0
PERIAPSIS_ARGUMENT_ANGLE = 258.69
PERIAPSIS_TIME = 2006-01-25T04:37:57.000Z
SPACECRAFT_ORIENTATION = (0.0,-1.0,0.0)
^MEX_ORIENTATION_DESC = "MEX_ORIENTATION_DESC.TXT"
SPACECRAFT_POINTING_MODE = NADIR
^MEX_POINTING_DESC = "MEX_POINTING_DESC.TXT"
RIGHT_ASCENSION = -1e+32
DECLINATION = -1e+32
OFFSET_ANGLE = -1e+32
SPACECRAFT_SOLAR_DISTANCE = 2.33648e+08
TARGET_NAME = MARS
/* CAMERA DATA ELEMENTS */
DETECTOR_TEMPERATURE = 18.7783
FOCAL_PLANE_TEMPERATURE = 8.5833
INST_CMPRS_NAME = "DISCRETE COSINE TRANSFORMATION (DCT)"
INST_CMPRS_RATIO = 10.3353
INST_CMPRS_QUALITY = 0
INST_CMPRS_QUANTZ_TBL_ID = 0
INSTRUMENT_TEMPERATURE = 10.0106
LENS_TEMPERATURE = 8.7872
MACROPIXEL_SIZE = 2
MISSING_FRAMES = 0
PIXEL_SUBSAMPLING_FLAG = N
SIGNAL_CHAIN_ID = 3
/* RADIOMETRIC DATA ELEMENTS */
BANDWIDTH = 177.0
CENTER_FILTER_WAVELENGTH = 676.5
RADIANCE_OFFSET = 1.21819
RADIANCE_SCALING_FACTOR = 0.00856296
REFLECTANCE_SCALING_FACTOR = 0.000247861
MEX:REFLECTANCE_OFFSET = 0.0352615
/* IMAGE OBJECT DEFINITIONS */
OBJECT = IMAGE
  INTERCHANGE_FORMAT = BINARY
  LINES = 12663
  LINE_SAMPLES = 3560
  SAMPLE_TYPE = UNSIGNED_INTEGER
  SAMPLE_BITS = 8
  BANDS = 1
  BAND_STORAGE_TYPE = BAND_SEQUENTIAL
  MAXIMUM = 255
  MEAN = 92.9418
  MINIMUM = 1
  STANDARD_DEVIATION = 33.5679
END_OBJECT = IMAGE
/* MAP OBJECT DEFINITIONS */
OBJECT = IMAGE_MAP_PROJECTION
  ^DATA_SET_MAP_PROJECTION_CATALOG= "DSMAP.CAT"
  A_AXIS_RADIUS = 3396.0
  B_AXIS_RADIUS = 3396.0
  C_AXIS_RADIUS = 3396.0
  CENTER_LATITUDE = 0.0
  CENTER_LONGITUDE = 119.0
  COORDINATE_SYSTEM_NAME = PLANETOGRAPHIC
  COORDINATE_SYSTEM_TYPE = "BODY-FIXED ROTATING"
  EASTERNMOST_LONGITUDE = 121.924
  FIRST_STANDARD_PARALLEL = "N/A"
  LINE_FIRST_PIXEL = 1
  LINE_LAST_PIXEL = 12663
  LINE_PROJECTION_OFFSET = -67497.75
  MAP_PROJECTION_ROTATION = 0.0
  MAP_PROJECTION_TYPE = SINUSOIDAL
  MAP_RESOLUTION = 1185.42760773333
  MAP_SCALE = 0.05
  MAXIMUM_LATITUDE = -56.9525
  MINIMUM_LATITUDE = -67.5151
  POSITIVE_LONGITUDE_DIRECTION = EAST
  REFERENCE_LATITUDE = "N/A"
  REFERENCE_LONGITUDE = "N/A"
  SAMPLE_FIRST_PIXEL = 1
  SAMPLE_LAST_PIXEL = 3560
  SAMPLE_PROJECTION_OFFSET = 1838.75
  SECOND_STANDARD_PARALLEL = "N/A"
  WESTERNMOST_LONGITUDE = 114.926
END_OBJECT = IMAGE_MAP_PROJECTION
/* The JPEG2000 image data file associated with this label. */
OBJECT = COMPRESSED_FILE
  FILE_NAME = "H2616_0000_P23.JP2"
  RECORD_TYPE = UNDEFINED
  FILE_RECORDS = UNK
  ENCODING_TYPE = "JP2"
  INTERCHANGE_FORMAT = BINARY
  UNCOMPRESSED_FILE_NAME = "H2616_0000_P23.IMG"
  REQUIRED_STORAGE_BYTES = "45105200"
  ^DESCRIPTION = "JP2INFO.TXT"
END_OBJECT = COMPRESSED_FILE
END
