PDS_VERSION_ID = PDS3
/* FILE DATA ELEMENTS */
RECORD_TYPE = STREAM
/* POINTERS TO DATA OBJECTS */
^COMPRESSED_FILE = "H2617_0000_BL3.JP2"
/* IDENTIFICATION DATA ELEMENTS */
DATA_SET_ID = "MEX-M-HRSC-5-REFDR-MAPPROJECTED-V3.0"
DATA_SET_NAME = "MARS EXPRESS HRSC MAP PROJECTED REFDR V3.0"
DETECTOR_ID = MEX_HRSC_BLUE
EVENT_TYPE = "MARS-REGIONAL-MAPPING-Vo-Gl-Eo"
INSTRUMENT_HOST_ID = MEX
INSTRUMENT_HOST_NAME = "MARS EXPRESS"
INSTRUMENT_ID = HRSC
INSTRUMENT_NAME = "HIGH RESOLUTION STEREO CAMERA"
MISSION_NAME = "MARS EXPRESS"
MISSION_PHASE_NAME = ME_Phase_2
PROCESSING_LEVEL_ID = 3
PRODUCT_CREATION_TIME = 2016-04-08T01:44:18.000Z
PRODUCT_ID = "H2617_0000_BL3.JP2"
RELEASE_ID = 0033
REVISION_ID = 0000
/* QUALITY DATA ELEMENTS */
DATA_QUALITY_ID = 1
DATA_QUALITY_DESC = "Data calculated based on original SPICE kernels"
/* TIME DATA ELEMENTS */
SPACECRAFT_CLOCK_START_COUNT = "1/0086268369.07274"
SPACECRAFT_CLOCK_STOP_COUNT = "1/0086268719.45655"
START_TIME = 2006-01-25T11:26:54.800Z
STOP_TIME = 2006-01-25T11:31:05.844Z
/* ORBITAL DATA ELEMENTS */
ASCENDING_NODE_LONGITUDE = 173.36
MAXIMUM_RESOLUTION = 61.9
FOOTPRINT_POINT_LATITUDE = (-78.1883,-78.2494,-78.3288,-78.4379, -78.5207,-78.1713,-77.9189,-77.5394, -77.1609,-76.9092,-76.6517,-76.3931, -76.0055,-75.7419,-75.4777,-75.2134, -74.8103,-74.54,-74.2699,-73.994, -73.7178,-73.442,-73.1604,-72.7381, -72.3087,-72.0217,-71.5851,-71.2926, -70.8481,-70.5513,-70.0975,-69.7942, -69.4863,-69.1781,-68.866,-68.5526, -68.2356,-67.9171,-67.595,-67.2711, -66.9436,-66.449,-66.1158,-65.7793, -65.2703,-64.9279,-64.5809,-64.2326, -63.8238,-63.8054,-63.7693,-63.7416, -63.7088,-63.6503,-63.7976,-64.1479, -64.493,-65.0059,-65.5125,-65.8476, -66.1781,-66.6698,-66.9954,-67.3163, -67.6366,-67.9523,-68.2677,-68.5783, -68.8889,-69.1943,-69.5003,-69.8004, -70.2503,-70.5446,-70.9854,-71.2751, -71.7084,-71.9922,-72.4176,-72.6957, -72.9742,-73.2501,-73.5225,-73.7952, -74.0649,-74.3314,-74.5981,-74.8628, -75.123,-75.3833,-75.6435,-75.8974, -76.1512,-76.405,-76.7791,-77.1497, -77.3967,-77.6437,-77.8904,-78.1883)
FOOTPRINT_POINT_LONGITUDE = (8.49084,9.38542,10.6305,12.5268,14.164 ,14.8817,15.1759,15.5889,15.9798, 16.2292,16.4727,16.7066,17.0399,17.2566 ,17.467,17.6682,17.9605,18.1479,18.3275 ,18.5047,18.6755,18.8401,19.0026, 19.2359,19.4608,19.6052,19.8149,19.9497 ,20.1466,20.2767,20.4593,20.5761, 20.6932,20.8059,20.9179,21.0253,21.1316 ,21.2338,21.3348,21.4308,21.5267, 21.6667,21.7577,21.847,21.9778,22.0628, 22.1453,22.2258,22.1048,21.544,20.5982, 19.9557,19.2709,18.2081,17.6838,17.5893 ,17.4975,17.3553,17.2065,17.1033, 16.9988,16.8357,16.723,16.6063,16.4872, 16.365,16.2385,16.1096,15.9761,15.8403, 15.6989,15.5554,15.3308,15.1809,14.9423 ,14.7745,14.5118,14.3345,14.0562, 13.8658,13.6677,13.4644,13.2558,13.0396 ,12.8172,12.5888,12.3512,12.1062, 11.8563,11.5967,11.3258,11.051,10.7662, 10.4692,10.0059,9.51935,9.17737,8.81696 ,8.44237,8.49084)
ORBIT_NUMBER = 2617
ORBITAL_ECCENTRICITY = 0.571
ORBITAL_INCLINATION = 86.6
ORBITAL_SEMIMAJOR_AXIS = 8532.62
PERIAPSIS_ALTITUDE = 280.47
PERIAPSIS_ARGUMENT_ANGLE = 258.5
PERIAPSIS_TIME = 2006-01-25T11:21:05.000Z
SPACECRAFT_ORIENTATION = (0.0,-1.0,0.0)
^MEX_ORIENTATION_DESC = "MEX_ORIENTATION_DESC.TXT"
SPACECRAFT_POINTING_MODE = NADIR
^MEX_POINTING_DESC = "MEX_POINTING_DESC.TXT"
RIGHT_ASCENSION = -1e+32
DECLINATION = -1e+32
OFFSET_ANGLE = -1e+32
SPACECRAFT_SOLAR_DISTANCE = 2.33699e+08
TARGET_NAME = MARS
/* CAMERA DATA ELEMENTS */
DETECTOR_TEMPERATURE = 17.9627
FOCAL_PLANE_TEMPERATURE = 8.5833
INST_CMPRS_NAME = "DISCRETE COSINE TRANSFORMATION (DCT)"
INST_CMPRS_RATIO = 7.43584
INST_CMPRS_QUALITY = 0
INST_CMPRS_QUANTZ_TBL_ID = 0
INSTRUMENT_TEMPERATURE = 11.234
LENS_TEMPERATURE = 10.0106
MACROPIXEL_SIZE = 4
MISSING_FRAMES = 0
PIXEL_SUBSAMPLING_FLAG = N
SIGNAL_CHAIN_ID = 2
/* RADIOMETRIC DATA ELEMENTS */
BANDWIDTH = 76.0
CENTER_FILTER_WAVELENGTH = 444.0
RADIANCE_OFFSET = 0.102113
RADIANCE_SCALING_FACTOR = 0.00132454
REFLECTANCE_SCALING_FACTOR = 7.43253e-05
MEX:REFLECTANCE_OFFSET = 0.00572996
/* IMAGE OBJECT DEFINITIONS */
OBJECT = IMAGE
  INTERCHANGE_FORMAT = BINARY
  LINES = 17694
  LINE_SAMPLES = 4907
  SAMPLE_TYPE = UNSIGNED_INTEGER
  SAMPLE_BITS = 8
  BANDS = 1
  BAND_STORAGE_TYPE = BAND_SEQUENTIAL
  MAXIMUM = 255
  MEAN = 135.419
  MINIMUM = 1
  STANDARD_DEVIATION = 47.0522
END_OBJECT = IMAGE
/* MAP OBJECT DEFINITIONS */
OBJECT = IMAGE_MAP_PROJECTION
  ^DATA_SET_MAP_PROJECTION_CATALOG= "DSMAP.CAT"
  A_AXIS_RADIUS = 3396.0
  B_AXIS_RADIUS = 3396.0
  C_AXIS_RADIUS = 3396.0
  CENTER_LATITUDE = 0.0
  CENTER_LONGITUDE = 17.0
  COORDINATE_SYSTEM_NAME = PLANETOGRAPHIC
  COORDINATE_SYSTEM_TYPE = "BODY-FIXED ROTATING"
  EASTERNMOST_LONGITUDE = 22.2258
  FIRST_STANDARD_PARALLEL = "N/A"
  LINE_FIRST_PIXEL = 1
  LINE_LAST_PIXEL = 17694
  LINE_PROJECTION_OFFSET = -75435.375
  MAP_PROJECTION_ROTATION = 0.0
  MAP_PROJECTION_TYPE = SINUSOIDAL
  MAP_RESOLUTION = 1185.42760773333
  MAP_SCALE = 0.05
  MAXIMUM_LATITUDE = -63.6503
  MINIMUM_LATITUDE = -78.52070000000001
  POSITIVE_LONGITUDE_DIRECTION = EAST
  REFERENCE_LATITUDE = "N/A"
  REFERENCE_LONGITUDE = "N/A"
  SAMPLE_FIRST_PIXEL = 1
  SAMPLE_LAST_PIXEL = 4907
  SAMPLE_PROJECTION_OFFSET = 2155.125
  SECOND_STANDARD_PARALLEL = "N/A"
  WESTERNMOST_LONGITUDE = 8.44237
END_OBJECT = IMAGE_MAP_PROJECTION
/* The JPEG2000 image data file associated with this label. */
OBJECT = COMPRESSED_FILE
  FILE_NAME = "H2617_0000_BL3.JP2"
  RECORD_TYPE = UNDEFINED
  FILE_RECORDS = UNK
  ENCODING_TYPE = "JP2"
  INTERCHANGE_FORMAT = BINARY
  UNCOMPRESSED_FILE_NAME = "H2617_0000_BL3.IMG"
  REQUIRED_STORAGE_BYTES = "86848993"
  ^DESCRIPTION = "JP2INFO.TXT"
END_OBJECT = COMPRESSED_FILE
END
