PDS_VERSION_ID = PDS3
/* FILE DATA ELEMENTS */
RECORD_TYPE = STREAM
/* POINTERS TO DATA OBJECTS */
^COMPRESSED_FILE = "H2617_0000_GR3.JP2"
/* IDENTIFICATION DATA ELEMENTS */
DATA_SET_ID = "MEX-M-HRSC-5-REFDR-MAPPROJECTED-V3.0"
DATA_SET_NAME = "MARS EXPRESS HRSC MAP PROJECTED REFDR V3.0"
DETECTOR_ID = MEX_HRSC_GREEN
EVENT_TYPE = "MARS-REGIONAL-MAPPING-Vo-Gl-Eo"
INSTRUMENT_HOST_ID = MEX
INSTRUMENT_HOST_NAME = "MARS EXPRESS"
INSTRUMENT_ID = HRSC
INSTRUMENT_NAME = "HIGH RESOLUTION STEREO CAMERA"
MISSION_NAME = "MARS EXPRESS"
MISSION_PHASE_NAME = ME_Phase_2
PROCESSING_LEVEL_ID = 3
PRODUCT_CREATION_TIME = 2016-04-08T01:44:18.000Z
PRODUCT_ID = "H2617_0000_GR3.JP2"
RELEASE_ID = 0033
REVISION_ID = 0000
/* QUALITY DATA ELEMENTS */
DATA_QUALITY_ID = 1
DATA_QUALITY_DESC = "Data calculated based on original SPICE kernels"
/* TIME DATA ELEMENTS */
SPACECRAFT_CLOCK_START_COUNT = "1/0086268369.07274"
SPACECRAFT_CLOCK_STOP_COUNT = "1/0086268719.45655"
START_TIME = 2006-01-25T11:26:42.676Z
STOP_TIME = 2006-01-25T11:30:45.631Z
/* ORBITAL DATA ELEMENTS */
ASCENDING_NODE_LONGITUDE = 173.36
MAXIMUM_RESOLUTION = 60.7
FOOTPRINT_POINT_LATITUDE = (-78.3074,-78.3782,-78.4883,-78.4281, -78.1716,-77.915,-77.6587,-77.4024, -77.1457,-76.8891,-76.6326,-76.3763, -76.1203,-75.7268,-75.4639,-75.2013, -74.7987,-74.5297,-74.2609,-73.9856, -73.7105,-73.4357,-73.0149,-72.734, -72.4511,-72.164,-71.8774,-71.5869, -71.2941,-71.0019,-70.7038,-70.2564, -69.9531,-69.6495,-69.1879,-68.8786, -68.5653,-68.2505,-67.7724,-67.4528, -67.1271,-66.802,-66.471,-65.9722, -65.6362,-65.2963,-64.7822,-64.4362, -64.0858,-63.8197,-63.7807,-63.7524, -63.7258,-63.6815,-63.8128,-64.1604, -64.5043,-65.016,-65.3542,-65.6879, -66.0202,-66.3488,-66.6757,-66.9989, -67.3202,-67.638,-67.9546,-68.2668, -68.5788,-68.8854,-69.3442,-69.6453, -70.0949,-70.3907,-70.833,-71.1219, -71.5546,-71.8382,-72.1221,-72.4031, -72.6808,-72.9586,-73.3692,-73.6408, -74.0464,-74.3115,-74.5767,-74.8419, -75.1006,-75.3593,-75.6178,-75.9992, -76.377,-76.6284,-77.0061,-77.3827, -77.6333,-77.8839,-78.1341,-78.3074)
FOOTPRINT_POINT_LONGITUDE = (9.63993,10.7555,12.6789,14.5084, 14.8216,15.1201,15.4015,15.67,15.9346, 16.1886,16.4307,16.6623,16.8826,17.2091 ,17.4179,17.6175,17.9088,18.0949, 18.2732,18.4498,18.6196,18.7833,19.0234 ,19.1768,19.3259,19.4728,19.6131, 19.7522,19.8879,20.0171,20.1461,20.3332 ,20.4517,20.5674,20.7381,20.8487, 20.9558,21.0612,21.2136,21.3105,21.4063 ,21.4998,21.5924,21.7271,21.8146, 21.9013,22.0272,22.1068,22.1876,21.5349 ,20.5369,19.9156,19.3773,18.5527, 17.7569,17.6627,17.5707,17.4283,17.3282 ,17.2273,17.1228,17.0166,16.9066, 16.7941,16.6767,16.558,16.435,16.3095, 16.1796,16.0474,15.8409,15.6992,15.4781 ,15.3279,15.0958,14.9306,14.6727, 14.4985,14.3178,14.1326,13.9428,13.7454 ,13.4404,13.2292,12.8989,12.6721, 12.4367,12.1918,11.9443,11.6872,11.4191 ,11.0039,10.5683,10.2613,9.78005, 9.26402,8.89961,8.52055,8.12373, 9.63993)
ORBIT_NUMBER = 2617
ORBITAL_ECCENTRICITY = 0.571
ORBITAL_INCLINATION = 86.6
ORBITAL_SEMIMAJOR_AXIS = 8532.62
PERIAPSIS_ALTITUDE = 280.47
PERIAPSIS_ARGUMENT_ANGLE = 258.5
PERIAPSIS_TIME = 2006-01-25T11:21:05.000Z
SPACECRAFT_ORIENTATION = (0.0,-1.0,0.0)
^MEX_ORIENTATION_DESC = "MEX_ORIENTATION_DESC.TXT"
SPACECRAFT_POINTING_MODE = NADIR
^MEX_POINTING_DESC = "MEX_POINTING_DESC.TXT"
RIGHT_ASCENSION = -1e+32
DECLINATION = -1e+32
OFFSET_ANGLE = -1e+32
SPACECRAFT_SOLAR_DISTANCE = 2.33699e+08
TARGET_NAME = MARS
/* CAMERA DATA ELEMENTS */
DETECTOR_TEMPERATURE = 17.9627
FOCAL_PLANE_TEMPERATURE = 8.5833
INST_CMPRS_NAME = "DISCRETE COSINE TRANSFORMATION (DCT)"
INST_CMPRS_RATIO = 24.9551
INST_CMPRS_QUALITY = 0
INST_CMPRS_QUANTZ_TBL_ID = 0
INSTRUMENT_TEMPERATURE = 11.234
LENS_TEMPERATURE = 10.0106
MACROPIXEL_SIZE = 4
MISSING_FRAMES = 0
PIXEL_SUBSAMPLING_FLAG = N
SIGNAL_CHAIN_ID = 2
/* RADIOMETRIC DATA ELEMENTS */
BANDWIDTH = 88.0
CENTER_FILTER_WAVELENGTH = 538.0
RADIANCE_OFFSET = 0.231874
RADIANCE_SCALING_FACTOR = 0.00286264
REFLECTANCE_SCALING_FACTOR = 0.000134608
MEX:REFLECTANCE_OFFSET = 0.0109033
/* IMAGE OBJECT DEFINITIONS */
OBJECT = IMAGE
  INTERCHANGE_FORMAT = BINARY
  LINES = 17694
  LINE_SAMPLES = 4907
  SAMPLE_TYPE = UNSIGNED_INTEGER
  SAMPLE_BITS = 8
  BANDS = 1
  BAND_STORAGE_TYPE = BAND_SEQUENTIAL
  MAXIMUM = 255
  MEAN = 111.851
  MINIMUM = 1
  STANDARD_DEVIATION = 49.5154
END_OBJECT = IMAGE
/* MAP OBJECT DEFINITIONS */
OBJECT = IMAGE_MAP_PROJECTION
  ^DATA_SET_MAP_PROJECTION_CATALOG= "DSMAP.CAT"
  A_AXIS_RADIUS = 3396.0
  B_AXIS_RADIUS = 3396.0
  C_AXIS_RADIUS = 3396.0
  CENTER_LATITUDE = 0.0
  CENTER_LONGITUDE = 17.0
  COORDINATE_SYSTEM_NAME = PLANETOGRAPHIC
  COORDINATE_SYSTEM_TYPE = "BODY-FIXED ROTATING"
  EASTERNMOST_LONGITUDE = 22.1876
  FIRST_STANDARD_PARALLEL = "N/A"
  LINE_FIRST_PIXEL = 1
  LINE_LAST_PIXEL = 17694
  LINE_PROJECTION_OFFSET = -75435.375
  MAP_PROJECTION_ROTATION = 0.0
  MAP_PROJECTION_TYPE = SINUSOIDAL
  MAP_RESOLUTION = 1185.42760773333
  MAP_SCALE = 0.05
  MAXIMUM_LATITUDE = -63.6815
  MINIMUM_LATITUDE = -78.4883
  POSITIVE_LONGITUDE_DIRECTION = EAST
  REFERENCE_LATITUDE = "N/A"
  REFERENCE_LONGITUDE = "N/A"
  SAMPLE_FIRST_PIXEL = 1
  SAMPLE_LAST_PIXEL = 4907
  SAMPLE_PROJECTION_OFFSET = 2155.125
  SECOND_STANDARD_PARALLEL = "N/A"
  WESTERNMOST_LONGITUDE = 8.12373
END_OBJECT = IMAGE_MAP_PROJECTION
/* The JPEG2000 image data file associated with this label. */
OBJECT = COMPRESSED_FILE
  FILE_NAME = "H2617_0000_GR3.JP2"
  RECORD_TYPE = UNDEFINED
  FILE_RECORDS = UNK
  ENCODING_TYPE = "JP2"
  INTERCHANGE_FORMAT = BINARY
  UNCOMPRESSED_FILE_NAME = "H2617_0000_GR3.IMG"
  REQUIRED_STORAGE_BYTES = "86848993"
  ^DESCRIPTION = "JP2INFO.TXT"
END_OBJECT = COMPRESSED_FILE
END
