PDS_VERSION_ID = PDS3
/* FILE DATA ELEMENTS */
RECORD_TYPE = STREAM
/* POINTERS TO DATA OBJECTS */
^COMPRESSED_FILE = "H2617_0000_S13.JP2"
/* IDENTIFICATION DATA ELEMENTS */
DATA_SET_ID = "MEX-M-HRSC-5-REFDR-MAPPROJECTED-V3.0"
DATA_SET_NAME = "MARS EXPRESS HRSC MAP PROJECTED REFDR V3.0"
DETECTOR_ID = MEX_HRSC_S1
EVENT_TYPE = "MARS-REGIONAL-MAPPING-Vo-Gl-Eo"
INSTRUMENT_HOST_ID = MEX
INSTRUMENT_HOST_NAME = "MARS EXPRESS"
INSTRUMENT_ID = HRSC
INSTRUMENT_NAME = "HIGH RESOLUTION STEREO CAMERA"
MISSION_NAME = "MARS EXPRESS"
MISSION_PHASE_NAME = ME_Phase_2
PROCESSING_LEVEL_ID = 3
PRODUCT_CREATION_TIME = 2016-04-08T01:44:18.000Z
PRODUCT_ID = "H2617_0000_S13.JP2"
RELEASE_ID = 0033
REVISION_ID = 0000
/* QUALITY DATA ELEMENTS */
DATA_QUALITY_ID = 1
DATA_QUALITY_DESC = "Data calculated based on original SPICE kernels"
/* TIME DATA ELEMENTS */
SPACECRAFT_CLOCK_START_COUNT = "1/0086268369.07274"
SPACECRAFT_CLOCK_STOP_COUNT = "1/0086268719.45655"
START_TIME = 2006-01-25T11:26:14.858Z
STOP_TIME = 2006-01-25T11:30:01.948Z
/* ORBITAL DATA ELEMENTS */
ASCENDING_NODE_LONGITUDE = 173.36
MAXIMUM_RESOLUTION = 30.9
FOOTPRINT_POINT_LATITUDE = (-78.3079,-78.3934,-78.5181,-78.6194, -78.5772,-78.1865,-77.92,-77.6559, -77.2559,-76.9879,-76.7198,-76.4508, -76.1848,-75.9166,-75.6486,-75.3797, -75.112,-74.8443,-74.5764,-74.3091, -74.0388,-73.7644,-73.3529,-73.0765, -72.7951,-72.5127,-72.0884,-71.6563, -71.3681,-71.0755,-70.6313,-70.1841, -69.8856,-69.5844,-69.1235,-68.8153, -68.3457,-68.0329,-67.7136,-67.2367, -66.7495,-66.4231,-66.0902,-65.7577, -65.4194,-65.0787,-64.7352,-64.3912, -64.0401,-63.8283,-63.8023,-63.7719, -63.7489,-63.721,-63.6851,-63.8301, -64.1702,-64.5138,-65.0241,-65.3596, -65.8575,-66.3515,-66.6759,-67.1589, -67.4739,-67.792,-68.1034,-68.5695, -68.8744,-69.1799,-69.6308,-70.0789, -70.5231,-70.8185,-71.1059,-71.3863, -71.6715,-71.9568,-72.2346,-72.5134, -72.9294,-73.2008,-73.4719,-73.8782, -74.2742,-74.5378,-74.8014,-75.0651, -75.3292,-75.5925,-75.8557,-76.1196, -76.3823,-76.644,-76.9075,-77.1693, -77.5597,-77.8209,-78.0804,-78.3079)
FOOTPRINT_POINT_LONGITUDE = (8.13258,9.3486,11.3193,13.157,14.2431, 14.7275,15.0376,15.3271,15.7467,16.0145 ,16.2712,16.5188,16.7498,16.9762, 17.1934,17.4039,17.604,17.7966,17.9828, 18.1611,18.3352,18.5054,18.7497,18.9067 ,19.0611,19.2119,19.4267,19.6351, 19.7687,19.8992,20.092,20.275,20.3896, 20.5042,20.6719,20.7806,20.9388,21.0392 ,21.1399,21.2811,21.4202,21.5107, 21.6002,21.6867,21.7725,21.8572,21.9389 ,22.0174,22.0971,21.4475,20.7981, 20.1102,19.6659,19.1417,18.4987,17.9198 ,17.8265,17.7338,17.5897,17.4895, 17.3357,17.1757,17.0654,16.8944,16.7756 ,16.6547,16.531,16.3377,16.2057,16.069, 15.858,15.6373,15.4105,15.2532,15.089, 14.9219,14.7502,14.5721,14.392,14.2057, 13.9137,13.7148,13.5085,13.1848,12.8514 ,12.6185,12.3767,12.1255,11.8644, 11.5929,11.3103,11.0161,10.7096,10.3901 ,10.0567,9.70878,9.15769,8.76918, 8.36282,8.13258)
ORBIT_NUMBER = 2617
ORBITAL_ECCENTRICITY = 0.571
ORBITAL_INCLINATION = 86.6
ORBITAL_SEMIMAJOR_AXIS = 8532.62
PERIAPSIS_ALTITUDE = 280.47
PERIAPSIS_ARGUMENT_ANGLE = 258.5
PERIAPSIS_TIME = 2006-01-25T11:21:05.000Z
SPACECRAFT_ORIENTATION = (0.0,-1.0,0.0)
^MEX_ORIENTATION_DESC = "MEX_ORIENTATION_DESC.TXT"
SPACECRAFT_POINTING_MODE = NADIR
^MEX_POINTING_DESC = "MEX_POINTING_DESC.TXT"
RIGHT_ASCENSION = -1e+32
DECLINATION = -1e+32
OFFSET_ANGLE = -1e+32
SPACECRAFT_SOLAR_DISTANCE = 2.33699e+08
TARGET_NAME = MARS
/* CAMERA DATA ELEMENTS */
DETECTOR_TEMPERATURE = 17.351
FOCAL_PLANE_TEMPERATURE = 8.5833
INST_CMPRS_NAME = "DISCRETE COSINE TRANSFORMATION (DCT)"
INST_CMPRS_RATIO = 12.9359
INST_CMPRS_QUALITY = 0
INST_CMPRS_QUANTZ_TBL_ID = 0
INSTRUMENT_TEMPERATURE = 11.234
LENS_TEMPERATURE = 10.0106
MACROPIXEL_SIZE = 2
MISSING_FRAMES = 0
PIXEL_SUBSAMPLING_FLAG = N
SIGNAL_CHAIN_ID = 1
/* RADIOMETRIC DATA ELEMENTS */
BANDWIDTH = 180.0
CENTER_FILTER_WAVELENGTH = 677.0
RADIANCE_OFFSET = 0.666636
RADIANCE_SCALING_FACTOR = 0.00969454
REFLECTANCE_SCALING_FACTOR = 0.000276239
MEX:REFLECTANCE_OFFSET = 0.0189953
/* IMAGE OBJECT DEFINITIONS */
OBJECT = IMAGE
  INTERCHANGE_FORMAT = BINARY
  LINES = 35388
  LINE_SAMPLES = 9814
  SAMPLE_TYPE = UNSIGNED_INTEGER
  SAMPLE_BITS = 8
  BANDS = 1
  BAND_STORAGE_TYPE = BAND_SEQUENTIAL
  MAXIMUM = 255
  MEAN = 100.139
  MINIMUM = 1
  STANDARD_DEVIATION = 44.5957
END_OBJECT = IMAGE
/* MAP OBJECT DEFINITIONS */
OBJECT = IMAGE_MAP_PROJECTION
  ^DATA_SET_MAP_PROJECTION_CATALOG= "DSMAP.CAT"
  A_AXIS_RADIUS = 3396.0
  B_AXIS_RADIUS = 3396.0
  C_AXIS_RADIUS = 3396.0
  CENTER_LATITUDE = 0.0
  CENTER_LONGITUDE = 17.0
  COORDINATE_SYSTEM_NAME = PLANETOGRAPHIC
  COORDINATE_SYSTEM_TYPE = "BODY-FIXED ROTATING"
  EASTERNMOST_LONGITUDE = 22.0971
  FIRST_STANDARD_PARALLEL = "N/A"
  LINE_FIRST_PIXEL = 1
  LINE_LAST_PIXEL = 35388
  LINE_PROJECTION_OFFSET = -150870.25
  MAP_PROJECTION_ROTATION = 0.0
  MAP_PROJECTION_TYPE = SINUSOIDAL
  MAP_RESOLUTION = 2370.85521546667
  MAP_SCALE = 0.025
  MAXIMUM_LATITUDE = -63.6851
  MINIMUM_LATITUDE = -78.6194
  POSITIVE_LONGITUDE_DIRECTION = EAST
  REFERENCE_LATITUDE = "N/A"
  REFERENCE_LONGITUDE = "N/A"
  SAMPLE_FIRST_PIXEL = 1
  SAMPLE_LAST_PIXEL = 9814
  SAMPLE_PROJECTION_OFFSET = 4310.75
  SECOND_STANDARD_PARALLEL = "N/A"
  WESTERNMOST_LONGITUDE = 8.132580000000001
END_OBJECT = IMAGE_MAP_PROJECTION
/* The JPEG2000 image data file associated with this label. */
OBJECT = COMPRESSED_FILE
  FILE_NAME = "H2617_0000_S13.JP2"
  RECORD_TYPE = UNDEFINED
  FILE_RECORDS = UNK
  ENCODING_TYPE = "JP2"
  INTERCHANGE_FORMAT = BINARY
  UNCOMPRESSED_FILE_NAME = "H2617_0000_S13.IMG"
  REQUIRED_STORAGE_BYTES = "347327274"
  ^DESCRIPTION = "JP2INFO.TXT"
END_OBJECT = COMPRESSED_FILE
END
