PDS_VERSION_ID = PDS3
/* FILE DATA ELEMENTS */
RECORD_TYPE = STREAM
/* POINTERS TO DATA OBJECTS */
^COMPRESSED_FILE = "H2619_0000_IR3.JP2"
/* IDENTIFICATION DATA ELEMENTS */
DATA_SET_ID = "MEX-M-HRSC-5-REFDR-MAPPROJECTED-V3.0"
DATA_SET_NAME = "MARS EXPRESS HRSC MAP PROJECTED REFDR V3.0"
DETECTOR_ID = MEX_HRSC_IR
EVENT_TYPE = "MARS-REGIONAL-MAPPING-Im-Fl-Eo"
INSTRUMENT_HOST_ID = MEX
INSTRUMENT_HOST_NAME = "MARS EXPRESS"
INSTRUMENT_ID = HRSC
INSTRUMENT_NAME = "HIGH RESOLUTION STEREO CAMERA"
MISSION_NAME = "MARS EXPRESS"
MISSION_PHASE_NAME = ME_Phase_2
PROCESSING_LEVEL_ID = 3
PRODUCT_CREATION_TIME = 2016-04-08T01:44:18.000Z
PRODUCT_ID = "H2619_0000_IR3.JP2"
RELEASE_ID = 0033
REVISION_ID = 0000
/* QUALITY DATA ELEMENTS */
DATA_QUALITY_ID = 2
DATA_QUALITY_DESC = "Data calculated based on photogrammetrically improved orbit and attitude data"
/* TIME DATA ELEMENTS */
SPACECRAFT_CLOCK_START_COUNT = "1/0086316961.07584"
SPACECRAFT_CLOCK_STOP_COUNT = "1/0086317575.34655"
START_TIME = 2006-01-26T00:56:15.214Z
STOP_TIME = 2006-01-26T01:02:43.583Z
/* ORBITAL DATA ELEMENTS */
ASCENDING_NODE_LONGITUDE = 173.32
MAXIMUM_RESOLUTION = 88.2
FOOTPRINT_POINT_LATITUDE = (-70.4361,-70.5074,-70.5661,-69.8807, -68.8774,-67.8592,-67.447,-67.0318, -66.61,-66.1898,-65.5525,-65.1249, -64.6943,-64.2603,-63.6015,-63.1612, -62.4835,-61.8019,-61.3454,-60.6483, -60.1809,-59.7077,-59.2302,-58.749, -58.2627,-57.7718,-57.2774,-56.7747, -56.2688,-55.7575,-55.2404,-54.7179, -54.1894,-53.6546,-53.1133,-52.5664, -52.0129,-51.4527,-50.8855,-50.3115, -49.7306,-49.1424,-48.5456,-47.9408, -47.3285,-46.7069,-46.3354,-46.3247, -46.3047,-46.2736,-46.2492,-46.2232, -46.8477,-47.4635,-48.0718,-48.6712, -49.2623,-49.8464,-50.4232,-50.993, -51.5554,-52.111,-52.6598,-53.2023, -53.7388,-54.2684,-54.793,-55.3119, -55.8254,-56.3329,-56.8355,-57.3321, -57.8242,-58.3117,-58.7948,-59.2738, -59.7471,-60.216,-60.6814,-61.1421, -61.5977,-62.0492,-62.4975,-62.9405, -63.3829,-63.8207,-64.2552,-64.6863, -65.1136,-65.5384,-66.166,-66.5837, -66.9978,-67.4086,-67.8154,-68.2202, -68.6222,-69.417,-70.2024,-70.4361)
FOOTPRINT_POINT_LONGITUDE = (178.87,180.464,182.052,182.798,183.178 ,183.526,183.657,183.784,183.905, 184.024,184.195,184.304,184.41,184.513, 184.662,184.758,184.894,185.025,185.11, 185.232,185.311,185.388,185.462,185.535 ,185.605,185.675,185.743,185.807,185.87 ,185.932,185.992,186.051,186.108, 186.163,186.216,186.268,186.32,186.371, 186.42,186.468,186.515,186.56,186.604, 186.648,186.69,186.732,185.869,185.232, 184.423,183.442,182.84,182.183,182.153, 182.12,182.087,182.051,182.009,181.968, 181.923,181.877,181.83,181.779,181.727, 181.671,181.614,181.557,181.492,181.427 ,181.358,181.289,181.216,181.14,181.061 ,180.979,180.893,180.804,180.713, 180.617,180.519,180.417,180.313,180.207 ,180.095,179.981,179.858,179.731,179.6, 179.465,179.324,179.179,178.956,178.793 ,178.627,178.455,178.279,178.094, 177.902,177.498,177.059,178.87)
ORBIT_NUMBER = 2619
ORBITAL_ECCENTRICITY = 0.571
ORBITAL_INCLINATION = 86.61
ORBITAL_SEMIMAJOR_AXIS = 8533.56
PERIAPSIS_ALTITUDE = 280.45
PERIAPSIS_ARGUMENT_ANGLE = 258.17
PERIAPSIS_TIME = 2006-01-26T00:47:29.000Z
SPACECRAFT_ORIENTATION = (0.0,-1.0,0.0)
^MEX_ORIENTATION_DESC = "MEX_ORIENTATION_DESC.TXT"
SPACECRAFT_POINTING_MODE = INERT
^MEX_POINTING_DESC = "MEX_POINTING_DESC.TXT"
RIGHT_ASCENSION = 298.852
DECLINATION = 49.36
OFFSET_ANGLE = -1e+32
SPACECRAFT_SOLAR_DISTANCE = 2.33801e+08
TARGET_NAME = MARS
/* CAMERA DATA ELEMENTS */
DETECTOR_TEMPERATURE = 17.5549
FOCAL_PLANE_TEMPERATURE = 8.7872
INST_CMPRS_NAME = "DISCRETE COSINE TRANSFORMATION (DCT)"
INST_CMPRS_RATIO = 17.9862
INST_CMPRS_QUALITY = 0
INST_CMPRS_QUANTZ_TBL_ID = 0
INSTRUMENT_TEMPERATURE = 11.4379
LENS_TEMPERATURE = 9.195
MACROPIXEL_SIZE = 4
MISSING_FRAMES = 0
PIXEL_SUBSAMPLING_FLAG = N
SIGNAL_CHAIN_ID = 2
/* RADIOMETRIC DATA ELEMENTS */
BANDWIDTH = 81.0
CENTER_FILTER_WAVELENGTH = 955.5
RADIANCE_OFFSET = 0.188306
RADIANCE_SCALING_FACTOR = 0.00381043
REFLECTANCE_SCALING_FACTOR = 0.000449365
MEX:REFLECTANCE_OFFSET = 0.022207
/* IMAGE OBJECT DEFINITIONS */
OBJECT = IMAGE
  INTERCHANGE_FORMAT = BINARY
  LINES = 14417
  LINE_SAMPLES = 3028
  SAMPLE_TYPE = UNSIGNED_INTEGER
  SAMPLE_BITS = 8
  BANDS = 1
  BAND_STORAGE_TYPE = BAND_SEQUENTIAL
  MAXIMUM = 255
  MEAN = 86.0231
  MINIMUM = 1
  STANDARD_DEVIATION = 40.7849
END_OBJECT = IMAGE
/* MAP OBJECT DEFINITIONS */
OBJECT = IMAGE_MAP_PROJECTION
  ^DATA_SET_MAP_PROJECTION_CATALOG= "DSMAP.CAT"
  A_AXIS_RADIUS = 3396.0
  B_AXIS_RADIUS = 3396.0
  C_AXIS_RADIUS = 3396.0
  CENTER_LATITUDE = 0.0
  CENTER_LONGITUDE = 183.0
  COORDINATE_SYSTEM_NAME = PLANETOGRAPHIC
  COORDINATE_SYSTEM_TYPE = "BODY-FIXED ROTATING"
  EASTERNMOST_LONGITUDE = 186.732
  FIRST_STANDARD_PARALLEL = "N/A"
  LINE_FIRST_PIXEL = 1
  LINE_LAST_PIXEL = 14417
  LINE_PROJECTION_OFFSET = -27398.375
  MAP_PROJECTION_ROTATION = 0.0
  MAP_PROJECTION_TYPE = SINUSOIDAL
  MAP_RESOLUTION = 592.713803866667
  MAP_SCALE = 0.1
  MAXIMUM_LATITUDE = -46.2232
  MINIMUM_LATITUDE = -70.56610000000001
  POSITIVE_LONGITUDE_DIRECTION = EAST
  REFERENCE_LATITUDE = "N/A"
  REFERENCE_LONGITUDE = "N/A"
  SAMPLE_FIRST_PIXEL = 1
  SAMPLE_LAST_PIXEL = 3028
  SAMPLE_PROJECTION_OFFSET = 1309.875
  SECOND_STANDARD_PARALLEL = "N/A"
  WESTERNMOST_LONGITUDE = 177.059
END_OBJECT = IMAGE_MAP_PROJECTION
/* The JPEG2000 image data file associated with this label. */
OBJECT = COMPRESSED_FILE
  FILE_NAME = "H2619_0000_IR3.JP2"
  RECORD_TYPE = UNDEFINED
  FILE_RECORDS = UNK
  ENCODING_TYPE = "JP2"
  INTERCHANGE_FORMAT = BINARY
  UNCOMPRESSED_FILE_NAME = "H2619_0000_IR3.IMG"
  REQUIRED_STORAGE_BYTES = "43678900"
  ^DESCRIPTION = "JP2INFO.TXT"
END_OBJECT = COMPRESSED_FILE
END
