PDS_VERSION_ID = PDS3
/* FILE DATA ELEMENTS */
RECORD_TYPE = STREAM
/* POINTERS TO DATA OBJECTS */
^COMPRESSED_FILE = "H2619_0000_S13.JP2"
/* IDENTIFICATION DATA ELEMENTS */
DATA_SET_ID = "MEX-M-HRSC-5-REFDR-MAPPROJECTED-V3.0"
DATA_SET_NAME = "MARS EXPRESS HRSC MAP PROJECTED REFDR V3.0"
DETECTOR_ID = MEX_HRSC_S1
EVENT_TYPE = "MARS-REGIONAL-MAPPING-Im-Fl-Eo"
INSTRUMENT_HOST_ID = MEX
INSTRUMENT_HOST_NAME = "MARS EXPRESS"
INSTRUMENT_ID = HRSC
INSTRUMENT_NAME = "HIGH RESOLUTION STEREO CAMERA"
MISSION_NAME = "MARS EXPRESS"
MISSION_PHASE_NAME = ME_Phase_2
PROCESSING_LEVEL_ID = 3
PRODUCT_CREATION_TIME = 2016-04-08T01:44:18.000Z
PRODUCT_ID = "H2619_0000_S13.JP2"
RELEASE_ID = 0033
REVISION_ID = 0000
/* QUALITY DATA ELEMENTS */
DATA_QUALITY_ID = 2
DATA_QUALITY_DESC = "Data calculated based on photogrammetrically improved orbit and attitude data"
/* TIME DATA ELEMENTS */
SPACECRAFT_CLOCK_START_COUNT = "1/0086316961.07584"
SPACECRAFT_CLOCK_STOP_COUNT = "1/0086317575.34655"
START_TIME = 2006-01-26T00:56:06.907Z
STOP_TIME = 2006-01-26T01:02:30.052Z
/* ORBITAL DATA ELEMENTS */
ASCENDING_NODE_LONGITUDE = 173.32
MAXIMUM_RESOLUTION = 42.8
FOOTPRINT_POINT_LATITUDE = (-70.4628,-70.5371,-70.5988,-69.8995, -69.5021,-69.0981,-68.6965,-68.2901, -67.88,-67.4669,-67.0536,-66.6318, -66.2117,-65.5742,-64.9316,-64.5, -64.0627,-63.4018,-62.9607,-62.5072, -62.0536,-61.5972,-61.1368,-60.6719, -60.2042,-59.7308,-59.2539,-58.7721, -58.2858,-57.7945,-57.2989,-56.7979, -56.2917,-55.7804,-55.2629,-54.7399, -54.2111,-53.6766,-53.136,-52.589, -52.0359,-51.4761,-50.9092,-50.3349, -49.753,-49.1639,-48.5675,-47.9634, -47.3501,-46.7172,-46.3554,-46.317, -46.2657,-46.5464,-47.1781,-47.7913, -48.3947,-48.9896,-49.5776,-50.1584, -50.7319,-51.2979,-51.8569,-52.4091, -52.9551,-53.4946,-54.0278,-54.5554, -55.0773,-55.5935,-56.1035,-56.6081, -57.108,-57.6028,-58.0931,-58.5784, -59.0589,-59.5346,-60.0068,-60.4735, -60.936,-61.3947,-61.8484,-62.298, -62.7452,-63.1875,-63.6277,-64.0638, -64.4959,-65.1401,-65.776,-66.4006, -66.8167,-67.2287,-67.8401,-68.4473, -68.8466,-69.4429,-70.4234,-70.4628)
FOOTPRINT_POINT_LONGITUDE = (178.749,180.333,181.912,182.666, 182.824,182.978,183.125,183.268,183.406 ,183.539,183.668,183.792,183.912, 184.086,184.251,184.358,184.461,184.609 ,184.706,184.797,184.886,184.973, 185.058,185.14,185.221,185.299,185.375, 185.448,185.521,185.591,185.66,185.726, 185.79,185.853,185.915,185.974,186.032, 186.089,186.143,186.196,186.249,186.3, 186.35,186.4,186.447,186.494,186.539, 186.583,186.626,186.67,186.054,184.341, 183.002,182.237,182.206,182.174,182.139 ,182.099,182.059,182.016,181.971, 181.925,181.876,181.825,181.771,181.715 ,181.657,181.598,181.533,181.466, 181.398,181.327,181.253,181.176,181.096 ,181.012,180.925,180.836,180.743, 180.647,180.547,180.445,180.341,180.232 ,180.12,180.001,179.877,179.749,179.617 ,179.406,179.187,178.962,178.799, 178.631,178.37,178.091,177.898,177.592, 177.042,178.749)
ORBIT_NUMBER = 2619
ORBITAL_ECCENTRICITY = 0.571
ORBITAL_INCLINATION = 86.61
ORBITAL_SEMIMAJOR_AXIS = 8533.56
PERIAPSIS_ALTITUDE = 280.45
PERIAPSIS_ARGUMENT_ANGLE = 258.17
PERIAPSIS_TIME = 2006-01-26T00:47:29.000Z
SPACECRAFT_ORIENTATION = (0.0,-1.0,0.0)
^MEX_ORIENTATION_DESC = "MEX_ORIENTATION_DESC.TXT"
SPACECRAFT_POINTING_MODE = INERT
^MEX_POINTING_DESC = "MEX_POINTING_DESC.TXT"
RIGHT_ASCENSION = 298.852
DECLINATION = 49.36
OFFSET_ANGLE = -1e+32
SPACECRAFT_SOLAR_DISTANCE = 2.33801e+08
TARGET_NAME = MARS
/* CAMERA DATA ELEMENTS */
DETECTOR_TEMPERATURE = 17.5549
FOCAL_PLANE_TEMPERATURE = 8.7872
INST_CMPRS_NAME = "DISCRETE COSINE TRANSFORMATION (DCT)"
INST_CMPRS_RATIO = 11.5142
INST_CMPRS_QUALITY = 0
INST_CMPRS_QUANTZ_TBL_ID = 0
INSTRUMENT_TEMPERATURE = 11.4379
LENS_TEMPERATURE = 9.195
MACROPIXEL_SIZE = 2
MISSING_FRAMES = 1
PIXEL_SUBSAMPLING_FLAG = N
SIGNAL_CHAIN_ID = 1
/* RADIOMETRIC DATA ELEMENTS */
BANDWIDTH = 180.0
CENTER_FILTER_WAVELENGTH = 677.0
RADIANCE_OFFSET = 1.01994
RADIANCE_SCALING_FACTOR = 0.0151103
REFLECTANCE_SCALING_FACTOR = 0.000430935
MEX:REFLECTANCE_OFFSET = 0.0290881
/* IMAGE OBJECT DEFINITIONS */
OBJECT = IMAGE
  INTERCHANGE_FORMAT = BINARY
  LINES = 28833
  LINE_SAMPLES = 6055
  SAMPLE_TYPE = UNSIGNED_INTEGER
  SAMPLE_BITS = 8
  BANDS = 1
  BAND_STORAGE_TYPE = BAND_SEQUENTIAL
  MAXIMUM = 255
  MEAN = 89.6125
  MINIMUM = 1
  STANDARD_DEVIATION = 42.3155
END_OBJECT = IMAGE
/* MAP OBJECT DEFINITIONS */
OBJECT = IMAGE_MAP_PROJECTION
  ^DATA_SET_MAP_PROJECTION_CATALOG= "DSMAP.CAT"
  A_AXIS_RADIUS = 3396.0
  B_AXIS_RADIUS = 3396.0
  C_AXIS_RADIUS = 3396.0
  CENTER_LATITUDE = 0.0
  CENTER_LONGITUDE = 183.0
  COORDINATE_SYSTEM_NAME = PLANETOGRAPHIC
  COORDINATE_SYSTEM_TYPE = "BODY-FIXED ROTATING"
  EASTERNMOST_LONGITUDE = 186.67
  FIRST_STANDARD_PARALLEL = "N/A"
  LINE_FIRST_PIXEL = 1
  LINE_LAST_PIXEL = 28833
  LINE_PROJECTION_OFFSET = -54796.25
  MAP_PROJECTION_ROTATION = 0.0
  MAP_PROJECTION_TYPE = SINUSOIDAL
  MAP_RESOLUTION = 1185.42760773333
  MAP_SCALE = 0.05
  MAXIMUM_LATITUDE = -46.2657
  MINIMUM_LATITUDE = -70.5988
  POSITIVE_LONGITUDE_DIRECTION = EAST
  REFERENCE_LATITUDE = "N/A"
  REFERENCE_LONGITUDE = "N/A"
  SAMPLE_FIRST_PIXEL = 1
  SAMPLE_LAST_PIXEL = 6055
  SAMPLE_PROJECTION_OFFSET = 2620.25
  SECOND_STANDARD_PARALLEL = "N/A"
  WESTERNMOST_LONGITUDE = 177.042
END_OBJECT = IMAGE_MAP_PROJECTION
/* The JPEG2000 image data file associated with this label. */
OBJECT = COMPRESSED_FILE
  FILE_NAME = "H2619_0000_S13.JP2"
  RECORD_TYPE = UNDEFINED
  FILE_RECORDS = UNK
  ENCODING_TYPE = "JP2"
  INTERCHANGE_FORMAT = BINARY
  UNCOMPRESSED_FILE_NAME = "H2619_0000_S13.IMG"
  REQUIRED_STORAGE_BYTES = "174614090"
  ^DESCRIPTION = "JP2INFO.TXT"
END_OBJECT = COMPRESSED_FILE
END
