PDS_VERSION_ID = PDS3
/* FILE DATA ELEMENTS */
RECORD_TYPE = STREAM
/* POINTERS TO DATA OBJECTS */
^COMPRESSED_FILE = "H2620_0000_IR3.JP2"
/* IDENTIFICATION DATA ELEMENTS */
DATA_SET_ID = "MEX-M-HRSC-5-REFDR-MAPPROJECTED-V3.0"
DATA_SET_NAME = "MARS EXPRESS HRSC MAP PROJECTED REFDR V3.0"
DETECTOR_ID = MEX_HRSC_IR
EVENT_TYPE = "MARS-REGIONAL-MAPPING-Im-Gl-Mw"
INSTRUMENT_HOST_ID = MEX
INSTRUMENT_HOST_NAME = "MARS EXPRESS"
INSTRUMENT_ID = HRSC
INSTRUMENT_NAME = "HIGH RESOLUTION STEREO CAMERA"
MISSION_NAME = "MARS EXPRESS"
MISSION_PHASE_NAME = ME_Phase_2
PROCESSING_LEVEL_ID = 3
PRODUCT_CREATION_TIME = 2016-04-08T01:44:18.000Z
PRODUCT_ID = "H2620_0000_IR3.JP2"
RELEASE_ID = 0033
REVISION_ID = 0000
/* QUALITY DATA ELEMENTS */
DATA_QUALITY_ID = 2
DATA_QUALITY_DESC = "Data calculated based on photogrammetrically improved orbit and attitude data"
/* TIME DATA ELEMENTS */
SPACECRAFT_CLOCK_START_COUNT = "1/0086341067.08428"
SPACECRAFT_CLOCK_STOP_COUNT = "1/0086341704.65304"
START_TIME = 2006-01-26T07:37:59.975Z
STOP_TIME = 2006-01-26T07:44:36.098Z
/* ORBITAL DATA ELEMENTS */
ASCENDING_NODE_LONGITUDE = 173.3
MAXIMUM_RESOLUTION = 74.5
FOOTPRINT_POINT_LATITUDE = (-71.0947,-71.219,-70.626,-69.6988, -69.1343,-68.5557,-68.1689,-67.7763, -67.3838,-66.9876,-66.585,-66.1738, -65.5584,-65.1403,-64.5005,-64.0749, -63.6399,-63.202,-62.7586,-62.3084, -61.8534,-61.395,-60.9305,-60.4615, -59.9858,-59.5037,-59.0175,-58.5295, -58.0299,-57.5243,-57.0132,-56.4957, -55.971,-55.4406,-54.9023,-54.3587, -53.8072,-53.2493,-52.6803,-52.1055, -51.5214,-50.6223,-50.0171,-49.4096, -48.7827,-48.1498,-47.5121,-47.1555, -47.1365,-47.1189,-47.091,-47.0601, -47.3607,-47.9951,-48.6209,-49.2365, -49.8457,-50.4482,-51.0471,-51.636, -52.2176,-52.7844,-53.3452,-53.904, -54.4469,-54.9869,-55.5173,-56.0421, -56.5625,-57.0755,-57.5841,-58.081, -58.5729,-59.0593,-59.5414,-60.0204, -60.4987,-60.9593,-61.4099,-61.8637, -62.315,-62.7613,-63.2007,-63.6345, -64.0633,-64.6987,-65.1173,-65.5304, -65.9331,-66.346,-66.7466,-67.1441, -67.5361,-67.9268,-68.3092,-68.8712, -69.2513,-70.1711,-70.8953,-71.0947)
FOOTPRINT_POINT_LONGITUDE = (82.0273,84.4761,85.308,85.679,85.8822, 86.0862,86.2141,86.3375,86.4561,86.5674 ,86.6814,86.7954,86.9505,87.054,87.208, 87.2997,87.3939,87.4846,87.5729,87.6602 ,87.7455,87.8274,87.9071,87.984,88.0601 ,88.1349,88.2065,88.2729,88.3421, 88.4092,88.474,88.537,88.5989,88.6583, 88.7166,88.7723,88.827,88.8795,88.9333, 88.984,89.0339,89.1114,89.1586,89.1998, 89.2467,89.2898,89.3294,88.5352,87.5156 ,86.9043,86.0893,85.3971,84.9662, 84.9451,84.9213,84.8948,84.8661,84.8363 ,84.8057,84.7715,84.7354,84.6933, 84.6492,84.605,84.5547,84.5034,84.4483, 84.391,84.332,84.2699,84.2061,84.1368, 84.065,83.9905,83.9136,83.8355,83.757, 83.6696,83.5761,83.4831,83.3893,83.292, 83.1895,83.0834,82.9744,82.8035,82.6841 ,82.5617,82.4315,82.3038,82.1694, 82.0285,81.8854,81.7355,81.5816,81.3363 ,81.171,80.7251,80.3444,82.0273)
ORBIT_NUMBER = 2620
ORBITAL_ECCENTRICITY = 0.571
ORBITAL_INCLINATION = 86.62
ORBITAL_SEMIMAJOR_AXIS = 8531.49
PERIAPSIS_ALTITUDE = 279.56
PERIAPSIS_ARGUMENT_ANGLE = 258.0
PERIAPSIS_TIME = 2006-01-26T07:30:42.000Z
SPACECRAFT_ORIENTATION = (0.0,-1.0,0.0)
^MEX_ORIENTATION_DESC = "MEX_ORIENTATION_DESC.TXT"
SPACECRAFT_POINTING_MODE = NADIR
^MEX_POINTING_DESC = "MEX_POINTING_DESC.TXT"
RIGHT_ASCENSION = -1e+32
DECLINATION = -1e+32
OFFSET_ANGLE = -1e+32
SPACECRAFT_SOLAR_DISTANCE = 2.33852e+08
TARGET_NAME = MARS
/* CAMERA DATA ELEMENTS */
DETECTOR_TEMPERATURE = 17.5549
FOCAL_PLANE_TEMPERATURE = 8.7872
INST_CMPRS_NAME = "DISCRETE COSINE TRANSFORMATION (DCT)"
INST_CMPRS_RATIO = 17.4757
INST_CMPRS_QUALITY = 0
INST_CMPRS_QUANTZ_TBL_ID = 0
INSTRUMENT_TEMPERATURE = 11.4379
LENS_TEMPERATURE = 8.9911
MACROPIXEL_SIZE = 4
MISSING_FRAMES = 0
PIXEL_SUBSAMPLING_FLAG = N
SIGNAL_CHAIN_ID = 2
/* RADIOMETRIC DATA ELEMENTS */
BANDWIDTH = 81.0
CENTER_FILTER_WAVELENGTH = 955.5
RADIANCE_OFFSET = 0.205142
RADIANCE_SCALING_FACTOR = 0.00392957
REFLECTANCE_SCALING_FACTOR = 0.000463618
MEX:REFLECTANCE_OFFSET = 0.0242031
/* IMAGE OBJECT DEFINITIONS */
OBJECT = IMAGE
  INTERCHANGE_FORMAT = BINARY
  LINES = 14270
  LINE_SAMPLES = 2545
  SAMPLE_TYPE = UNSIGNED_INTEGER
  SAMPLE_BITS = 8
  BANDS = 1
  BAND_STORAGE_TYPE = BAND_SEQUENTIAL
  MAXIMUM = 255
  MEAN = 110.099
  MINIMUM = 1
  STANDARD_DEVIATION = 47.3682
END_OBJECT = IMAGE
/* MAP OBJECT DEFINITIONS */
OBJECT = IMAGE_MAP_PROJECTION
  ^DATA_SET_MAP_PROJECTION_CATALOG= "DSMAP.CAT"
  A_AXIS_RADIUS = 3396.0
  B_AXIS_RADIUS = 3396.0
  C_AXIS_RADIUS = 3396.0
  CENTER_LATITUDE = 0.0
  CENTER_LONGITUDE = 86.0
  COORDINATE_SYSTEM_NAME = PLANETOGRAPHIC
  COORDINATE_SYSTEM_TYPE = "BODY-FIXED ROTATING"
  EASTERNMOST_LONGITUDE = 89.32940000000001
  FIRST_STANDARD_PARALLEL = "N/A"
  LINE_FIRST_PIXEL = 1
  LINE_LAST_PIXEL = 14270
  LINE_PROJECTION_OFFSET = -27905.875
  MAP_PROJECTION_ROTATION = 0.0
  MAP_PROJECTION_TYPE = SINUSOIDAL
  MAP_RESOLUTION = 592.713803866667
  MAP_SCALE = 0.1
  MAXIMUM_LATITUDE = -47.0601
  MINIMUM_LATITUDE = -71.21899999999999
  POSITIVE_LONGITUDE_DIRECTION = EAST
  REFERENCE_LATITUDE = "N/A"
  REFERENCE_LONGITUDE = "N/A"
  SAMPLE_FIRST_PIXEL = 1
  SAMPLE_LAST_PIXEL = 2545
  SAMPLE_PROJECTION_OFFSET = 1111.625
  SECOND_STANDARD_PARALLEL = "N/A"
  WESTERNMOST_LONGITUDE = 80.34439999999999
END_OBJECT = IMAGE_MAP_PROJECTION
/* The JPEG2000 image data file associated with this label. */
OBJECT = COMPRESSED_FILE
  FILE_NAME = "H2620_0000_IR3.JP2"
  RECORD_TYPE = UNDEFINED
  FILE_RECORDS = UNK
  ENCODING_TYPE = "JP2"
  INTERCHANGE_FORMAT = BINARY
  UNCOMPRESSED_FILE_NAME = "H2620_0000_IR3.IMG"
  REQUIRED_STORAGE_BYTES = "36337510"
  ^DESCRIPTION = "JP2INFO.TXT"
END_OBJECT = COMPRESSED_FILE
END
