PDS_VERSION_ID = PDS3
/* FILE DATA ELEMENTS */
RECORD_TYPE = STREAM
/* POINTERS TO DATA OBJECTS */
^COMPRESSED_FILE = "H2620_0000_S23.JP2"
/* IDENTIFICATION DATA ELEMENTS */
DATA_SET_ID = "MEX-M-HRSC-5-REFDR-MAPPROJECTED-V3.0"
DATA_SET_NAME = "MARS EXPRESS HRSC MAP PROJECTED REFDR V3.0"
DETECTOR_ID = MEX_HRSC_S2
EVENT_TYPE = "MARS-REGIONAL-MAPPING-Im-Gl-Mw"
INSTRUMENT_HOST_ID = MEX
INSTRUMENT_HOST_NAME = "MARS EXPRESS"
INSTRUMENT_ID = HRSC
INSTRUMENT_NAME = "HIGH RESOLUTION STEREO CAMERA"
MISSION_NAME = "MARS EXPRESS"
MISSION_PHASE_NAME = ME_Phase_2
PROCESSING_LEVEL_ID = 3
PRODUCT_CREATION_TIME = 2016-04-08T01:44:18.000Z
PRODUCT_ID = "H2620_0000_S23.JP2"
RELEASE_ID = 0033
REVISION_ID = 0000
/* QUALITY DATA ELEMENTS */
DATA_QUALITY_ID = 2
DATA_QUALITY_DESC = "Data calculated based on photogrammetrically improved orbit and attitude data"
/* TIME DATA ELEMENTS */
SPACECRAFT_CLOCK_START_COUNT = "1/0086341067.08428"
SPACECRAFT_CLOCK_STOP_COUNT = "1/0086341704.65304"
START_TIME = 2006-01-26T07:39:27.158Z
STOP_TIME = 2006-01-26T07:48:28.886Z
/* ORBITAL DATA ELEMENTS */
ASCENDING_NODE_LONGITUDE = 173.3
MAXIMUM_RESOLUTION = 44.2
FOOTPRINT_POINT_LATITUDE = (-70.8736,-71.0051,-70.773,-70.2193, -69.4536,-68.6846,-68.2925,-67.8954, -67.4947,-67.0838,-66.4722,-66.0632, -65.6384,-65.218,-64.7892,-64.3618, -63.9285,-63.4893,-63.0435,-62.5939, -62.1436,-61.6887,-61.2268,-60.7602, -60.2856,-59.8128,-59.3291,-58.8403, -58.0863,-57.5888,-57.0787,-56.5679, -56.0493,-55.527,-54.9966,-54.4612, -53.9182,-53.0923,-52.5407,-51.9774, -51.405,-50.8312,-50.265,-49.6661, -49.0818,-48.4831,-47.876,-47.2015, -47.2082,-47.2102,-47.2068,-47.1956, -47.1883,-47.4806,-48.0839,-48.6821, -49.2746,-49.8599,-50.4378,-51.2928, -52.1163,-52.6655,-53.2091,-53.7517, -54.2853,-54.8157,-55.3384,-55.8571, -56.3692,-56.8759,-57.3782,-57.8727, -58.3776,-58.8657,-59.3475,-59.8219, -60.2834,-60.7592,-61.4523,-61.9076, -62.3526,-62.7994,-63.2364,-63.6736, -64.1025,-64.5292,-64.9539,-65.3725, -65.787,-66.1981,-66.6038,-67.0066, -67.4053,-67.7998,-68.1898,-68.5844, -68.972,-69.7261,-70.8347,-70.8736)
FOOTPRINT_POINT_LONGITUDE = (81.7154,84.4179,85.7006,85.9389, 86.2329,86.5145,86.6494,86.7793,86.9055 ,87.0242,87.2044,87.3224,87.4309, 87.5414,87.6468,87.7527,87.8553,87.955, 88.051,88.1453,88.2396,88.3316,88.4205, 88.5081,88.592,88.6775,88.7589,88.8382, 88.957,89.0355,89.1087,89.1829,89.2552, 89.3272,89.3971,89.4662,89.5337,89.6331 ,89.7015,89.7665,89.8296,89.8943, 89.9657,90.0234,90.091,90.1546,90.2171, 89.9326,88.9313,87.6397,86.7001,85.6422 ,85.0536,84.2062,84.2028,84.1958, 84.1852,84.1718,84.1562,84.1272,84.102, 84.077,84.0488,84.0146,83.9795,83.9396, 83.8982,83.8526,83.8045,83.7532,83.6984 ,83.642,83.5781,83.5121,83.4438,83.374, 83.308,83.2217,83.0962,83.0083,82.9223, 82.8267,82.7324,82.6298,82.5271,82.4182 ,82.3027,82.1851,82.063,81.9357,81.8053 ,81.6689,81.5285,81.3824,81.232,81.0654 ,80.8978,80.557,79.9936,81.7154)
ORBIT_NUMBER = 2620
ORBITAL_ECCENTRICITY = 0.571
ORBITAL_INCLINATION = 86.62
ORBITAL_SEMIMAJOR_AXIS = 8531.49
PERIAPSIS_ALTITUDE = 279.56
PERIAPSIS_ARGUMENT_ANGLE = 258.0
PERIAPSIS_TIME = 2006-01-26T07:30:42.000Z
SPACECRAFT_ORIENTATION = (0.0,-1.0,0.0)
^MEX_ORIENTATION_DESC = "MEX_ORIENTATION_DESC.TXT"
SPACECRAFT_POINTING_MODE = NADIR
^MEX_POINTING_DESC = "MEX_POINTING_DESC.TXT"
RIGHT_ASCENSION = -1e+32
DECLINATION = -1e+32
OFFSET_ANGLE = -1e+32
SPACECRAFT_SOLAR_DISTANCE = 2.33852e+08
TARGET_NAME = MARS
/* CAMERA DATA ELEMENTS */
DETECTOR_TEMPERATURE = 19.39
FOCAL_PLANE_TEMPERATURE = 8.7872
INST_CMPRS_NAME = "DISCRETE COSINE TRANSFORMATION (DCT)"
INST_CMPRS_RATIO = 13.5925
INST_CMPRS_QUALITY = 0
INST_CMPRS_QUANTZ_TBL_ID = 0
INSTRUMENT_TEMPERATURE = 11.4379
LENS_TEMPERATURE = 8.9911
MACROPIXEL_SIZE = 2
MISSING_FRAMES = 2
PIXEL_SUBSAMPLING_FLAG = N
SIGNAL_CHAIN_ID = 1
/* RADIOMETRIC DATA ELEMENTS */
BANDWIDTH = 178.0
CENTER_FILTER_WAVELENGTH = 679.0
RADIANCE_OFFSET = 0.921585
RADIANCE_SCALING_FACTOR = 0.0155405
REFLECTANCE_SCALING_FACTOR = 0.00045007
MEX:REFLECTANCE_OFFSET = 0.0266902
/* IMAGE OBJECT DEFINITIONS */
OBJECT = IMAGE
  INTERCHANGE_FORMAT = BINARY
  LINES = 28540
  LINE_SAMPLES = 5089
  SAMPLE_TYPE = UNSIGNED_INTEGER
  SAMPLE_BITS = 8
  BANDS = 1
  BAND_STORAGE_TYPE = BAND_SEQUENTIAL
  MAXIMUM = 255
  MEAN = 118.328
  MINIMUM = 1
  STANDARD_DEVIATION = 51.5631
END_OBJECT = IMAGE
/* MAP OBJECT DEFINITIONS */
OBJECT = IMAGE_MAP_PROJECTION
  ^DATA_SET_MAP_PROJECTION_CATALOG= "DSMAP.CAT"
  A_AXIS_RADIUS = 3396.0
  B_AXIS_RADIUS = 3396.0
  C_AXIS_RADIUS = 3396.0
  CENTER_LATITUDE = 0.0
  CENTER_LONGITUDE = 86.0
  COORDINATE_SYSTEM_NAME = PLANETOGRAPHIC
  COORDINATE_SYSTEM_TYPE = "BODY-FIXED ROTATING"
  EASTERNMOST_LONGITUDE = 90.2171
  FIRST_STANDARD_PARALLEL = "N/A"
  LINE_FIRST_PIXEL = 1
  LINE_LAST_PIXEL = 28540
  LINE_PROJECTION_OFFSET = -55811.25
  MAP_PROJECTION_ROTATION = 0.0
  MAP_PROJECTION_TYPE = SINUSOIDAL
  MAP_RESOLUTION = 1185.42760773333
  MAP_SCALE = 0.05
  MAXIMUM_LATITUDE = -47.1883
  MINIMUM_LATITUDE = -71.0051
  POSITIVE_LONGITUDE_DIRECTION = EAST
  REFERENCE_LATITUDE = "N/A"
  REFERENCE_LONGITUDE = "N/A"
  SAMPLE_FIRST_PIXEL = 1
  SAMPLE_LAST_PIXEL = 5089
  SAMPLE_PROJECTION_OFFSET = 2223.75
  SECOND_STANDARD_PARALLEL = "N/A"
  WESTERNMOST_LONGITUDE = 79.9936
END_OBJECT = IMAGE_MAP_PROJECTION
/* The JPEG2000 image data file associated with this label. */
OBJECT = COMPRESSED_FILE
  FILE_NAME = "H2620_0000_S23.JP2"
  RECORD_TYPE = UNDEFINED
  FILE_RECORDS = UNK
  ENCODING_TYPE = "JP2"
  INTERCHANGE_FORMAT = BINARY
  UNCOMPRESSED_FILE_NAME = "H2620_0000_S23.IMG"
  REQUIRED_STORAGE_BYTES = "145265505"
  ^DESCRIPTION = "JP2INFO.TXT"
END_OBJECT = COMPRESSED_FILE
END
