PDS_VERSION_ID = PDS3
/* FILE DATA ELEMENTS */
RECORD_TYPE = STREAM
/* POINTERS TO DATA OBJECTS */
^COMPRESSED_FILE = "H2622_0000_S23.JP2"
/* IDENTIFICATION DATA ELEMENTS */
DATA_SET_ID = "MEX-M-HRSC-5-REFDR-MAPPROJECTED-V3.0"
DATA_SET_NAME = "MARS EXPRESS HRSC MAP PROJECTED REFDR V3.0"
DETECTOR_ID = MEX_HRSC_S2
EVENT_TYPE = "MARS-REGIONAL-MAPPING-Im-Eo"
INSTRUMENT_HOST_ID = MEX
INSTRUMENT_HOST_NAME = "MARS EXPRESS"
INSTRUMENT_ID = HRSC
INSTRUMENT_NAME = "HIGH RESOLUTION STEREO CAMERA"
MISSION_NAME = "MARS EXPRESS"
MISSION_PHASE_NAME = ME_Phase_2
PROCESSING_LEVEL_ID = 3
PRODUCT_CREATION_TIME = 2016-04-08T01:44:18.000Z
PRODUCT_ID = "H2622_0000_S23.JP2"
RELEASE_ID = 0033
REVISION_ID = 0000
/* QUALITY DATA ELEMENTS */
DATA_QUALITY_ID = 1
DATA_QUALITY_DESC = "Data calculated based on original SPICE kernels"
/* TIME DATA ELEMENTS */
SPACECRAFT_CLOCK_START_COUNT = "1/0086389497.07283"
SPACECRAFT_CLOCK_STOP_COUNT = "1/0086389832.00021"
START_TIME = 2006-01-26T21:06:49.297Z
STOP_TIME = 2006-01-26T21:10:35.831Z
/* ORBITAL DATA ELEMENTS */
ASCENDING_NODE_LONGITUDE = 173.27
MAXIMUM_RESOLUTION = 49.2
FOOTPRINT_POINT_LATITUDE = (-67.8482,-67.8831,-67.9372,-67.9768, -68.0131,-68.0461,-68.1801,-67.8965, -67.5138,-67.03,-66.6398,-66.344, -65.8529,-65.6535,-65.4505,-65.2438, -65.0403,-64.8365,-64.6309,-64.4256, -64.2181,-63.9077,-63.6947,-63.3757, -63.1641,-62.9501,-62.6275,-62.4127, -62.1947,-61.9773,-61.7571,-61.5376, -61.3159,-61.1025,-60.8805,-60.6495, -60.3088,-60.0801,-59.8513,-59.5077, -59.2815,-59.0441,-58.8108,-58.5741, -58.338,-57.9904,-57.7546,-57.5141, -57.4452,-57.4359,-57.4148,-57.3969, -57.3771,-57.3646,-57.3457,-57.3186, -57.297,-57.281,-57.5196,-57.7533, -58.0002,-58.2355,-58.4693,-58.7016, -58.9282,-59.1576,-59.502,-59.845, -60.0696,-60.2944,-60.5174,-60.7401, -60.961,-61.2904,-61.5141,-61.8339, -62.0494,-62.371,-62.5845,-62.7962, -63.1128,-63.3227,-63.5303,-63.7381, -63.9435,-64.1495,-64.3534,-64.5581, -64.76,-64.9624,-65.1627,-65.4624, -65.6605,-65.8588,-66.2493,-66.54, -66.9253,-67.2232,-67.5085,-67.8482)
FOOTPRINT_POINT_LONGITUDE = (245.016,245.621,246.632,247.444, 248.257,249.073,250.169,250.263,250.383 ,250.53,250.645,250.729,250.869,250.922 ,250.974,251.023,251.075,251.126, 251.176,251.226,251.276,251.349,251.395 ,251.465,251.511,251.557,251.624,251.67 ,251.713,251.757,251.8,251.843,251.886, 251.933,251.975,252.013,252.073,252.112 ,252.152,252.211,252.253,252.289, 252.327,252.364,252.402,252.462,252.5, 252.537,252.074,251.6,251.072,250.548, 249.765,249.347,248.772,248.041,247.519 ,247.135,247.108,247.083,247.047, 247.017,246.987,246.957,246.929,246.897 ,246.847,246.793,246.759,246.723, 246.686,246.649,246.61,246.552,246.507, 246.45,246.408,246.343,246.298,246.253, 246.183,246.136,246.088,246.039,245.989 ,245.938,245.886,245.833,245.779, 245.724,245.668,245.582,245.523,245.463 ,245.343,245.249,245.12,245.007,244.903 ,245.016)
ORBIT_NUMBER = 2622
ORBITAL_ECCENTRICITY = 0.571
ORBITAL_INCLINATION = 86.62
ORBITAL_SEMIMAJOR_AXIS = 8534.1
PERIAPSIS_ALTITUDE = 279.98
PERIAPSIS_ARGUMENT_ANGLE = 257.64
PERIAPSIS_TIME = 2006-01-26T20:57:01.000Z
SPACECRAFT_ORIENTATION = (0.0,-1.0,0.0)
^MEX_ORIENTATION_DESC = "MEX_ORIENTATION_DESC.TXT"
SPACECRAFT_POINTING_MODE = NADIR
^MEX_POINTING_DESC = "MEX_POINTING_DESC.TXT"
RIGHT_ASCENSION = -1e+32
DECLINATION = -1e+32
OFFSET_ANGLE = -1e+32
SPACECRAFT_SOLAR_DISTANCE = 2.33954e+08
TARGET_NAME = MARS
/* CAMERA DATA ELEMENTS */
DETECTOR_TEMPERATURE = 18.7783
FOCAL_PLANE_TEMPERATURE = 8.5833
INST_CMPRS_NAME = "DISCRETE COSINE TRANSFORMATION (DCT)"
INST_CMPRS_RATIO = 14.6395
INST_CMPRS_QUALITY = 0
INST_CMPRS_QUANTZ_TBL_ID = 0
INSTRUMENT_TEMPERATURE = 11.234
LENS_TEMPERATURE = 9.195
MACROPIXEL_SIZE = 2
MISSING_FRAMES = 0
PIXEL_SUBSAMPLING_FLAG = N
SIGNAL_CHAIN_ID = 1
/* RADIOMETRIC DATA ELEMENTS */
BANDWIDTH = 178.0
CENTER_FILTER_WAVELENGTH = 679.0
RADIANCE_OFFSET = 1.09354
RADIANCE_SCALING_FACTOR = 0.00912662
REFLECTANCE_SCALING_FACTOR = 0.000264549
MEX:REFLECTANCE_OFFSET = 0.0316981
/* IMAGE OBJECT DEFINITIONS */
OBJECT = IMAGE
  INTERCHANGE_FORMAT = BINARY
  LINES = 12933
  LINE_SAMPLES = 3740
  SAMPLE_TYPE = UNSIGNED_INTEGER
  SAMPLE_BITS = 8
  BANDS = 1
  BAND_STORAGE_TYPE = BAND_SEQUENTIAL
  MAXIMUM = 255
  MEAN = 85.755
  MINIMUM = 1
  STANDARD_DEVIATION = 27.0175
END_OBJECT = IMAGE
/* MAP OBJECT DEFINITIONS */
OBJECT = IMAGE_MAP_PROJECTION
  ^DATA_SET_MAP_PROJECTION_CATALOG= "DSMAP.CAT"
  A_AXIS_RADIUS = 3396.0
  B_AXIS_RADIUS = 3396.0
  C_AXIS_RADIUS = 3396.0
  CENTER_LATITUDE = 0.0
  CENTER_LONGITUDE = 249.0
  COORDINATE_SYSTEM_NAME = PLANETOGRAPHIC
  COORDINATE_SYSTEM_TYPE = "BODY-FIXED ROTATING"
  EASTERNMOST_LONGITUDE = 252.537
  FIRST_STANDARD_PARALLEL = "N/A"
  LINE_FIRST_PIXEL = 1
  LINE_LAST_PIXEL = 12933
  LINE_PROJECTION_OFFSET = -67904.25
  MAP_PROJECTION_ROTATION = 0.0
  MAP_PROJECTION_TYPE = SINUSOIDAL
  MAP_RESOLUTION = 1185.42760773333
  MAP_SCALE = 0.05
  MAXIMUM_LATITUDE = -57.281
  MINIMUM_LATITUDE = -68.1801
  POSITIVE_LONGITUDE_DIRECTION = EAST
  REFERENCE_LATITUDE = "N/A"
  REFERENCE_LONGITUDE = "N/A"
  SAMPLE_FIRST_PIXEL = 1
  SAMPLE_LAST_PIXEL = 3740
  SAMPLE_PROJECTION_OFFSET = 1765.25
  SECOND_STANDARD_PARALLEL = "N/A"
  WESTERNMOST_LONGITUDE = 244.903
END_OBJECT = IMAGE_MAP_PROJECTION
/* The JPEG2000 image data file associated with this label. */
OBJECT = COMPRESSED_FILE
  FILE_NAME = "H2622_0000_S23.JP2"
  RECORD_TYPE = UNDEFINED
  FILE_RECORDS = UNK
  ENCODING_TYPE = "JP2"
  INTERCHANGE_FORMAT = BINARY
  UNCOMPRESSED_FILE_NAME = "H2622_0000_S23.IMG"
  REQUIRED_STORAGE_BYTES = "48391860"
  ^DESCRIPTION = "JP2INFO.TXT"
END_OBJECT = COMPRESSED_FILE
END
