PDS_VERSION_ID = PDS3
/* FILE DATA ELEMENTS */
RECORD_TYPE = STREAM
/* POINTERS TO DATA OBJECTS */
^COMPRESSED_FILE = "H2625_0000_P13.JP2"
/* IDENTIFICATION DATA ELEMENTS */
DATA_SET_ID = "MEX-M-HRSC-5-REFDR-MAPPROJECTED-V3.0"
DATA_SET_NAME = "MARS EXPRESS HRSC MAP PROJECTED REFDR V3.0"
DETECTOR_ID = MEX_HRSC_P1
EVENT_TYPE = "MARS-REGIONAL-MAPPING-Im-Fl-Mw"
INSTRUMENT_HOST_ID = MEX
INSTRUMENT_HOST_NAME = "MARS EXPRESS"
INSTRUMENT_ID = HRSC
INSTRUMENT_NAME = "HIGH RESOLUTION STEREO CAMERA"
MISSION_NAME = "MARS EXPRESS"
MISSION_PHASE_NAME = ME_Phase_2
PROCESSING_LEVEL_ID = 3
PRODUCT_CREATION_TIME = 2016-04-08T01:44:18.000Z
PRODUCT_ID = "H2625_0000_P13.JP2"
RELEASE_ID = 0033
REVISION_ID = 0000
/* QUALITY DATA ELEMENTS */
DATA_QUALITY_ID = 2
DATA_QUALITY_DESC = "Data calculated based on photogrammetrically improved orbit and attitude data"
/* TIME DATA ELEMENTS */
SPACECRAFT_CLOCK_START_COUNT = "1/0086462318.09068"
SPACECRAFT_CLOCK_STOP_COUNT = "1/0086463177.30513"
START_TIME = 2006-01-27T17:19:09.381Z
STOP_TIME = 2006-01-27T17:25:32.456Z
/* ORBITAL DATA ELEMENTS */
ASCENDING_NODE_LONGITUDE = 173.2
MAXIMUM_RESOLUTION = 61.9
FOOTPRINT_POINT_LATITUDE = (-53.2614,-53.3067,-53.3328,-53.3652, -53.3823,-53.1689,-52.5119,-51.8458, -51.1676,-50.48,-50.1326,-49.7816, -49.4272,-49.0703,-48.7105,-48.3471, -47.9812,-47.6124,-47.2408,-46.8656, -46.487,-46.1052,-45.7117,-45.3238, -44.9327,-44.5382,-44.1408,-43.5398, -42.9318,-42.5252,-42.1044,-41.6844, -41.2622,-40.8347,-40.403,-39.9678, -39.5289,-38.8675,-38.424,-37.9716, -37.514,-37.0522,-36.5915,-36.1339, -35.6784,-35.2266,-34.7777,-34.11, -33.6618,-33.4058,-33.4189,-33.424, -33.4235,-33.419,-33.4129,-33.4037, -33.3868,-34.0465,-34.4878,-34.9338, -35.3797,-35.8285,-36.2715,-36.7242, -37.1728,-37.6333,-38.3111,-38.9765, -39.6397,-40.2887,-40.7162,-41.138, -41.5612,-41.9719,-42.3833,-42.7927, -43.1979,-43.5986,-44.0009,-44.3899, -44.7821,-45.17,-45.5528,-45.943, -46.3208,-46.697,-47.0717,-47.441, -47.8075,-48.1715,-48.5336,-48.8915, -49.2464,-49.5981,-50.2938,-50.9776, -51.6534,-52.3167,-52.9702,-53.2614)
FOOTPRINT_POINT_LONGITUDE = (313.497,314.414,315.041,316.001, 316.671,317.594,317.654,317.711,317.767 ,317.82,317.845,317.871,317.896,317.921 ,317.945,317.969,317.993,318.016, 318.038,318.06,318.082,318.104,318.125, 318.145,318.165,318.184,318.203,318.228 ,318.252,318.266,318.285,318.302, 318.317,318.332,318.348,318.362,318.376 ,318.393,318.403,318.414,318.426, 318.439,318.451,318.462,318.473,318.482 ,318.49,318.5,318.509,317.6,316.79, 316.183,315.475,314.918,314.463,314.006 ,313.278,313.311,313.331,313.352, 313.371,313.39,313.403,313.42,313.432, 313.449,313.469,313.484,313.501,313.512 ,313.518,313.522,313.528,313.528, 313.529,313.53,313.53,313.528,313.528, 313.522,313.518,313.513,313.506,313.499 ,313.49,313.482,313.474,313.463,313.452 ,313.44,313.428,313.414,313.4,313.384, 313.35,313.312,313.272,313.227,313.179, 313.497)
ORBIT_NUMBER = 2625
ORBITAL_ECCENTRICITY = 0.571
ORBITAL_INCLINATION = 86.62
ORBITAL_SEMIMAJOR_AXIS = 8534.15
PERIAPSIS_ALTITUDE = 281.08
PERIAPSIS_ARGUMENT_ANGLE = 257.15
PERIAPSIS_TIME = 2006-01-27T17:06:35.000Z
SPACECRAFT_ORIENTATION = (0.0,-1.0,0.0)
^MEX_ORIENTATION_DESC = "MEX_ORIENTATION_DESC.TXT"
SPACECRAFT_POINTING_MODE = NADIR
^MEX_POINTING_DESC = "MEX_POINTING_DESC.TXT"
RIGHT_ASCENSION = -1e+32
DECLINATION = -1e+32
OFFSET_ANGLE = -1e+32
SPACECRAFT_SOLAR_DISTANCE = 2.34107e+08
TARGET_NAME = MARS
/* CAMERA DATA ELEMENTS */
DETECTOR_TEMPERATURE = 17.351
FOCAL_PLANE_TEMPERATURE = 8.5833
INST_CMPRS_NAME = "DISCRETE COSINE TRANSFORMATION (DCT)"
INST_CMPRS_RATIO = 14.4044
INST_CMPRS_QUALITY = 0
INST_CMPRS_QUANTZ_TBL_ID = 0
INSTRUMENT_TEMPERATURE = 11.0301
LENS_TEMPERATURE = 8.5833
MACROPIXEL_SIZE = 2
MISSING_FRAMES = 1
PIXEL_SUBSAMPLING_FLAG = N
SIGNAL_CHAIN_ID = 3
/* RADIOMETRIC DATA ELEMENTS */
BANDWIDTH = 174.0
CENTER_FILTER_WAVELENGTH = 675.0
RADIANCE_OFFSET = 2.19469
RADIANCE_SCALING_FACTOR = 0.009886
REFLECTANCE_SCALING_FACTOR = 0.000291435
MEX:REFLECTANCE_OFFSET = 0.0646986
/* IMAGE OBJECT DEFINITIONS */
OBJECT = IMAGE
  INTERCHANGE_FORMAT = BINARY
  LINES = 23699
  LINE_SAMPLES = 5935
  SAMPLE_TYPE = UNSIGNED_INTEGER
  SAMPLE_BITS = 8
  BANDS = 1
  BAND_STORAGE_TYPE = BAND_SEQUENTIAL
  MAXIMUM = 255
  MEAN = 122.762
  MINIMUM = 1
  STANDARD_DEVIATION = 30.8097
END_OBJECT = IMAGE
/* MAP OBJECT DEFINITIONS */
OBJECT = IMAGE_MAP_PROJECTION
  ^DATA_SET_MAP_PROJECTION_CATALOG= "DSMAP.CAT"
  A_AXIS_RADIUS = 3396.0
  B_AXIS_RADIUS = 3396.0
  C_AXIS_RADIUS = 3396.0
  CENTER_LATITUDE = 0.0
  CENTER_LONGITUDE = 316.0
  COORDINATE_SYSTEM_NAME = PLANETOGRAPHIC
  COORDINATE_SYSTEM_TYPE = "BODY-FIXED ROTATING"
  EASTERNMOST_LONGITUDE = 318.509
  FIRST_STANDARD_PARALLEL = "N/A"
  LINE_FIRST_PIXEL = 1
  LINE_LAST_PIXEL = 23699
  LINE_PROJECTION_OFFSET = -39515.75
  MAP_PROJECTION_ROTATION = 0.0
  MAP_PROJECTION_TYPE = SINUSOIDAL
  MAP_RESOLUTION = 1185.42760773333
  MAP_SCALE = 0.05
  MAXIMUM_LATITUDE = -33.3868
  MINIMUM_LATITUDE = -53.3823
  POSITIVE_LONGITUDE_DIRECTION = EAST
  REFERENCE_LATITUDE = "N/A"
  REFERENCE_LONGITUDE = "N/A"
  SAMPLE_FIRST_PIXEL = 1
  SAMPLE_LAST_PIXEL = 5935
  SAMPLE_PROJECTION_OFFSET = 3107.25
  SECOND_STANDARD_PARALLEL = "N/A"
  WESTERNMOST_LONGITUDE = 313.179
END_OBJECT = IMAGE_MAP_PROJECTION
/* The JPEG2000 image data file associated with this label. */
OBJECT = COMPRESSED_FILE
  FILE_NAME = "H2625_0000_P13.JP2"
  RECORD_TYPE = UNDEFINED
  FILE_RECORDS = UNK
  ENCODING_TYPE = "JP2"
  INTERCHANGE_FORMAT = BINARY
  UNCOMPRESSED_FILE_NAME = "H2625_0000_P13.IMG"
  REQUIRED_STORAGE_BYTES = "140683240"
  ^DESCRIPTION = "JP2INFO.TXT"
END_OBJECT = COMPRESSED_FILE
END
