PDS_VERSION_ID = PDS3
/* FILE DATA ELEMENTS */
RECORD_TYPE = STREAM
/* POINTERS TO DATA OBJECTS */
^COMPRESSED_FILE = "H2627_0000_S13.JP2"
/* IDENTIFICATION DATA ELEMENTS */
DATA_SET_ID = "MEX-M-HRSC-5-REFDR-MAPPROJECTED-V3.0"
DATA_SET_NAME = "MARS EXPRESS HRSC MAP PROJECTED REFDR V3.0"
DETECTOR_ID = MEX_HRSC_S1
EVENT_TYPE = "MARS-TERMINATOR-VARIABLE-Gl-Eo-At"
INSTRUMENT_HOST_ID = MEX
INSTRUMENT_HOST_NAME = "MARS EXPRESS"
INSTRUMENT_ID = HRSC
INSTRUMENT_NAME = "HIGH RESOLUTION STEREO CAMERA"
MISSION_NAME = "MARS EXPRESS"
MISSION_PHASE_NAME = ME_Phase_2
PROCESSING_LEVEL_ID = 3
PRODUCT_CREATION_TIME = 2016-04-08T01:44:18.000Z
PRODUCT_ID = "H2627_0000_S13.JP2"
RELEASE_ID = 0033
REVISION_ID = 0000
/* QUALITY DATA ELEMENTS */
DATA_QUALITY_ID = 1
DATA_QUALITY_DESC = "Data calculated based on original SPICE kernels"
/* TIME DATA ELEMENTS */
SPACECRAFT_CLOCK_START_COUNT = "1/0086510219.08428"
SPACECRAFT_CLOCK_STOP_COUNT = "1/0086510452.19241"
START_TIME = 2006-01-28T06:37:04.913Z
STOP_TIME = 2006-01-28T06:39:29.781Z
/* ORBITAL DATA ELEMENTS */
ASCENDING_NODE_LONGITUDE = 173.16
MAXIMUM_RESOLUTION = 56.6
FOOTPRINT_POINT_LATITUDE = (-83.6101,-83.8449,-84.0292,-84.1534, -84.1525,-83.9969,-83.8403,-83.6826, -83.4441,-83.2039,-82.8856,-82.6417, -82.4783,-82.2325,-82.0679,-81.9031, -81.7376,-81.5719,-81.406,-81.2388, -81.0723,-80.9057,-80.7386,-80.5712, -80.4032,-80.2255,-80.0234,-79.8167, -79.6154,-79.415,-79.2159,-79.0138, -78.8082,-78.6054,-78.4019,-78.0973, -77.7925,-77.487,-77.2835,-77.0801, -76.7764,-76.576,-76.374,-76.1708, -75.9612,-75.7509,-75.543,-75.3355, -75.1359,-74.8807,-74.8258,-74.7725, -74.7311,-74.6921,-74.6403,-74.8036, -75.0085,-75.3165,-75.5217,-75.7241, -76.0263,-76.2284,-76.533,-76.7305, -76.9265,-77.1212,-77.4183,-77.6181, -77.8156,-78.0138,-78.2114,-78.4088, -78.7039,-78.9006,-79.097,-79.2933, -79.4912,-79.6886,-79.8799,-80.0423, -80.2046,-80.3651,-80.5234,-80.6873, -80.8479,-81.0073,-81.1657,-81.3229, -81.4793,-81.7856,-81.9408,-82.095, -82.3243,-82.5518,-82.7761,-82.9259, -83.0764,-83.2241,-83.3691,-83.6101)
FOOTPRINT_POINT_LONGITUDE = (87.6004,90.4863,93.089,95.0607,97.0767 ,97.8979,98.6754,99.4143,100.456, 101.422,102.577,103.398,103.915,104.649 ,105.112,105.556,105.982,106.391, 106.782,107.164,107.525,107.873,108.208 ,108.532,108.846,109.165,109.516, 109.867,110.185,110.487,110.771,111.055 ,111.338,111.602,111.857,112.221, 112.567,112.896,113.105,113.307,113.595 ,113.775,113.952,114.127,114.31,114.483 ,114.644,114.8,114.936,114.385,113.371, 112.409,111.704,111.052,110.206,109.503 ,109.307,109.003,108.792,108.578, 108.248,108.019,107.662,107.414,107.158 ,106.894,106.481,106.193,105.896, 105.588,105.27,104.939,104.421,104.059, 103.684,103.294,102.887,102.464,102.037 ,101.656,101.262,100.855,100.435, 99.9946,99.5408,99.0709,98.584,98.0794, 97.5557,96.4532,95.8648,95.2526,94.2879 ,93.2615,92.171,91.4001,90.5901,89.7476 ,88.8704,87.6004)
ORBIT_NUMBER = 2627
ORBITAL_ECCENTRICITY = 0.571
ORBITAL_INCLINATION = 86.61
ORBITAL_SEMIMAJOR_AXIS = 8533.13
PERIAPSIS_ALTITUDE = 280.83
PERIAPSIS_ARGUMENT_ANGLE = 256.77
PERIAPSIS_TIME = 2006-01-28T06:32:58.000Z
SPACECRAFT_ORIENTATION = (0.0,-1.0,0.0)
^MEX_ORIENTATION_DESC = "MEX_ORIENTATION_DESC.TXT"
SPACECRAFT_POINTING_MODE = NADIR
^MEX_POINTING_DESC = "MEX_POINTING_DESC.TXT"
RIGHT_ASCENSION = -1e+32
DECLINATION = -1e+32
OFFSET_ANGLE = -1e+32
SPACECRAFT_SOLAR_DISTANCE = 2.34209e+08
TARGET_NAME = MARS
/* CAMERA DATA ELEMENTS */
DETECTOR_TEMPERATURE = 17.351
FOCAL_PLANE_TEMPERATURE = 8.3794
INST_CMPRS_NAME = "DISCRETE COSINE TRANSFORMATION (DCT)"
INST_CMPRS_RATIO = 37.7524
INST_CMPRS_QUALITY = 0
INST_CMPRS_QUANTZ_TBL_ID = 0
INSTRUMENT_TEMPERATURE = 11.0301
LENS_TEMPERATURE = 8.9911
MACROPIXEL_SIZE = 4
MISSING_FRAMES = 0
PIXEL_SUBSAMPLING_FLAG = N
SIGNAL_CHAIN_ID = 1
/* RADIOMETRIC DATA ELEMENTS */
BANDWIDTH = 180.0
CENTER_FILTER_WAVELENGTH = 677.0
RADIANCE_OFFSET = 0.139738
RADIANCE_SCALING_FACTOR = 0.00471272
REFLECTANCE_SCALING_FACTOR = 0.000134872
MEX:REFLECTANCE_OFFSET = 0.0039991
/* IMAGE OBJECT DEFINITIONS */
OBJECT = IMAGE
  INTERCHANGE_FORMAT = BINARY
  LINES = 11318
  LINE_SAMPLES = 5272
  SAMPLE_TYPE = UNSIGNED_INTEGER
  SAMPLE_BITS = 8
  BANDS = 1
  BAND_STORAGE_TYPE = BAND_SEQUENTIAL
  MAXIMUM = 255
  MEAN = 95.4551
  MINIMUM = 1
  STANDARD_DEVIATION = 46.93
END_OBJECT = IMAGE
/* MAP OBJECT DEFINITIONS */
OBJECT = IMAGE_MAP_PROJECTION
  ^DATA_SET_MAP_PROJECTION_CATALOG= "DSMAP.CAT"
  A_AXIS_RADIUS = 3396.0
  B_AXIS_RADIUS = 3396.0
  C_AXIS_RADIUS = 3396.0
  CENTER_LATITUDE = 0.0
  CENTER_LONGITUDE = 106.0
  COORDINATE_SYSTEM_NAME = PLANETOGRAPHIC
  COORDINATE_SYSTEM_TYPE = "BODY-FIXED ROTATING"
  EASTERNMOST_LONGITUDE = 114.936
  FIRST_STANDARD_PARALLEL = "N/A"
  LINE_FIRST_PIXEL = 1
  LINE_LAST_PIXEL = 11318
  LINE_PROJECTION_OFFSET = -88409.75
  MAP_PROJECTION_ROTATION = 0.0
  MAP_PROJECTION_TYPE = SINUSOIDAL
  MAP_RESOLUTION = 1185.42760773333
  MAP_SCALE = 0.05
  MAXIMUM_LATITUDE = -74.6403
  MINIMUM_LATITUDE = -84.1534
  POSITIVE_LONGITUDE_DIRECTION = EAST
  REFERENCE_LATITUDE = "N/A"
  REFERENCE_LONGITUDE = "N/A"
  SAMPLE_FIRST_PIXEL = 1
  SAMPLE_LAST_PIXEL = 5272
  SAMPLE_PROJECTION_OFFSET = 2436.25
  SECOND_STANDARD_PARALLEL = "N/A"
  WESTERNMOST_LONGITUDE = 87.60039999999999
END_OBJECT = IMAGE_MAP_PROJECTION
/* The JPEG2000 image data file associated with this label. */
OBJECT = COMPRESSED_FILE
  FILE_NAME = "H2627_0000_S13.JP2"
  RECORD_TYPE = UNDEFINED
  FILE_RECORDS = UNK
  ENCODING_TYPE = "JP2"
  INTERCHANGE_FORMAT = BINARY
  UNCOMPRESSED_FILE_NAME = "H2627_0000_S13.IMG"
  REQUIRED_STORAGE_BYTES = "59694856"
  ^DESCRIPTION = "JP2INFO.TXT"
END_OBJECT = COMPRESSED_FILE
END
