PDS_VERSION_ID = PDS3
/* FILE DATA ELEMENTS */
RECORD_TYPE = STREAM
/* POINTERS TO DATA OBJECTS */
^COMPRESSED_FILE = "H2627_0001_IR3.JP2"
/* IDENTIFICATION DATA ELEMENTS */
DATA_SET_ID = "MEX-M-HRSC-5-REFDR-MAPPROJECTED-V3.0"
DATA_SET_NAME = "MARS EXPRESS HRSC MAP PROJECTED REFDR V3.0"
DETECTOR_ID = MEX_HRSC_IR
EVENT_TYPE = "MARS-REGIONAL-MAPPING-Im-Fl-Eo"
INSTRUMENT_HOST_ID = MEX
INSTRUMENT_HOST_NAME = "MARS EXPRESS"
INSTRUMENT_ID = HRSC
INSTRUMENT_NAME = "HIGH RESOLUTION STEREO CAMERA"
MISSION_NAME = "MARS EXPRESS"
MISSION_PHASE_NAME = ME_Phase_2
PROCESSING_LEVEL_ID = 3
PRODUCT_CREATION_TIME = 2016-04-08T01:44:18.000Z
PRODUCT_ID = "H2627_0001_IR3.JP2"
RELEASE_ID = 0033
REVISION_ID = 0000
/* QUALITY DATA ELEMENTS */
DATA_QUALITY_ID = 2
DATA_QUALITY_DESC = "Data calculated based on photogrammetrically improved orbit and attitude data"
/* TIME DATA ELEMENTS */
SPACECRAFT_CLOCK_START_COUNT = "1/0086510618.09336"
SPACECRAFT_CLOCK_STOP_COUNT = "1/0086511285.26787"
START_TIME = 2006-01-28T06:43:54.382Z
STOP_TIME = 2006-01-28T06:49:14.437Z
/* ORBITAL DATA ELEMENTS */
ASCENDING_NODE_LONGITUDE = 173.16
MAXIMUM_RESOLUTION = 107.3
FOOTPRINT_POINT_LATITUDE = (-58.6282,-58.6681,-58.6999,-58.7357, -58.7661,-58.7877,-58.8066,-58.3073, -57.5583,-57.1035,-56.4885,-56.1773, -55.8635,-55.5475,-55.2299,-54.7483, -54.4259,-54.1008,-53.7716,-53.442, -53.1084,-52.7739,-52.4331,-51.9175, -51.5722,-51.0286,-50.6752,-50.3194, -49.9603,-49.5983,-49.2382,-48.8706, -48.3078,-47.9357,-47.5566,-47.1758, -46.783,-46.3941,-45.8058,-45.4061, -45.006,-44.5998,-43.9828,-43.5682, -43.1496,-42.7273,-42.3013,-41.8712, -41.4376,-40.7832,-40.665,-40.6621, -40.6621,-40.6586,-40.6512,-40.6378, -40.6187,-40.601,-40.8013,-41.2363, -41.668,-42.0984,-42.5209,-43.1499, -43.7755,-44.1838,-44.5872,-44.9861, -45.3913,-45.9748,-46.3651,-46.751, -47.1334,-47.7053,-48.0824,-48.4537, -48.8184,-49.1843,-49.5469,-49.9049, -50.2613,-50.6156,-50.9668,-51.503, -51.8467,-52.1881,-52.5248,-53.0274, -53.3594,-53.6898,-54.1823,-54.5046, -54.981,-55.2988,-55.6148,-55.9253, -56.5417,-57.1511,-58.0496,-58.6282)
FOOTPRINT_POINT_LONGITUDE = (116.071,116.739,117.329,118.079, 118.829,119.462,120.137,120.417,120.516 ,120.574,120.648,120.685,120.722, 120.757,120.792,120.843,120.875,120.906 ,120.939,120.969,121.0,121.028,121.059, 121.104,121.132,121.177,121.204,121.231 ,121.257,121.283,121.305,121.329, 121.368,121.389,121.412,121.434,121.46, 121.481,121.511,121.533,121.552,121.572 ,121.602,121.62,121.638,121.655,121.672 ,121.689,121.705,121.726,121.247, 120.806,120.232,119.702,119.261,118.688 ,117.982,117.497,116.999,117.003, 117.007,117.01,117.011,117.011,117.011, 117.008,117.003,116.997,116.994,116.981 ,116.973,116.964,116.953,116.938, 116.926,116.912,116.896,116.881,116.865 ,116.847,116.829,116.81,116.791,116.758 ,116.736,116.713,116.688,116.65,116.624 ,116.597,116.556,116.526,116.479, 116.447,116.415,116.381,116.31,116.236, 116.118,116.071)
ORBIT_NUMBER = 2627
ORBITAL_ECCENTRICITY = 0.571
ORBITAL_INCLINATION = 86.61
ORBITAL_SEMIMAJOR_AXIS = 8533.13
PERIAPSIS_ALTITUDE = 280.83
PERIAPSIS_ARGUMENT_ANGLE = 256.77
PERIAPSIS_TIME = 2006-01-28T06:32:58.000Z
SPACECRAFT_ORIENTATION = (0.0,-1.0,0.0)
^MEX_ORIENTATION_DESC = "MEX_ORIENTATION_DESC.TXT"
SPACECRAFT_POINTING_MODE = NADIR
^MEX_POINTING_DESC = "MEX_POINTING_DESC.TXT"
RIGHT_ASCENSION = -1e+32
DECLINATION = -1e+32
OFFSET_ANGLE = -1e+32
SPACECRAFT_SOLAR_DISTANCE = 2.34209e+08
TARGET_NAME = MARS
/* CAMERA DATA ELEMENTS */
DETECTOR_TEMPERATURE = 18.7783
FOCAL_PLANE_TEMPERATURE = 8.5833
INST_CMPRS_NAME = "DISCRETE COSINE TRANSFORMATION (DCT)"
INST_CMPRS_RATIO = 9.96586
INST_CMPRS_QUALITY = 0
INST_CMPRS_QUANTZ_TBL_ID = 0
INSTRUMENT_TEMPERATURE = 12.4574
LENS_TEMPERATURE = 8.7872
MACROPIXEL_SIZE = 4
MISSING_FRAMES = 1
PIXEL_SUBSAMPLING_FLAG = N
SIGNAL_CHAIN_ID = 2
/* RADIOMETRIC DATA ELEMENTS */
BANDWIDTH = 81.0
CENTER_FILTER_WAVELENGTH = 955.5
RADIANCE_OFFSET = 0.297218
RADIANCE_SCALING_FACTOR = 0.00541986
REFLECTANCE_SCALING_FACTOR = 0.000641397
MEX:REFLECTANCE_OFFSET = 0.0351734
/* IMAGE OBJECT DEFINITIONS */
OBJECT = IMAGE
  INTERCHANGE_FORMAT = BINARY
  LINES = 10735
  LINE_SAMPLES = 2442
  SAMPLE_TYPE = UNSIGNED_INTEGER
  SAMPLE_BITS = 8
  BANDS = 1
  BAND_STORAGE_TYPE = BAND_SEQUENTIAL
  MAXIMUM = 255
  MEAN = 87.8479
  MINIMUM = 1
  STANDARD_DEVIATION = 30.6589
END_OBJECT = IMAGE
/* MAP OBJECT DEFINITIONS */
OBJECT = IMAGE_MAP_PROJECTION
  ^DATA_SET_MAP_PROJECTION_CATALOG= "DSMAP.CAT"
  A_AXIS_RADIUS = 3396.0
  B_AXIS_RADIUS = 3396.0
  C_AXIS_RADIUS = 3396.0
  CENTER_LATITUDE = 0.0
  CENTER_LONGITUDE = 119.0
  COORDINATE_SYSTEM_NAME = PLANETOGRAPHIC
  COORDINATE_SYSTEM_TYPE = "BODY-FIXED ROTATING"
  EASTERNMOST_LONGITUDE = 121.726
  FIRST_STANDARD_PARALLEL = "N/A"
  LINE_FIRST_PIXEL = 1
  LINE_LAST_PIXEL = 10735
  LINE_PROJECTION_OFFSET = -24067.875
  MAP_PROJECTION_ROTATION = 0.0
  MAP_PROJECTION_TYPE = SINUSOIDAL
  MAP_RESOLUTION = 592.713803866667
  MAP_SCALE = 0.1
  MAXIMUM_LATITUDE = -40.601
  MINIMUM_LATITUDE = -58.8066
  POSITIVE_LONGITUDE_DIRECTION = EAST
  REFERENCE_LATITUDE = "N/A"
  REFERENCE_LONGITUDE = "N/A"
  SAMPLE_FIRST_PIXEL = 1
  SAMPLE_LAST_PIXEL = 2442
  SAMPLE_PROJECTION_OFFSET = 1076.625
  SECOND_STANDARD_PARALLEL = "N/A"
  WESTERNMOST_LONGITUDE = 116.071
END_OBJECT = IMAGE_MAP_PROJECTION
/* The JPEG2000 image data file associated with this label. */
OBJECT = COMPRESSED_FILE
  FILE_NAME = "H2627_0001_IR3.JP2"
  RECORD_TYPE = UNDEFINED
  FILE_RECORDS = UNK
  ENCODING_TYPE = "JP2"
  INTERCHANGE_FORMAT = BINARY
  UNCOMPRESSED_FILE_NAME = "H2627_0001_IR3.IMG"
  REQUIRED_STORAGE_BYTES = "26234406"
  ^DESCRIPTION = "JP2INFO.TXT"
END_OBJECT = COMPRESSED_FILE
END
