PDS_VERSION_ID = PDS3
/* FILE DATA ELEMENTS */
RECORD_TYPE = STREAM
/* POINTERS TO DATA OBJECTS */
^COMPRESSED_FILE = "H2629_0000_ND3.JP2"
/* IDENTIFICATION DATA ELEMENTS */
DATA_SET_ID = "MEX-M-HRSC-5-REFDR-MAPPROJECTED-V3.0"
DATA_SET_NAME = "MARS EXPRESS HRSC MAP PROJECTED REFDR V3.0"
DETECTOR_ID = MEX_HRSC_NADIR
EVENT_TYPE = "MARS-TERMINATOR-VARIABLE-Gl-Eo-At"
INSTRUMENT_HOST_ID = MEX
INSTRUMENT_HOST_NAME = "MARS EXPRESS"
INSTRUMENT_ID = HRSC
INSTRUMENT_NAME = "HIGH RESOLUTION STEREO CAMERA"
MISSION_NAME = "MARS EXPRESS"
MISSION_PHASE_NAME = ME_Phase_2
PROCESSING_LEVEL_ID = 3
PRODUCT_CREATION_TIME = 2016-04-08T01:44:18.000Z
PRODUCT_ID = "H2629_0000_ND3.JP2"
RELEASE_ID = 0033
REVISION_ID = 0000
/* QUALITY DATA ELEMENTS */
DATA_QUALITY_ID = 1
DATA_QUALITY_DESC = "Data calculated based on original SPICE kernels"
/* TIME DATA ELEMENTS */
SPACECRAFT_CLOCK_START_COUNT = "1/0086558600.08256"
SPACECRAFT_CLOCK_STOP_COUNT = "1/0086558774.27938"
START_TIME = 2006-01-28T20:03:55.987Z
STOP_TIME = 2006-01-28T20:05:36.970Z
/* ORBITAL DATA ELEMENTS */
ASCENDING_NODE_LONGITUDE = 173.12
MAXIMUM_RESOLUTION = 27.6
FOOTPRINT_POINT_LATITUDE = (-84.0584,-84.1588,-84.2428,-84.352, -84.4639,-84.6086,-84.7107,-84.6123, -84.5132,-84.4134,-84.3131,-84.2123, -84.111,-84.0092,-83.9069,-83.7013, -83.4939,-83.2852,-83.0753,-82.8644, -82.6525,-82.4638,-82.3365,-82.2089, -82.0813,-81.9533,-81.8251,-81.6966, -81.5681,-81.4393,-81.3102,-81.1812, -81.052,-80.9227,-80.7934,-80.664, -80.5343,-80.4046,-80.2748,-80.1451, -80.0152,-79.8852,-79.7552,-79.6251, -79.495,-79.3649,-79.2347,-79.1044, -78.9742,-78.8439,-78.7289,-78.6895, -78.6336,-78.5891,-78.5386,-78.4938, -78.4299,-78.3811,-78.3383,-78.4653, -78.5919,-78.7183,-78.8443,-78.9706, -79.097,-79.2232,-79.3493,-79.4751, -79.6007,-79.7259,-79.8513,-79.9765, -80.1014,-80.2261,-80.3506,-80.4748, -80.5988,-80.7224,-80.8459,-80.969, -81.0919,-81.2143,-81.3364,-81.4583, -81.5797,-81.7007,-81.8213,-81.9414, -82.1148,-82.3137,-82.511,-82.7065, -82.9,-83.0915,-83.2805,-83.467, -83.6507,-83.8312,-83.9202,-84.0584)
FOOTPRINT_POINT_LONGITUDE = (248.194,249.357,250.386,251.805, 253.371,255.593,257.294,257.955,258.592 ,259.205,259.797,260.368,260.92,261.452 ,261.966,262.946,263.857,264.713, 265.516,266.271,266.981,267.576,267.96, 268.331,268.691,269.039,269.374,269.698 ,270.014,270.318,270.612,270.899, 271.176,271.447,271.712,271.967,272.214 ,272.454,272.689,272.918,273.139, 273.355,273.565,273.769,273.968,274.161 ,274.35,274.534,274.713,274.888,274.753 ,273.939,272.865,272.067,271.209, 270.488,269.514,268.808,268.206,267.994 ,267.771,267.542,267.302,267.062, 266.821,266.572,266.317,266.055,265.784 ,265.502,265.218,264.927,264.627, 264.318,264.002,263.676,263.34,262.994, 262.641,262.276,261.903,261.516,261.118 ,260.709,260.288,259.854,259.407, 258.945,258.249,257.405,256.514,255.575 ,254.581,253.529,252.416,251.237, 249.987,248.661,247.968,248.194)
ORBIT_NUMBER = 2629
ORBITAL_ECCENTRICITY = 0.571
ORBITAL_INCLINATION = 86.61
ORBITAL_SEMIMAJOR_AXIS = 8535.86
PERIAPSIS_ALTITUDE = 281.19
PERIAPSIS_ARGUMENT_ANGLE = 256.43
PERIAPSIS_TIME = 2006-01-28T19:59:23.000Z
SPACECRAFT_ORIENTATION = (0.0,-1.0,0.0)
^MEX_ORIENTATION_DESC = "MEX_ORIENTATION_DESC.TXT"
SPACECRAFT_POINTING_MODE = NADIR
^MEX_POINTING_DESC = "MEX_POINTING_DESC.TXT"
RIGHT_ASCENSION = -1e+32
DECLINATION = -1e+32
OFFSET_ANGLE = -1e+32
SPACECRAFT_SOLAR_DISTANCE = 2.3431e+08
TARGET_NAME = MARS
/* CAMERA DATA ELEMENTS */
DETECTOR_TEMPERATURE = 18.3705
FOCAL_PLANE_TEMPERATURE = 8.5833
INST_CMPRS_NAME = "DISCRETE COSINE TRANSFORMATION (DCT)"
INST_CMPRS_RATIO = 15.5088
INST_CMPRS_QUALITY = 0
INST_CMPRS_QUANTZ_TBL_ID = 0
INSTRUMENT_TEMPERATURE = 11.4379
LENS_TEMPERATURE = 8.5833
MACROPIXEL_SIZE = 2
MISSING_FRAMES = 0
PIXEL_SUBSAMPLING_FLAG = N
SIGNAL_CHAIN_ID = 0
/* RADIOMETRIC DATA ELEMENTS */
BANDWIDTH = 177.0
CENTER_FILTER_WAVELENGTH = 677.5
RADIANCE_OFFSET = 0.0
RADIANCE_SCALING_FACTOR = 0.00233403
REFLECTANCE_SCALING_FACTOR = 6.80727e-05
MEX:REFLECTANCE_OFFSET = 0.0
/* IMAGE OBJECT DEFINITIONS */
OBJECT = IMAGE
  INTERCHANGE_FORMAT = BINARY
  LINES = 15050
  LINE_SAMPLES = 8942
  SAMPLE_TYPE = UNSIGNED_INTEGER
  SAMPLE_BITS = 8
  BANDS = 1
  BAND_STORAGE_TYPE = BAND_SEQUENTIAL
  MAXIMUM = 255
  MEAN = 94.7784
  MINIMUM = 1
  STANDARD_DEVIATION = 42.1265
END_OBJECT = IMAGE
/* MAP OBJECT DEFINITIONS */
OBJECT = IMAGE_MAP_PROJECTION
  ^DATA_SET_MAP_PROJECTION_CATALOG= "DSMAP.CAT"
  A_AXIS_RADIUS = 3396.0
  B_AXIS_RADIUS = 3396.0
  C_AXIS_RADIUS = 3396.0
  CENTER_LATITUDE = 0.0
  CENTER_LONGITUDE = 265.0
  COORDINATE_SYSTEM_NAME = PLANETOGRAPHIC
  COORDINATE_SYSTEM_TYPE = "BODY-FIXED ROTATING"
  EASTERNMOST_LONGITUDE = 274.888
  FIRST_STANDARD_PARALLEL = "N/A"
  LINE_FIRST_PIXEL = 1
  LINE_LAST_PIXEL = 15050
  LINE_PROJECTION_OFFSET = -185750.0
  MAP_PROJECTION_ROTATION = 0.0
  MAP_PROJECTION_TYPE = SINUSOIDAL
  MAP_RESOLUTION = 2370.85521546667
  MAP_SCALE = 0.025
  MAXIMUM_LATITUDE = -78.3383
  MINIMUM_LATITUDE = -84.7107
  POSITIVE_LONGITUDE_DIRECTION = EAST
  REFERENCE_LATITUDE = "N/A"
  REFERENCE_LONGITUDE = "N/A"
  SAMPLE_FIRST_PIXEL = 1
  SAMPLE_LAST_PIXEL = 8942
  SAMPLE_PROJECTION_OFFSET = 4365.0
  SECOND_STANDARD_PARALLEL = "N/A"
  WESTERNMOST_LONGITUDE = 247.968
END_OBJECT = IMAGE_MAP_PROJECTION
/* The JPEG2000 image data file associated with this label. */
OBJECT = COMPRESSED_FILE
  FILE_NAME = "H2629_0000_ND3.JP2"
  RECORD_TYPE = UNDEFINED
  FILE_RECORDS = UNK
  ENCODING_TYPE = "JP2"
  INTERCHANGE_FORMAT = BINARY
  UNCOMPRESSED_FILE_NAME = "H2629_0000_ND3.IMG"
  REQUIRED_STORAGE_BYTES = "134612868"
  ^DESCRIPTION = "JP2INFO.TXT"
END_OBJECT = COMPRESSED_FILE
END
