PDS_VERSION_ID = PDS3
/* FILE DATA ELEMENTS */
RECORD_TYPE = STREAM
/* POINTERS TO DATA OBJECTS */
^COMPRESSED_FILE = "H2630_0000_IR3.JP2"
/* IDENTIFICATION DATA ELEMENTS */
DATA_SET_ID = "MEX-M-HRSC-5-REFDR-MAPPROJECTED-V3.0"
DATA_SET_NAME = "MARS EXPRESS HRSC MAP PROJECTED REFDR V3.0"
DETECTOR_ID = MEX_HRSC_IR
EVENT_TYPE = "MARS-TERMINATOR-VARIABLE-Gl-Eo-At"
INSTRUMENT_HOST_ID = MEX
INSTRUMENT_HOST_NAME = "MARS EXPRESS"
INSTRUMENT_ID = HRSC
INSTRUMENT_NAME = "HIGH RESOLUTION STEREO CAMERA"
MISSION_NAME = "MARS EXPRESS"
MISSION_PHASE_NAME = ME_Phase_2
PROCESSING_LEVEL_ID = 3
PRODUCT_CREATION_TIME = 2016-04-08T01:44:18.000Z
PRODUCT_ID = "H2630_0000_IR3.JP2"
RELEASE_ID = 0033
REVISION_ID = 0000
/* QUALITY DATA ELEMENTS */
DATA_QUALITY_ID = 1
DATA_QUALITY_DESC = "Data calculated based on original SPICE kernels"
/* TIME DATA ELEMENTS */
SPACECRAFT_CLOCK_START_COUNT = "1/0086582813.07303"
SPACECRAFT_CLOCK_STOP_COUNT = "1/0086583033.42979"
START_TIME = 2006-01-29T02:47:04.081Z
STOP_TIME = 2006-01-29T02:49:16.786Z
/* ORBITAL DATA ELEMENTS */
ASCENDING_NODE_LONGITUDE = 173.09
MAXIMUM_RESOLUTION = 57.3
FOOTPRINT_POINT_LATITUDE = (-83.0287,-83.1188,-83.2573,-83.3725, -83.4563,-83.5561,-83.554,-83.4135, -83.2721,-83.1294,-82.986,-82.844, -82.6307,-82.4874,-82.271,-82.1263, -81.9812,-81.7629,-81.6168,-81.4701, -81.3233,-81.1766,-80.9142,-80.7382, -80.5624,-80.298,-80.0326,-79.8554, -79.5896,-79.4121,-79.2344,-78.9678, -78.7882,-78.6104,-78.4326,-78.2544, -77.987,-77.8088,-77.6302,-77.4515, -77.2732,-77.0947,-76.9164,-76.7343, -76.4588,-76.2749,-76.0912,-75.9076, -75.6264,-75.4383,-75.1251,-75.0773, -75.0394,-74.987,-74.927,-74.8621, -74.9151,-75.1001,-75.3767,-75.5608, -75.7404,-75.922,-76.1039,-76.2837, -76.4634,-76.64,-76.815,-77.077, -77.2526,-77.427,-77.6886,-77.8627, -78.0363,-78.2967,-78.4714,-78.6446, -78.8176,-79.0761,-79.2481,-79.4199, -79.5912,-79.7622,-79.9327,-80.1026, -80.272,-80.4408,-80.6086,-80.7637, -80.9046,-81.115,-81.324,-81.4628, -81.6008,-81.8676,-82.1385,-82.3447, -82.4806,-82.6139,-82.812,-83.0287)
FOOTPRINT_POINT_LONGITUDE = (156.091,157.194,159.018,160.676, 161.978,163.653,165.132,165.731,166.306 ,166.862,167.397,167.895,168.602, 169.054,169.704,170.118,170.516,171.087 ,171.452,171.805,172.146,172.474, 173.032,173.387,173.727,174.214,174.677 ,174.971,175.393,175.662,175.922, 176.295,176.54,176.77,176.993,177.21, 177.522,177.722,177.917,178.106,178.289 ,178.467,178.639,178.81,179.061,179.223 ,179.379,179.532,179.755,179.9,179.754, 178.749,178.014,177.075,176.091,175.116 ,174.449,174.27,173.992,173.8,173.607, 173.41,173.207,172.998,172.783,172.566, 172.344,171.999,171.761,171.516,171.134 ,170.869,170.596,170.171,169.876, 169.571,169.257,168.765,168.423,168.07, 167.705,167.326,166.935,166.529,166.108 ,165.672,165.22,164.787,164.38,163.745, 163.079,162.615,162.137,161.137,160.06, 159.193,158.589,157.966,156.986, 156.091)
ORBIT_NUMBER = 2630
ORBITAL_ECCENTRICITY = 0.571
ORBITAL_INCLINATION = 86.61
ORBITAL_SEMIMAJOR_AXIS = 8535.32
PERIAPSIS_ALTITUDE = 281.31
PERIAPSIS_ARGUMENT_ANGLE = 256.26
PERIAPSIS_TIME = 2006-01-29T02:42:34.000Z
SPACECRAFT_ORIENTATION = (0.0,-1.0,0.0)
^MEX_ORIENTATION_DESC = "MEX_ORIENTATION_DESC.TXT"
SPACECRAFT_POINTING_MODE = NADIR
^MEX_POINTING_DESC = "MEX_POINTING_DESC.TXT"
RIGHT_ASCENSION = -1e+32
DECLINATION = -1e+32
OFFSET_ANGLE = -1e+32
SPACECRAFT_SOLAR_DISTANCE = 2.34361e+08
TARGET_NAME = MARS
/* CAMERA DATA ELEMENTS */
DETECTOR_TEMPERATURE = 17.1471
FOCAL_PLANE_TEMPERATURE = 8.5833
INST_CMPRS_NAME = "DISCRETE COSINE TRANSFORMATION (DCT)"
INST_CMPRS_RATIO = 8.33461
INST_CMPRS_QUALITY = 0
INST_CMPRS_QUANTZ_TBL_ID = 0
INSTRUMENT_TEMPERATURE = 11.0301
LENS_TEMPERATURE = 8.7872
MACROPIXEL_SIZE = 4
MISSING_FRAMES = 0
PIXEL_SUBSAMPLING_FLAG = N
SIGNAL_CHAIN_ID = 2
/* RADIOMETRIC DATA ELEMENTS */
BANDWIDTH = 81.0
CENTER_FILTER_WAVELENGTH = 955.5
RADIANCE_OFFSET = 0.0
RADIANCE_SCALING_FACTOR = 0.000917938
REFLECTANCE_SCALING_FACTOR = 0.000108771
MEX:REFLECTANCE_OFFSET = 0.0
/* IMAGE OBJECT DEFINITIONS */
OBJECT = IMAGE
  INTERCHANGE_FORMAT = BINARY
  LINES = 10348
  LINE_SAMPLES = 4766
  SAMPLE_TYPE = UNSIGNED_INTEGER
  SAMPLE_BITS = 8
  BANDS = 1
  BAND_STORAGE_TYPE = BAND_SEQUENTIAL
  MAXIMUM = 254
  MEAN = 102.527
  MINIMUM = 1
  STANDARD_DEVIATION = 51.5801
END_OBJECT = IMAGE
/* MAP OBJECT DEFINITIONS */
OBJECT = IMAGE_MAP_PROJECTION
  ^DATA_SET_MAP_PROJECTION_CATALOG= "DSMAP.CAT"
  A_AXIS_RADIUS = 3396.0
  B_AXIS_RADIUS = 3396.0
  C_AXIS_RADIUS = 3396.0
  CENTER_LATITUDE = 0.0
  CENTER_LONGITUDE = 172.0
  COORDINATE_SYSTEM_NAME = PLANETOGRAPHIC
  COORDINATE_SYSTEM_TYPE = "BODY-FIXED ROTATING"
  EASTERNMOST_LONGITUDE = 179.9
  FIRST_STANDARD_PARALLEL = "N/A"
  LINE_FIRST_PIXEL = 1
  LINE_LAST_PIXEL = 10348
  LINE_PROJECTION_OFFSET = -88684.25
  MAP_PROJECTION_ROTATION = 0.0
  MAP_PROJECTION_TYPE = SINUSOIDAL
  MAP_RESOLUTION = 1185.42760773333
  MAP_SCALE = 0.05
  MAXIMUM_LATITUDE = -74.8621
  MINIMUM_LATITUDE = -83.5561
  POSITIVE_LONGITUDE_DIRECTION = EAST
  REFERENCE_LATITUDE = "N/A"
  REFERENCE_LONGITUDE = "N/A"
  SAMPLE_FIRST_PIXEL = 1
  SAMPLE_LAST_PIXEL = 4766
  SAMPLE_PROJECTION_OFFSET = 2280.25
  SECOND_STANDARD_PARALLEL = "N/A"
  WESTERNMOST_LONGITUDE = 156.091
END_OBJECT = IMAGE_MAP_PROJECTION
/* The JPEG2000 image data file associated with this label. */
OBJECT = COMPRESSED_FILE
  FILE_NAME = "H2630_0000_IR3.JP2"
  RECORD_TYPE = UNDEFINED
  FILE_RECORDS = UNK
  ENCODING_TYPE = "JP2"
  INTERCHANGE_FORMAT = BINARY
  UNCOMPRESSED_FILE_NAME = "H2630_0000_IR3.IMG"
  REQUIRED_STORAGE_BYTES = "49342398"
  ^DESCRIPTION = "JP2INFO.TXT"
END_OBJECT = COMPRESSED_FILE
END
