PDS_VERSION_ID = PDS3
/* FILE DATA ELEMENTS */
RECORD_TYPE = STREAM
/* POINTERS TO DATA OBJECTS */
^COMPRESSED_FILE = "H2631_0000_RE3.JP2"
/* IDENTIFICATION DATA ELEMENTS */
DATA_SET_ID = "MEX-M-HRSC-5-REFDR-MAPPROJECTED-V3.0"
DATA_SET_NAME = "MARS EXPRESS HRSC MAP PROJECTED REFDR V3.0"
DETECTOR_ID = MEX_HRSC_RED
EVENT_TYPE = "MARS-TERMINATOR-VARIABLE-Gl-Eo-At"
INSTRUMENT_HOST_ID = MEX
INSTRUMENT_HOST_NAME = "MARS EXPRESS"
INSTRUMENT_ID = HRSC
INSTRUMENT_NAME = "HIGH RESOLUTION STEREO CAMERA"
MISSION_NAME = "MARS EXPRESS"
MISSION_PHASE_NAME = ME_Phase_2
PROCESSING_LEVEL_ID = 3
PRODUCT_CREATION_TIME = 2016-04-08T01:44:18.000Z
PRODUCT_ID = "H2631_0000_RE3.JP2"
RELEASE_ID = 0033
REVISION_ID = 0000
/* QUALITY DATA ELEMENTS */
DATA_QUALITY_ID = 1
DATA_QUALITY_DESC = "Data calculated based on original SPICE kernels"
/* TIME DATA ELEMENTS */
SPACECRAFT_CLOCK_START_COUNT = "1/0086607004.08255"
SPACECRAFT_CLOCK_STOP_COUNT = "1/0086607230.50979"
START_TIME = 2006-01-29T09:31:09.414Z
STOP_TIME = 2006-01-29T09:33:45.798Z
/* ORBITAL DATA ELEMENTS */
ASCENDING_NODE_LONGITUDE = 173.07
MAXIMUM_RESOLUTION = 62
FOOTPRINT_POINT_LATITUDE = (-83.2506,-83.3533,-83.4767,-83.5772, -83.7385,-83.8189,-83.6614,-83.5021, -83.2627,-83.1021,-82.9415,-82.7799, -82.6181,-82.4566,-82.2946,-82.0511, -81.8067,-81.643,-81.4789,-81.3149, -81.1509,-80.8235,-80.5694,-80.4005, -80.2331,-80.0649,-79.807,-79.6337, -79.4602,-79.2869,-79.1126,-78.9351, -78.7575,-78.5801,-78.4031,-78.221, -78.0391,-77.8558,-77.6743,-77.4892, -77.3027,-77.1182,-76.9345,-76.7457, -76.4638,-76.1818,-75.9878,-75.7904, -75.5981,-75.4081,-75.1305,-75.0893, -75.0558,-74.9919,-74.9425,-74.8577, -74.7885,-74.9809,-75.1718,-75.3601, -75.6431,-75.8316,-76.0163,-76.2922, -76.477,-76.7495,-76.9351,-77.1164, -77.2957,-77.4726,-77.6498,-77.8267, -78.0024,-78.1749,-78.3484,-78.5206, -78.7779,-79.0299,-79.1977,-79.3653, -79.5324,-79.6955,-79.9394,-80.1016, -80.3448,-80.5812,-80.8951,-81.1284, -81.4387,-81.5932,-81.7468,-81.9761, -82.1279,-82.279,-82.4295,-82.5792, -82.7278,-82.8755,-83.0221,-83.2506)
FOOTPRINT_POINT_LONGITUDE = (57.5058,58.8294,60.5404,62.043,64.7115 ,66.364,67.0848,67.7705,68.7356,69.3407 ,69.9172,70.4672,70.9922,71.4939, 71.9737,72.6554,73.2949,73.6995,74.0879 ,74.461,74.8197,75.4983,75.9859,76.2962 ,76.5959,76.8846,77.305,77.5755,77.8366 ,78.0888,78.3341,78.5757,78.809,79.0347 ,79.2532,79.468,79.6773,79.8788,80.075, 80.2675,80.4555,80.6388,80.8171,80.991, 81.2461,81.4897,81.6477,81.799,81.9492, 82.0984,82.3048,81.2849,80.5654,79.3159 ,78.4292,77.0218,75.9547,75.7725, 75.5868,75.3984,75.1041,74.9002,74.6951 ,74.3797,74.1593,73.8188,73.5701, 73.3276,73.081,72.83,72.5698,72.3023, 72.028,71.75,71.4587,71.1629,70.7007, 70.2243,69.8938,69.5516,69.1981,68.8408 ,68.2828,67.8951,67.285,66.6567,65.7655 ,65.0599,64.0488,63.5132,62.958,62.0831 ,61.4713,60.8329,60.1662,59.4706, 58.7452,57.9865,57.194,57.5058)
ORBIT_NUMBER = 2631
ORBITAL_ECCENTRICITY = 0.571
ORBITAL_INCLINATION = 86.62
ORBITAL_SEMIMAJOR_AXIS = 8533.13
PERIAPSIS_ALTITUDE = 280.4
PERIAPSIS_ARGUMENT_ANGLE = 256.08
PERIAPSIS_TIME = 2006-01-29T09:25:48.000Z
SPACECRAFT_ORIENTATION = (0.0,-1.0,0.0)
^MEX_ORIENTATION_DESC = "MEX_ORIENTATION_DESC.TXT"
SPACECRAFT_POINTING_MODE = NADIR
^MEX_POINTING_DESC = "MEX_POINTING_DESC.TXT"
RIGHT_ASCENSION = -1e+32
DECLINATION = -1e+32
OFFSET_ANGLE = -1e+32
SPACECRAFT_SOLAR_DISTANCE = 2.34411e+08
TARGET_NAME = MARS
/* CAMERA DATA ELEMENTS */
DETECTOR_TEMPERATURE = 18.7783
FOCAL_PLANE_TEMPERATURE = 8.5833
INST_CMPRS_NAME = "DISCRETE COSINE TRANSFORMATION (DCT)"
INST_CMPRS_RATIO = 44.4903
INST_CMPRS_QUALITY = 0
INST_CMPRS_QUANTZ_TBL_ID = 0
INSTRUMENT_TEMPERATURE = 11.0301
LENS_TEMPERATURE = 8.7872
MACROPIXEL_SIZE = 4
MISSING_FRAMES = 0
PIXEL_SUBSAMPLING_FLAG = N
SIGNAL_CHAIN_ID = 2
/* RADIOMETRIC DATA ELEMENTS */
BANDWIDTH = 48.0
CENTER_FILTER_WAVELENGTH = 748.0
RADIANCE_OFFSET = 0.0
RADIANCE_SCALING_FACTOR = 0.00115863
REFLECTANCE_SCALING_FACTOR = 0.000145288
MEX:REFLECTANCE_OFFSET = 0.0
/* IMAGE OBJECT DEFINITIONS */
OBJECT = IMAGE
  INTERCHANGE_FORMAT = BINARY
  LINES = 10741
  LINE_SAMPLES = 5031
  SAMPLE_TYPE = UNSIGNED_INTEGER
  SAMPLE_BITS = 8
  BANDS = 1
  BAND_STORAGE_TYPE = BAND_SEQUENTIAL
  MAXIMUM = 255
  MEAN = 74.2096
  MINIMUM = 5
  STANDARD_DEVIATION = 36.2133
END_OBJECT = IMAGE
/* MAP OBJECT DEFINITIONS */
OBJECT = IMAGE_MAP_PROJECTION
  ^DATA_SET_MAP_PROJECTION_CATALOG= "DSMAP.CAT"
  A_AXIS_RADIUS = 3396.0
  B_AXIS_RADIUS = 3396.0
  C_AXIS_RADIUS = 3396.0
  CENTER_LATITUDE = 0.0
  CENTER_LONGITUDE = 73.0
  COORDINATE_SYSTEM_NAME = PLANETOGRAPHIC
  COORDINATE_SYSTEM_TYPE = "BODY-FIXED ROTATING"
  EASTERNMOST_LONGITUDE = 82.3048
  FIRST_STANDARD_PARALLEL = "N/A"
  LINE_FIRST_PIXEL = 1
  LINE_LAST_PIXEL = 10741
  LINE_PROJECTION_OFFSET = -88711.75
  MAP_PROJECTION_ROTATION = 0.0
  MAP_PROJECTION_TYPE = SINUSOIDAL
  MAP_RESOLUTION = 1185.42760773333
  MAP_SCALE = 0.05
  MAXIMUM_LATITUDE = -74.7885
  MINIMUM_LATITUDE = -83.8189
  POSITIVE_LONGITUDE_DIRECTION = EAST
  REFERENCE_LATITUDE = "N/A"
  REFERENCE_LONGITUDE = "N/A"
  SAMPLE_FIRST_PIXEL = 1
  SAMPLE_LAST_PIXEL = 5031
  SAMPLE_PROJECTION_OFFSET = 2320.25
  SECOND_STANDARD_PARALLEL = "N/A"
  WESTERNMOST_LONGITUDE = 57.194
END_OBJECT = IMAGE_MAP_PROJECTION
/* The JPEG2000 image data file associated with this label. */
OBJECT = COMPRESSED_FILE
  FILE_NAME = "H2631_0000_RE3.JP2"
  RECORD_TYPE = UNDEFINED
  FILE_RECORDS = UNK
  ENCODING_TYPE = "JP2"
  INTERCHANGE_FORMAT = BINARY
  UNCOMPRESSED_FILE_NAME = "H2631_0000_RE3.IMG"
  REQUIRED_STORAGE_BYTES = "54063126"
  ^DESCRIPTION = "JP2INFO.TXT"
END_OBJECT = COMPRESSED_FILE
END
