PDS_VERSION_ID = PDS3
/* FILE DATA ELEMENTS */
RECORD_TYPE = STREAM
/* POINTERS TO DATA OBJECTS */
^COMPRESSED_FILE = "H2631_0001_S13.JP2"
/* IDENTIFICATION DATA ELEMENTS */
DATA_SET_ID = "MEX-M-HRSC-5-REFDR-MAPPROJECTED-V3.0"
DATA_SET_NAME = "MARS EXPRESS HRSC MAP PROJECTED REFDR V3.0"
DETECTOR_ID = MEX_HRSC_S1
EVENT_TYPE = "MARS-REGIONAL-MAPPING-Vo-Fl-Lc"
INSTRUMENT_HOST_ID = MEX
INSTRUMENT_HOST_NAME = "MARS EXPRESS"
INSTRUMENT_ID = HRSC
INSTRUMENT_NAME = "HIGH RESOLUTION STEREO CAMERA"
MISSION_NAME = "MARS EXPRESS"
MISSION_PHASE_NAME = ME_Phase_2
PROCESSING_LEVEL_ID = 3
PRODUCT_CREATION_TIME = 2016-04-08T01:44:18.000Z
PRODUCT_ID = "H2631_0001_S13.JP2"
RELEASE_ID = 0033
REVISION_ID = 0000
/* QUALITY DATA ELEMENTS */
DATA_QUALITY_ID = 2
DATA_QUALITY_DESC = "Data calculated based on photogrammetrically improved orbit and attitude data"
/* TIME DATA ELEMENTS */
SPACECRAFT_CLOCK_START_COUNT = "1/0086607558.09057"
SPACECRAFT_CLOCK_STOP_COUNT = "1/0086608592.02954"
START_TIME = 2006-01-29T09:39:23.859Z
STOP_TIME = 2006-01-29T09:45:37.343Z
/* ORBITAL DATA ELEMENTS */
ASCENDING_NODE_LONGITUDE = 173.07
MAXIMUM_RESOLUTION = 70.6
FOOTPRINT_POINT_LATITUDE = (-49.2979,-49.327,-49.3481,-49.3671, -49.3807,-49.1138,-48.6214,-47.9581, -47.2851,-46.6009,-45.7306,-45.0222, -44.6642,-44.3035,-43.9389,-43.5742, -43.0194,-42.6461,-42.2698,-41.8857, -41.5053,-41.1182,-40.7283,-40.3356, -39.9385,-39.5392,-39.1363,-38.7304, -38.32,-37.8996,-37.4896,-37.0689, -36.6453,-36.2179,-35.7852,-35.3488, -34.9112,-34.4705,-34.0227,-33.5722, -33.1166,-32.6571,-32.1932,-31.7169, -31.2509,-30.7735,-30.3001,-29.8266, -29.3572,-29.3119,-29.326,-29.3367, -29.3438,-29.3468,-29.3444,-29.3449, -29.3232,-29.3195,-30.0063,-30.4773, -30.9379,-31.4086,-32.1134,-32.5768, -33.0287,-33.7051,-34.1499,-34.5895, -35.2446,-35.6726,-36.0967,-36.7323, -37.1529,-37.5706,-37.9826,-38.3906, -38.7968,-39.2016,-39.5983,-39.9933, -40.3843,-40.7727,-41.1584,-41.5417, -41.923,-42.2998,-42.6723,-43.0438, -43.4099,-43.9575,-44.3187,-44.676, -45.0302,-45.7335,-46.4233,-47.1058, -47.7748,-48.4358,-49.0856,-49.2979)
FOOTPRINT_POINT_LONGITUDE = (84.6614,85.3377,85.9303,86.6072, 87.2856,88.2171,88.2494,88.2906,88.3298 ,88.368,88.4137,88.4484,88.4651,88.4813 ,88.4976,88.5124,88.5345,88.5488, 88.5627,88.5782,88.5905,88.6037,88.6165 ,88.6287,88.6411,88.6525,88.6636, 88.6741,88.6847,88.6971,88.7042,88.7132 ,88.7217,88.7299,88.7381,88.7459, 88.7524,88.7582,88.7646,88.7702,88.7756 ,88.7805,88.785,88.7917,88.7931,88.7968 ,88.7992,88.8019,88.8033,88.0754, 87.6061,87.1375,86.4619,85.9939,85.213, 84.7453,84.2736,83.4242,83.4648,83.4943 ,83.5189,83.5457,83.5856,83.6103, 83.6315,83.6633,83.6827,83.7005,83.7264 ,83.7409,83.7545,83.7751,83.7878,83.8, 83.8105,83.8199,83.8289,83.8376,83.8439 ,83.8499,83.8548,83.8589,83.8625, 83.8654,83.8679,83.869,83.8688,83.8685, 83.8666,83.8637,83.8606,83.8564,83.8514 ,83.8398,83.8245,83.8071,83.7857, 83.7623,83.7352,84.6614)
ORBIT_NUMBER = 2631
ORBITAL_ECCENTRICITY = 0.571
ORBITAL_INCLINATION = 86.62
ORBITAL_SEMIMAJOR_AXIS = 8533.13
PERIAPSIS_ALTITUDE = 280.4
PERIAPSIS_ARGUMENT_ANGLE = 256.08
PERIAPSIS_TIME = 2006-01-29T09:25:48.000Z
SPACECRAFT_ORIENTATION = (0.0,-1.0,0.0)
^MEX_ORIENTATION_DESC = "MEX_ORIENTATION_DESC.TXT"
SPACECRAFT_POINTING_MODE = NADIR
^MEX_POINTING_DESC = "MEX_POINTING_DESC.TXT"
RIGHT_ASCENSION = -1e+32
DECLINATION = -1e+32
OFFSET_ANGLE = -1e+32
SPACECRAFT_SOLAR_DISTANCE = 2.34411e+08
TARGET_NAME = MARS
/* CAMERA DATA ELEMENTS */
DETECTOR_TEMPERATURE = 18.9822
FOCAL_PLANE_TEMPERATURE = 8.7872
INST_CMPRS_NAME = "DISCRETE COSINE TRANSFORMATION (DCT)"
INST_CMPRS_RATIO = 9.59662
INST_CMPRS_QUALITY = 0
INST_CMPRS_QUANTZ_TBL_ID = 0
INSTRUMENT_TEMPERATURE = 13.0691
LENS_TEMPERATURE = 9.3989
MACROPIXEL_SIZE = 2
MISSING_FRAMES = 0
PIXEL_SUBSAMPLING_FLAG = N
SIGNAL_CHAIN_ID = 1
/* RADIOMETRIC DATA ELEMENTS */
BANDWIDTH = 180.0
CENTER_FILTER_WAVELENGTH = 677.0
RADIANCE_OFFSET = 2.72574
RADIANCE_SCALING_FACTOR = 0.0157464
REFLECTANCE_SCALING_FACTOR = 0.000451427
MEX:REFLECTANCE_OFFSET = 0.078143
/* IMAGE OBJECT DEFINITIONS */
OBJECT = IMAGE
  INTERCHANGE_FORMAT = BINARY
  LINES = 11886
  LINE_SAMPLES = 3389
  SAMPLE_TYPE = UNSIGNED_INTEGER
  SAMPLE_BITS = 8
  BANDS = 1
  BAND_STORAGE_TYPE = BAND_SEQUENTIAL
  MAXIMUM = 255
  MEAN = 101.559
  MINIMUM = 1
  STANDARD_DEVIATION = 21.6353
END_OBJECT = IMAGE
/* MAP OBJECT DEFINITIONS */
OBJECT = IMAGE_MAP_PROJECTION
  ^DATA_SET_MAP_PROJECTION_CATALOG= "DSMAP.CAT"
  A_AXIS_RADIUS = 3396.0
  B_AXIS_RADIUS = 3396.0
  C_AXIS_RADIUS = 3396.0
  CENTER_LATITUDE = 0.0
  CENTER_LONGITUDE = 86.0
  COORDINATE_SYSTEM_NAME = PLANETOGRAPHIC
  COORDINATE_SYSTEM_TYPE = "BODY-FIXED ROTATING"
  EASTERNMOST_LONGITUDE = 88.80329999999999
  FIRST_STANDARD_PARALLEL = "N/A"
  LINE_FIRST_PIXEL = 1
  LINE_LAST_PIXEL = 11886
  LINE_PROJECTION_OFFSET = -17323.25
  MAP_PROJECTION_ROTATION = 0.0
  MAP_PROJECTION_TYPE = SINUSOIDAL
  MAP_RESOLUTION = 592.713803866667
  MAP_SCALE = 0.1
  MAXIMUM_LATITUDE = -29.3119
  MINIMUM_LATITUDE = -49.3807
  POSITIVE_LONGITUDE_DIRECTION = EAST
  REFERENCE_LATITUDE = "N/A"
  REFERENCE_LONGITUDE = "N/A"
  SAMPLE_FIRST_PIXEL = 1
  SAMPLE_LAST_PIXEL = 3389
  SAMPLE_PROJECTION_OFFSET = 1693.25
  SECOND_STANDARD_PARALLEL = "N/A"
  WESTERNMOST_LONGITUDE = 83.4242
END_OBJECT = IMAGE_MAP_PROJECTION
/* The JPEG2000 image data file associated with this label. */
OBJECT = COMPRESSED_FILE
  FILE_NAME = "H2631_0001_S13.JP2"
  RECORD_TYPE = UNDEFINED
  FILE_RECORDS = UNK
  ENCODING_TYPE = "JP2"
  INTERCHANGE_FORMAT = BINARY
  UNCOMPRESSED_FILE_NAME = "H2631_0001_S13.IMG"
  REQUIRED_STORAGE_BYTES = "40305377"
  ^DESCRIPTION = "JP2INFO.TXT"
END_OBJECT = COMPRESSED_FILE
END
