PDS_VERSION_ID = PDS3
/* FILE DATA ELEMENTS */
RECORD_TYPE = STREAM
/* POINTERS TO DATA OBJECTS */
^COMPRESSED_FILE = "H2634_0000_S13.JP2"
/* IDENTIFICATION DATA ELEMENTS */
DATA_SET_ID = "MEX-M-HRSC-5-REFDR-MAPPROJECTED-V3.0"
DATA_SET_NAME = "MARS EXPRESS HRSC MAP PROJECTED REFDR V3.0"
DETECTOR_ID = MEX_HRSC_S1
EVENT_TYPE = "MARS-REGIONAL-MAPPING-Te-Fl-Gl"
INSTRUMENT_HOST_ID = MEX
INSTRUMENT_HOST_NAME = "MARS EXPRESS"
INSTRUMENT_ID = HRSC
INSTRUMENT_NAME = "HIGH RESOLUTION STEREO CAMERA"
MISSION_NAME = "MARS EXPRESS"
MISSION_PHASE_NAME = ME_Phase_2
PROCESSING_LEVEL_ID = 3
PRODUCT_CREATION_TIME = 2016-04-08T01:44:18.000Z
PRODUCT_ID = "H2634_0000_S13.JP2"
RELEASE_ID = 0033
REVISION_ID = 0000
/* QUALITY DATA ELEMENTS */
DATA_QUALITY_ID = 2
DATA_QUALITY_DESC = "Data calculated based on photogrammetrically improved orbit and attitude data"
/* TIME DATA ELEMENTS */
SPACECRAFT_CLOCK_START_COUNT = "1/0086679837.07307"
SPACECRAFT_CLOCK_STOP_COUNT = "1/0086680362.29526"
START_TIME = 2006-01-30T05:44:02.890Z
STOP_TIME = 2006-01-30T05:48:46.176Z
/* ORBITAL DATA ELEMENTS */
ASCENDING_NODE_LONGITUDE = 173.01
MAXIMUM_RESOLUTION = 44
FOOTPRINT_POINT_LATITUDE = (-67.6095,-67.7207,-67.7831,-67.819, -67.8504,-67.3361,-66.7673,-66.1826, -65.7454,-65.4495,-65.1484,-64.8485, -64.551,-64.2471,-63.9377,-63.6291, -63.3166,-63.0029,-62.6846,-62.3652, -62.0416,-61.7174,-61.3884,-61.0571, -60.7232,-60.3861,-59.8762,-59.5346, -59.188,-58.838,-58.3091,-57.9546, -57.5947,-57.2319,-56.8663,-56.4973, -56.1237,-55.7471,-55.3693,-54.9871, -54.6016,-54.2096,-53.8168,-53.4204, -53.021,-52.6185,-52.0069,-51.3782, -50.7458,-50.4798,-50.4708,-50.4543, -50.442,-50.4065,-50.3757,-50.3344, -50.7575,-51.1765,-51.5928,-52.0043, -52.4056,-52.815,-53.2141,-53.6093, -54.0017,-54.3901,-54.7749,-55.1556, -55.5337,-55.9073,-56.2808,-56.6458, -57.0075,-57.5466,-57.9025,-58.2567, -58.6049,-59.1258,-59.639,-59.9784, -60.3149,-60.648,-60.9821,-61.3084, -61.7944,-62.1156,-62.4301,-62.75, -63.0622,-63.3746,-63.684,-63.9902, -64.2926,-64.5939,-64.8914,-65.4831, -65.9218,-66.4986,-67.0663,-67.6095)
FOOTPRINT_POINT_LONGITUDE = (145.842,147.614,148.819,149.627, 150.438,150.68,150.84,151.001,151.11, 151.184,151.258,151.328,151.392,151.459 ,151.527,151.591,151.655,151.717, 151.779,151.84,151.899,151.958,152.015, 152.072,152.128,152.182,152.262,152.313 ,152.363,152.413,152.486,152.532, 152.578,152.624,152.668,152.712,152.755 ,152.798,152.838,152.878,152.917, 152.957,152.995,153.032,153.067,153.102 ,153.152,153.206,153.255,152.756, 152.234,151.541,151.064,150.156,149.55, 148.799,148.776,148.752,148.726,148.699 ,148.669,148.641,148.61,148.577,148.543 ,148.508,148.471,148.433,148.394, 148.353,148.311,148.267,148.221,148.151 ,148.102,148.052,148.0,147.921,147.837, 147.78,147.721,147.661,147.599,147.536, 147.437,147.369,147.298,147.228,147.155 ,147.08,147.004,146.924,146.844,146.761 ,146.677,146.502,146.365,146.174, 145.976,145.842)
ORBIT_NUMBER = 2634
ORBITAL_ECCENTRICITY = 0.571
ORBITAL_INCLINATION = 86.61
ORBITAL_SEMIMAJOR_AXIS = 8535.21
PERIAPSIS_ALTITUDE = 282.03
PERIAPSIS_ARGUMENT_ANGLE = 255.55
PERIAPSIS_TIME = 2006-01-30T05:35:21.000Z
SPACECRAFT_ORIENTATION = (0.0,-1.0,0.0)
^MEX_ORIENTATION_DESC = "MEX_ORIENTATION_DESC.TXT"
SPACECRAFT_POINTING_MODE = NADIR
^MEX_POINTING_DESC = "MEX_POINTING_DESC.TXT"
RIGHT_ASCENSION = -1e+32
DECLINATION = -1e+32
OFFSET_ANGLE = -1e+32
SPACECRAFT_SOLAR_DISTANCE = 2.34563e+08
TARGET_NAME = MARS
/* CAMERA DATA ELEMENTS */
DETECTOR_TEMPERATURE = 16.9432
FOCAL_PLANE_TEMPERATURE = 8.3794
INST_CMPRS_NAME = "DISCRETE COSINE TRANSFORMATION (DCT)"
INST_CMPRS_RATIO = 11.5907
INST_CMPRS_QUALITY = 0
INST_CMPRS_QUANTZ_TBL_ID = 0
INSTRUMENT_TEMPERATURE = 11.4379
LENS_TEMPERATURE = 8.5833
MACROPIXEL_SIZE = 2
MISSING_FRAMES = 0
PIXEL_SUBSAMPLING_FLAG = N
SIGNAL_CHAIN_ID = 1
/* RADIOMETRIC DATA ELEMENTS */
BANDWIDTH = 180.0
CENTER_FILTER_WAVELENGTH = 677.0
RADIANCE_OFFSET = 1.31235
RADIANCE_SCALING_FACTOR = 0.0103901
REFLECTANCE_SCALING_FACTOR = 0.000298252
MEX:REFLECTANCE_OFFSET = 0.0376717
/* IMAGE OBJECT DEFINITIONS */
OBJECT = IMAGE
  INTERCHANGE_FORMAT = BINARY
  LINES = 20628
  LINE_SAMPLES = 4696
  SAMPLE_TYPE = UNSIGNED_INTEGER
  SAMPLE_BITS = 8
  BANDS = 1
  BAND_STORAGE_TYPE = BAND_SEQUENTIAL
  MAXIMUM = 255
  MEAN = 88.2687
  MINIMUM = 1
  STANDARD_DEVIATION = 31.4416
END_OBJECT = IMAGE
/* MAP OBJECT DEFINITIONS */
OBJECT = IMAGE_MAP_PROJECTION
  ^DATA_SET_MAP_PROJECTION_CATALOG= "DSMAP.CAT"
  A_AXIS_RADIUS = 3396.0
  B_AXIS_RADIUS = 3396.0
  C_AXIS_RADIUS = 3396.0
  CENTER_LATITUDE = 0.0
  CENTER_LONGITUDE = 150.0
  COORDINATE_SYSTEM_NAME = PLANETOGRAPHIC
  COORDINATE_SYSTEM_TYPE = "BODY-FIXED ROTATING"
  EASTERNMOST_LONGITUDE = 153.255
  FIRST_STANDARD_PARALLEL = "N/A"
  LINE_FIRST_PIXEL = 1
  LINE_LAST_PIXEL = 20628
  LINE_PROJECTION_OFFSET = -59674.75
  MAP_PROJECTION_ROTATION = 0.0
  MAP_PROJECTION_TYPE = SINUSOIDAL
  MAP_RESOLUTION = 1185.42760773333
  MAP_SCALE = 0.05
  MAXIMUM_LATITUDE = -50.3344
  MINIMUM_LATITUDE = -67.85039999999999
  POSITIVE_LONGITUDE_DIRECTION = EAST
  REFERENCE_LATITUDE = "N/A"
  REFERENCE_LONGITUDE = "N/A"
  SAMPLE_FIRST_PIXEL = 1
  SAMPLE_LAST_PIXEL = 4696
  SAMPLE_PROJECTION_OFFSET = 2004.25
  SECOND_STANDARD_PARALLEL = "N/A"
  WESTERNMOST_LONGITUDE = 145.842
END_OBJECT = IMAGE_MAP_PROJECTION
/* The JPEG2000 image data file associated with this label. */
OBJECT = COMPRESSED_FILE
  FILE_NAME = "H2634_0000_S13.JP2"
  RECORD_TYPE = UNDEFINED
  FILE_RECORDS = UNK
  ENCODING_TYPE = "JP2"
  INTERCHANGE_FORMAT = BINARY
  UNCOMPRESSED_FILE_NAME = "H2634_0000_S13.IMG"
  REQUIRED_STORAGE_BYTES = "96897264"
  ^DESCRIPTION = "JP2INFO.TXT"
END_OBJECT = COMPRESSED_FILE
END
