PDS_VERSION_ID = PDS3
/* FILE DATA ELEMENTS */
RECORD_TYPE = STREAM
/* POINTERS TO DATA OBJECTS */
^COMPRESSED_FILE = "H2634_0000_S23.JP2"
/* IDENTIFICATION DATA ELEMENTS */
DATA_SET_ID = "MEX-M-HRSC-5-REFDR-MAPPROJECTED-V3.0"
DATA_SET_NAME = "MARS EXPRESS HRSC MAP PROJECTED REFDR V3.0"
DETECTOR_ID = MEX_HRSC_S2
EVENT_TYPE = "MARS-REGIONAL-MAPPING-Te-Fl-Gl"
INSTRUMENT_HOST_ID = MEX
INSTRUMENT_HOST_NAME = "MARS EXPRESS"
INSTRUMENT_ID = HRSC
INSTRUMENT_NAME = "HIGH RESOLUTION STEREO CAMERA"
MISSION_NAME = "MARS EXPRESS"
MISSION_PHASE_NAME = ME_Phase_2
PROCESSING_LEVEL_ID = 3
PRODUCT_CREATION_TIME = 2016-04-08T01:44:18.000Z
PRODUCT_ID = "H2634_0000_S23.JP2"
RELEASE_ID = 0033
REVISION_ID = 0000
/* QUALITY DATA ELEMENTS */
DATA_QUALITY_ID = 2
DATA_QUALITY_DESC = "Data calculated based on photogrammetrically improved orbit and attitude data"
/* TIME DATA ELEMENTS */
SPACECRAFT_CLOCK_START_COUNT = "1/0086679837.07307"
SPACECRAFT_CLOCK_STOP_COUNT = "1/0086680362.29526"
START_TIME = 2006-01-30T05:46:00.722Z
STOP_TIME = 2006-01-30T05:52:46.324Z
/* ORBITAL DATA ELEMENTS */
ASCENDING_NODE_LONGITUDE = 173.01
MAXIMUM_RESOLUTION = 53.8
FOOTPRINT_POINT_LATITUDE = (-67.4277,-67.4853,-67.5271,-67.5651, -67.5992,-67.7372,-67.306,-66.723, -66.1345,-65.834,-65.5338,-65.2302, -64.9245,-64.6224,-64.3047,-63.9932, -63.6779,-63.3607,-63.0418,-62.7215, -62.398,-62.0734,-61.7467,-61.4167, -61.086,-60.7526,-60.4164,-60.0779, -59.7355,-59.39,-59.0412,-58.6942, -58.3423,-57.9847,-57.6274,-57.2669, -56.9033,-56.5394,-56.1715,-55.8012, -55.2384,-54.8625,-54.2865,-53.902, -53.5135,-53.1213,-52.7252,-52.1301, -51.5293,-51.1199,-50.7107,-50.4304, -50.4283,-50.422,-50.4083,-50.3989, -50.3915,-50.3728,-50.5624,-50.9661, -51.3666,-51.7649,-52.1591,-52.7444, -53.134,-53.5182,-54.091,-54.4697, -54.8454,-55.2192,-55.5892,-55.9567, -56.502,-56.8689,-57.2247,-57.758, -58.1103,-58.4589,-58.8056,-59.1498, -59.4907,-59.8298,-60.1648,-60.6646, -60.9935,-61.4853,-61.8094,-62.2929, -62.6127,-62.9301,-63.2444,-63.5564, -63.8648,-64.3273,-64.6318,-65.0857, -65.8296,-66.4157,-66.9928,-67.4277)
FOOTPRINT_POINT_LONGITUDE = (146.243,147.329,148.2,149.073,149.95, 151.127,151.261,151.434,151.601,151.681 ,151.761,151.838,151.914,151.992, 152.061,152.134,152.204,152.274,152.342 ,152.41,152.477,152.543,152.608,152.672 ,152.736,152.798,152.86,152.92,152.979, 153.037,153.094,153.153,153.209,153.263 ,153.318,153.372,153.425,153.479, 153.531,153.583,153.66,153.711,153.784, 153.834,153.882,153.93,153.977,154.049, 154.122,154.167,154.213,153.21,152.481, 151.572,150.603,150.058,149.389,148.478 ,147.965,147.954,147.941,147.926,147.91 ,147.884,147.863,147.842,147.806,147.78 ,147.752,147.722,147.692,147.66,147.608 ,147.568,147.531,147.47,147.428,147.384 ,147.338,147.291,147.243,147.192, 147.141,147.059,147.003,146.914,146.853 ,146.756,146.689,146.62,146.55,146.478, 146.405,146.288,146.208,146.083,145.865 ,145.681,145.487,146.243)
ORBIT_NUMBER = 2634
ORBITAL_ECCENTRICITY = 0.571
ORBITAL_INCLINATION = 86.61
ORBITAL_SEMIMAJOR_AXIS = 8535.21
PERIAPSIS_ALTITUDE = 282.03
PERIAPSIS_ARGUMENT_ANGLE = 255.55
PERIAPSIS_TIME = 2006-01-30T05:35:21.000Z
SPACECRAFT_ORIENTATION = (0.0,-1.0,0.0)
^MEX_ORIENTATION_DESC = "MEX_ORIENTATION_DESC.TXT"
SPACECRAFT_POINTING_MODE = NADIR
^MEX_POINTING_DESC = "MEX_POINTING_DESC.TXT"
RIGHT_ASCENSION = -1e+32
DECLINATION = -1e+32
OFFSET_ANGLE = -1e+32
SPACECRAFT_SOLAR_DISTANCE = 2.34563e+08
TARGET_NAME = MARS
/* CAMERA DATA ELEMENTS */
DETECTOR_TEMPERATURE = 18.3705
FOCAL_PLANE_TEMPERATURE = 8.3794
INST_CMPRS_NAME = "DISCRETE COSINE TRANSFORMATION (DCT)"
INST_CMPRS_RATIO = 13.6107
INST_CMPRS_QUALITY = 0
INST_CMPRS_QUANTZ_TBL_ID = 0
INSTRUMENT_TEMPERATURE = 11.4379
LENS_TEMPERATURE = 8.5833
MACROPIXEL_SIZE = 2
MISSING_FRAMES = 0
PIXEL_SUBSAMPLING_FLAG = N
SIGNAL_CHAIN_ID = 1
/* RADIOMETRIC DATA ELEMENTS */
BANDWIDTH = 178.0
CENTER_FILTER_WAVELENGTH = 679.0
RADIANCE_OFFSET = 1.07488
RADIANCE_SCALING_FACTOR = 0.0148536
REFLECTANCE_SCALING_FACTOR = 0.000432797
MEX:REFLECTANCE_OFFSET = 0.0313193
/* IMAGE OBJECT DEFINITIONS */
OBJECT = IMAGE
  INTERCHANGE_FORMAT = BINARY
  LINES = 20628
  LINE_SAMPLES = 4696
  SAMPLE_TYPE = UNSIGNED_INTEGER
  SAMPLE_BITS = 8
  BANDS = 1
  BAND_STORAGE_TYPE = BAND_SEQUENTIAL
  MAXIMUM = 237
  MEAN = 69.584
  MINIMUM = 1
  STANDARD_DEVIATION = 26.6825
END_OBJECT = IMAGE
/* MAP OBJECT DEFINITIONS */
OBJECT = IMAGE_MAP_PROJECTION
  ^DATA_SET_MAP_PROJECTION_CATALOG= "DSMAP.CAT"
  A_AXIS_RADIUS = 3396.0
  B_AXIS_RADIUS = 3396.0
  C_AXIS_RADIUS = 3396.0
  CENTER_LATITUDE = 0.0
  CENTER_LONGITUDE = 150.0
  COORDINATE_SYSTEM_NAME = PLANETOGRAPHIC
  COORDINATE_SYSTEM_TYPE = "BODY-FIXED ROTATING"
  EASTERNMOST_LONGITUDE = 154.213
  FIRST_STANDARD_PARALLEL = "N/A"
  LINE_FIRST_PIXEL = 1
  LINE_LAST_PIXEL = 20628
  LINE_PROJECTION_OFFSET = -59674.75
  MAP_PROJECTION_ROTATION = 0.0
  MAP_PROJECTION_TYPE = SINUSOIDAL
  MAP_RESOLUTION = 1185.42760773333
  MAP_SCALE = 0.05
  MAXIMUM_LATITUDE = -50.3728
  MINIMUM_LATITUDE = -67.7372
  POSITIVE_LONGITUDE_DIRECTION = EAST
  REFERENCE_LATITUDE = "N/A"
  REFERENCE_LONGITUDE = "N/A"
  SAMPLE_FIRST_PIXEL = 1
  SAMPLE_LAST_PIXEL = 4696
  SAMPLE_PROJECTION_OFFSET = 2004.25
  SECOND_STANDARD_PARALLEL = "N/A"
  WESTERNMOST_LONGITUDE = 145.487
END_OBJECT = IMAGE_MAP_PROJECTION
/* The JPEG2000 image data file associated with this label. */
OBJECT = COMPRESSED_FILE
  FILE_NAME = "H2634_0000_S23.JP2"
  RECORD_TYPE = UNDEFINED
  FILE_RECORDS = UNK
  ENCODING_TYPE = "JP2"
  INTERCHANGE_FORMAT = BINARY
  UNCOMPRESSED_FILE_NAME = "H2634_0000_S23.IMG"
  REQUIRED_STORAGE_BYTES = "96897264"
  ^DESCRIPTION = "JP2INFO.TXT"
END_OBJECT = COMPRESSED_FILE
END
