PDS_VERSION_ID = PDS3
/* FILE DATA ELEMENTS */
RECORD_TYPE = STREAM
/* POINTERS TO DATA OBJECTS */
^COMPRESSED_FILE = "H2639_0000_P13.JP2"
/* IDENTIFICATION DATA ELEMENTS */
DATA_SET_ID = "MEX-M-HRSC-5-REFDR-MAPPROJECTED-V3.0"
DATA_SET_NAME = "MARS EXPRESS HRSC MAP PROJECTED REFDR V3.0"
DETECTOR_ID = MEX_HRSC_P1
EVENT_TYPE = "MARS-REGIONAL-MAPPING-Te-Im-Eo"
INSTRUMENT_HOST_ID = MEX
INSTRUMENT_HOST_NAME = "MARS EXPRESS"
INSTRUMENT_ID = HRSC
INSTRUMENT_NAME = "HIGH RESOLUTION STEREO CAMERA"
MISSION_NAME = "MARS EXPRESS"
MISSION_PHASE_NAME = ME_Phase_2
PROCESSING_LEVEL_ID = 3
PRODUCT_CREATION_TIME = 2016-04-08T01:44:18.000Z
PRODUCT_ID = "H2639_0000_P13.JP2"
RELEASE_ID = 0033
REVISION_ID = 0000
/* QUALITY DATA ELEMENTS */
DATA_QUALITY_ID = 2
DATA_QUALITY_DESC = "Data calculated based on photogrammetrically improved orbit and attitude data"
/* TIME DATA ELEMENTS */
SPACECRAFT_CLOCK_START_COUNT = "1/0086801157.07274"
SPACECRAFT_CLOCK_STOP_COUNT = "1/0086802002.19734"
START_TIME = 2006-01-31T15:26:37.699Z
STOP_TIME = 2006-01-31T15:31:19.949Z
/* ORBITAL DATA ELEMENTS */
ASCENDING_NODE_LONGITUDE = 172.91
MAXIMUM_RESOLUTION = 77.9
FOOTPRINT_POINT_LATITUDE = (-46.8977,-46.9245,-46.943,-46.9543, -46.9655,-46.9692,-46.9709,-46.8027, -46.2642,-45.9929,-45.7199,-45.3072, -45.0303,-44.7503,-44.4693,-44.1865, -43.9021,-43.6164,-43.329,-43.0399, -42.7492,-42.4585,-42.1693,-41.8817, -41.5902,-41.3001,-41.0143,-40.7368, -40.4529,-40.0262,-39.737,-39.4514, -39.1737,-38.8908,-38.6106,-38.3306, -38.0521,-37.7743,-37.499,-37.2208, -36.9431,-36.5326,-36.2589,-35.9866, -35.5791,-35.1734,-34.6332,-34.0969, -33.5635,-33.0347,-33.0137,-33.0287, -33.0394,-33.0504,-33.0535,-33.0547, -33.0533,-33.0472,-33.0416,-33.0267, -33.146,-33.669,-34.0645,-34.4616, -34.9937,-35.5293,-36.0693,-36.6115, -37.1471,-37.4201,-37.6942,-37.9692, -38.2449,-38.5213,-38.7998,-39.2213, -39.5005,-39.7803,-40.0602,-40.3419, -40.6246,-40.908,-41.192,-41.4772, -41.7632,-42.0497,-42.3368,-42.6254, -43.0519,-43.3379,-43.6226,-43.9111, -44.1913,-44.4731,-44.7496,-45.0251, -45.5678,-46.2427,-46.7751,-46.8977)
FOOTPRINT_POINT_LONGITUDE = (18.3818,19.1252,19.7758,20.2872, 21.0314,21.4511,21.8713,22.1974,22.2269 ,22.2412,22.2553,22.276,22.2893,22.3036 ,22.317,22.3302,22.3431,22.3555,22.3677 ,22.3795,22.3911,22.4023,22.4128, 22.4226,22.4349,22.4465,22.4557,22.4601 ,22.4685,22.4821,22.4941,22.5042, 22.5099,22.5188,22.5264,22.534,22.5409, 22.5477,22.5533,22.5607,22.568,22.576, 22.5817,22.5867,22.5942,22.6012,22.6108 ,22.6192,22.6269,22.633,22.2569,21.7159 ,21.1223,20.3674,19.8821,19.5049, 19.0732,18.5331,18.2089,17.5055,17.0598 ,17.0885,17.11,17.1307,17.1572,17.1825, 17.2073,17.2301,17.2464,17.2562,17.2657 ,17.2749,17.2837,17.292,17.3007,17.3141 ,17.3211,17.3275,17.3331,17.3388, 17.3442,17.3491,17.3534,17.3575,17.361, 17.364,17.3663,17.3685,17.3674,17.368, 17.3685,17.3715,17.3703,17.3705,17.3681 ,17.3655,17.3569,17.3464,17.3358, 18.3818)
ORBIT_NUMBER = 2639
ORBITAL_ECCENTRICITY = 0.571
ORBITAL_INCLINATION = 86.61
ORBITAL_SEMIMAJOR_AXIS = 8535.75
PERIAPSIS_ALTITUDE = 281.62
PERIAPSIS_ARGUMENT_ANGLE = 254.67
PERIAPSIS_TIME = 2006-01-31T15:11:20.000Z
SPACECRAFT_ORIENTATION = (0.0,-1.0,0.0)
^MEX_ORIENTATION_DESC = "MEX_ORIENTATION_DESC.TXT"
SPACECRAFT_POINTING_MODE = NADIR
^MEX_POINTING_DESC = "MEX_POINTING_DESC.TXT"
RIGHT_ASCENSION = -1e+32
DECLINATION = -1e+32
OFFSET_ANGLE = -1e+32
SPACECRAFT_SOLAR_DISTANCE = 2.34814e+08
TARGET_NAME = MARS
/* CAMERA DATA ELEMENTS */
DETECTOR_TEMPERATURE = 17.351
FOCAL_PLANE_TEMPERATURE = 8.3794
INST_CMPRS_NAME = "DISCRETE COSINE TRANSFORMATION (DCT)"
INST_CMPRS_RATIO = 9.64526
INST_CMPRS_QUALITY = 0
INST_CMPRS_QUANTZ_TBL_ID = 0
INSTRUMENT_TEMPERATURE = 11.234
LENS_TEMPERATURE = 8.7872
MACROPIXEL_SIZE = 2
MISSING_FRAMES = 0
PIXEL_SUBSAMPLING_FLAG = N
SIGNAL_CHAIN_ID = 3
/* RADIOMETRIC DATA ELEMENTS */
BANDWIDTH = 174.0
CENTER_FILTER_WAVELENGTH = 675.0
RADIANCE_OFFSET = 1.19532
RADIANCE_SCALING_FACTOR = 0.0136825
REFLECTANCE_SCALING_FACTOR = 0.000405795
MEX:REFLECTANCE_OFFSET = 0.0354507
/* IMAGE OBJECT DEFINITIONS */
OBJECT = IMAGE
  INTERCHANGE_FORMAT = BINARY
  LINES = 8278
  LINE_SAMPLES = 3186
  SAMPLE_TYPE = UNSIGNED_INTEGER
  SAMPLE_BITS = 8
  BANDS = 1
  BAND_STORAGE_TYPE = BAND_SEQUENTIAL
  MAXIMUM = 255
  MEAN = 123.001
  MINIMUM = 1
  STANDARD_DEVIATION = 24.3757
END_OBJECT = IMAGE
/* MAP OBJECT DEFINITIONS */
OBJECT = IMAGE_MAP_PROJECTION
  ^DATA_SET_MAP_PROJECTION_CATALOG= "DSMAP.CAT"
  A_AXIS_RADIUS = 3396.0
  B_AXIS_RADIUS = 3396.0
  C_AXIS_RADIUS = 3396.0
  CENTER_LATITUDE = 0.0
  CENTER_LONGITUDE = 20.0
  COORDINATE_SYSTEM_NAME = PLANETOGRAPHIC
  COORDINATE_SYSTEM_TYPE = "BODY-FIXED ROTATING"
  EASTERNMOST_LONGITUDE = 22.633
  FIRST_STANDARD_PARALLEL = "N/A"
  LINE_FIRST_PIXEL = 1
  LINE_LAST_PIXEL = 8278
  LINE_PROJECTION_OFFSET = -19528.75
  MAP_PROJECTION_ROTATION = 0.0
  MAP_PROJECTION_TYPE = SINUSOIDAL
  MAP_RESOLUTION = 592.713803866667
  MAP_SCALE = 0.1
  MAXIMUM_LATITUDE = -33.0137
  MINIMUM_LATITUDE = -46.9709
  POSITIVE_LONGITUDE_DIRECTION = EAST
  REFERENCE_LATITUDE = "N/A"
  REFERENCE_LONGITUDE = "N/A"
  SAMPLE_FIRST_PIXEL = 1
  SAMPLE_LAST_PIXEL = 3186
  SAMPLE_PROJECTION_OFFSET = 1681.25
  SECOND_STANDARD_PARALLEL = "N/A"
  WESTERNMOST_LONGITUDE = 17.0598
END_OBJECT = IMAGE_MAP_PROJECTION
/* The JPEG2000 image data file associated with this label. */
OBJECT = COMPRESSED_FILE
  FILE_NAME = "H2639_0000_P13.JP2"
  RECORD_TYPE = UNDEFINED
  FILE_RECORDS = UNK
  ENCODING_TYPE = "JP2"
  INTERCHANGE_FORMAT = BINARY
  UNCOMPRESSED_FILE_NAME = "H2639_0000_P13.IMG"
  REQUIRED_STORAGE_BYTES = "26396010"
  ^DESCRIPTION = "JP2INFO.TXT"
END_OBJECT = COMPRESSED_FILE
END
