PDS_VERSION_ID = PDS3
/* FILE DATA ELEMENTS */
RECORD_TYPE = STREAM
/* POINTERS TO DATA OBJECTS */
^COMPRESSED_FILE = "H2639_0000_P23.JP2"
/* IDENTIFICATION DATA ELEMENTS */
DATA_SET_ID = "MEX-M-HRSC-5-REFDR-MAPPROJECTED-V3.0"
DATA_SET_NAME = "MARS EXPRESS HRSC MAP PROJECTED REFDR V3.0"
DETECTOR_ID = MEX_HRSC_P2
EVENT_TYPE = "MARS-REGIONAL-MAPPING-Te-Im-Eo"
INSTRUMENT_HOST_ID = MEX
INSTRUMENT_HOST_NAME = "MARS EXPRESS"
INSTRUMENT_ID = HRSC
INSTRUMENT_NAME = "HIGH RESOLUTION STEREO CAMERA"
MISSION_NAME = "MARS EXPRESS"
MISSION_PHASE_NAME = ME_Phase_2
PROCESSING_LEVEL_ID = 3
PRODUCT_CREATION_TIME = 2016-04-08T01:44:18.000Z
PRODUCT_ID = "H2639_0000_P23.JP2"
RELEASE_ID = 0033
REVISION_ID = 0000
/* QUALITY DATA ELEMENTS */
DATA_QUALITY_ID = 2
DATA_QUALITY_DESC = "Data calculated based on photogrammetrically improved orbit and attitude data"
/* TIME DATA ELEMENTS */
SPACECRAFT_CLOCK_START_COUNT = "1/0086801157.07274"
SPACECRAFT_CLOCK_STOP_COUNT = "1/0086802002.19734"
START_TIME = 2006-01-31T15:29:40.771Z
STOP_TIME = 2006-01-31T15:36:58.076Z
/* ORBITAL DATA ELEMENTS */
ASCENDING_NODE_LONGITUDE = 172.91
MAXIMUM_RESOLUTION = 98.8
FOOTPRINT_POINT_LATITUDE = (-46.7942,-46.8045,-46.8124,-46.8209, -46.8297,-46.8347,-46.8372,-46.8383, -46.8383,-46.837,-46.8342,-46.7004, -46.373,-46.0491,-45.7279,-45.2512, -44.9321,-44.6197,-44.1513,-43.8415, -43.5331,-43.2289,-42.7731,-42.4714, -42.172,-41.8739,-41.5774,-41.2878, -40.9925,-40.5575,-40.2707,-39.9872, -39.7129,-39.4346,-39.1555,-38.7369, -38.4563,-38.1837,-37.9129,-37.6436, -37.376,-36.8456,-36.3221,-35.8056, -35.2927,-34.7868,-34.2928,-33.8042, -33.3198,-32.843,-32.8599,-32.8851, -32.9168,-32.9489,-32.9666,-32.9932, -33.0182,-33.043,-33.0629,-33.084, -33.1014,-33.1178,-33.1374,-33.1559, -33.1654,-33.6267,-34.0946,-34.5654, -35.0457,-35.7812,-36.404,-37.1651, -37.6815,-38.204,-38.7299,-39.2665, -39.5395,-39.9523,-40.229,-40.5075, -40.7887,-41.0703,-41.5002,-41.7912, -42.0737,-42.3664,-42.6599,-42.9552, -43.4018,-43.7007,-44.0039,-44.3079, -44.616,-44.9247,-45.2349,-45.5486, -45.8635,-46.1833,-46.662,-46.7942)
FOOTPRINT_POINT_LONGITUDE = (17.1021,17.5754,17.9886,18.5198, 19.2277,19.8177,20.2894,20.7022,21.1741 ,21.6467,22.1202,22.8904,22.9154,22.941 ,22.9664,23.0045,23.0268,23.0518,23.086 ,23.1084,23.1299,23.1526,23.1838, 23.2041,23.2242,23.2436,23.2626,23.2846 ,23.3012,23.3286,23.3472,23.3664, 23.3904,23.4102,23.4281,23.4524,23.4658 ,23.4832,23.5003,23.5172,23.5339, 23.5666,23.5987,23.6305,23.6598,23.689, 23.7213,23.7526,23.7823,23.8125,23.4361 ,22.9062,22.304,21.7036,21.3282,20.7277 ,20.1272,19.4512,19.0001,18.4735, 18.0216,17.5688,16.9644,16.3574,16.026, 16.07,16.1129,16.1569,16.1984,16.2574, 16.3056,16.3614,16.3969,16.4317,16.4673 ,16.4996,16.514,16.535,16.5489,16.5626, 16.5752,16.5884,16.6048,16.6139,16.6291 ,16.6386,16.6483,16.6576,16.6705, 16.6793,16.686,16.6929,16.6978,16.7031, 16.708,16.7112,16.7143,16.7148,16.7174, 17.1021)
ORBIT_NUMBER = 2639
ORBITAL_ECCENTRICITY = 0.571
ORBITAL_INCLINATION = 86.61
ORBITAL_SEMIMAJOR_AXIS = 8535.75
PERIAPSIS_ALTITUDE = 281.62
PERIAPSIS_ARGUMENT_ANGLE = 254.67
PERIAPSIS_TIME = 2006-01-31T15:11:20.000Z
SPACECRAFT_ORIENTATION = (0.0,-1.0,0.0)
^MEX_ORIENTATION_DESC = "MEX_ORIENTATION_DESC.TXT"
SPACECRAFT_POINTING_MODE = NADIR
^MEX_POINTING_DESC = "MEX_POINTING_DESC.TXT"
RIGHT_ASCENSION = -1e+32
DECLINATION = -1e+32
OFFSET_ANGLE = -1e+32
SPACECRAFT_SOLAR_DISTANCE = 2.34814e+08
TARGET_NAME = MARS
/* CAMERA DATA ELEMENTS */
DETECTOR_TEMPERATURE = 18.7783
FOCAL_PLANE_TEMPERATURE = 8.3794
INST_CMPRS_NAME = "DISCRETE COSINE TRANSFORMATION (DCT)"
INST_CMPRS_RATIO = 6.8148
INST_CMPRS_QUALITY = 0
INST_CMPRS_QUANTZ_TBL_ID = 0
INSTRUMENT_TEMPERATURE = 11.234
LENS_TEMPERATURE = 8.7872
MACROPIXEL_SIZE = 2
MISSING_FRAMES = 0
PIXEL_SUBSAMPLING_FLAG = N
SIGNAL_CHAIN_ID = 3
/* RADIOMETRIC DATA ELEMENTS */
BANDWIDTH = 177.0
CENTER_FILTER_WAVELENGTH = 676.5
RADIANCE_OFFSET = 1.14098
RADIANCE_SCALING_FACTOR = 0.0141691
REFLECTANCE_SCALING_FACTOR = 0.000414241
MEX:REFLECTANCE_OFFSET = 0.0333573
/* IMAGE OBJECT DEFINITIONS */
OBJECT = IMAGE
  INTERCHANGE_FORMAT = BINARY
  LINES = 8278
  LINE_SAMPLES = 3186
  SAMPLE_TYPE = UNSIGNED_INTEGER
  SAMPLE_BITS = 8
  BANDS = 1
  BAND_STORAGE_TYPE = BAND_SEQUENTIAL
  MAXIMUM = 255
  MEAN = 129.179
  MINIMUM = 1
  STANDARD_DEVIATION = 25.7233
END_OBJECT = IMAGE
/* MAP OBJECT DEFINITIONS */
OBJECT = IMAGE_MAP_PROJECTION
  ^DATA_SET_MAP_PROJECTION_CATALOG= "DSMAP.CAT"
  A_AXIS_RADIUS = 3396.0
  B_AXIS_RADIUS = 3396.0
  C_AXIS_RADIUS = 3396.0
  CENTER_LATITUDE = 0.0
  CENTER_LONGITUDE = 20.0
  COORDINATE_SYSTEM_NAME = PLANETOGRAPHIC
  COORDINATE_SYSTEM_TYPE = "BODY-FIXED ROTATING"
  EASTERNMOST_LONGITUDE = 23.8125
  FIRST_STANDARD_PARALLEL = "N/A"
  LINE_FIRST_PIXEL = 1
  LINE_LAST_PIXEL = 8278
  LINE_PROJECTION_OFFSET = -19528.75
  MAP_PROJECTION_ROTATION = 0.0
  MAP_PROJECTION_TYPE = SINUSOIDAL
  MAP_RESOLUTION = 592.713803866667
  MAP_SCALE = 0.1
  MAXIMUM_LATITUDE = -32.843
  MINIMUM_LATITUDE = -46.8383
  POSITIVE_LONGITUDE_DIRECTION = EAST
  REFERENCE_LATITUDE = "N/A"
  REFERENCE_LONGITUDE = "N/A"
  SAMPLE_FIRST_PIXEL = 1
  SAMPLE_LAST_PIXEL = 3186
  SAMPLE_PROJECTION_OFFSET = 1681.25
  SECOND_STANDARD_PARALLEL = "N/A"
  WESTERNMOST_LONGITUDE = 16.026
END_OBJECT = IMAGE_MAP_PROJECTION
/* The JPEG2000 image data file associated with this label. */
OBJECT = COMPRESSED_FILE
  FILE_NAME = "H2639_0000_P23.JP2"
  RECORD_TYPE = UNDEFINED
  FILE_RECORDS = UNK
  ENCODING_TYPE = "JP2"
  INTERCHANGE_FORMAT = BINARY
  UNCOMPRESSED_FILE_NAME = "H2639_0000_P23.IMG"
  REQUIRED_STORAGE_BYTES = "26396010"
  ^DESCRIPTION = "JP2INFO.TXT"
END_OBJECT = COMPRESSED_FILE
END
