PDS_VERSION_ID = PDS3
/* FILE DATA ELEMENTS */
RECORD_TYPE = STREAM
/* POINTERS TO DATA OBJECTS */
^COMPRESSED_FILE = "H2639_0000_S13.JP2"
/* IDENTIFICATION DATA ELEMENTS */
DATA_SET_ID = "MEX-M-HRSC-5-REFDR-MAPPROJECTED-V3.0"
DATA_SET_NAME = "MARS EXPRESS HRSC MAP PROJECTED REFDR V3.0"
DETECTOR_ID = MEX_HRSC_S1
EVENT_TYPE = "MARS-REGIONAL-MAPPING-Te-Im-Eo"
INSTRUMENT_HOST_ID = MEX
INSTRUMENT_HOST_NAME = "MARS EXPRESS"
INSTRUMENT_ID = HRSC
INSTRUMENT_NAME = "HIGH RESOLUTION STEREO CAMERA"
MISSION_NAME = "MARS EXPRESS"
MISSION_PHASE_NAME = ME_Phase_2
PROCESSING_LEVEL_ID = 3
PRODUCT_CREATION_TIME = 2016-04-08T01:44:18.000Z
PRODUCT_ID = "H2639_0000_S13.JP2"
RELEASE_ID = 0033
REVISION_ID = 0000
/* QUALITY DATA ELEMENTS */
DATA_QUALITY_ID = 2
DATA_QUALITY_DESC = "Data calculated based on photogrammetrically improved orbit and attitude data"
/* TIME DATA ELEMENTS */
SPACECRAFT_CLOCK_START_COUNT = "1/0086801157.07274"
SPACECRAFT_CLOCK_STOP_COUNT = "1/0086802002.19734"
START_TIME = 2006-01-31T15:26:02.828Z
STOP_TIME = 2006-01-31T15:30:24.327Z
/* ORBITAL DATA ELEMENTS */
ASCENDING_NODE_LONGITUDE = 172.91
MAXIMUM_RESOLUTION = 77.1
FOOTPRINT_POINT_LATITUDE = (-46.9216,-46.9529,-46.9833,-47.0006, -47.0118,-46.9659,-46.1929,-45.6703, -45.2746,-44.7408,-44.3359,-44.0635, -43.7901,-43.5158,-43.24,-42.9631, -42.6844,-42.4041,-42.1233,-41.8417, -41.5518,-41.2588,-40.9712,-40.6953, -40.4013,-40.1116,-39.8165,-39.5172, -39.2325,-38.9424,-38.654,-38.366, -38.08,-37.654,-37.3677,-36.939, -36.6559,-36.2325,-35.9512,-35.6707, -35.3921,-35.1114,-34.6913,-34.4137, -33.9967,-33.7199,-33.4443,-33.03, -33.0412,-33.0474,-33.0579,-33.0627, -33.0628,-33.0623,-33.0575,-33.0491, -33.0373,-33.0162,-33.1403,-33.6855, -34.0963,-34.3712,-34.6475,-34.9239, -35.2008,-35.6201,-35.8997,-36.1779, -36.4596,-36.7405,-37.2899,-37.5722, -37.8552,-38.1395,-38.424,-38.7102, -39.0052,-39.29,-39.577,-39.8638, -40.1516,-40.4411,-40.7312,-41.0189, -41.3057,-41.5904,-41.8737,-42.1546, -42.5735,-42.9801,-43.2548,-43.5276, -43.944,-44.6168,-45.1409,-45.5296, -45.9188,-46.3053,-46.8143,-46.9216)
FOOTPRINT_POINT_LONGITUDE = (18.1546,18.868,19.7606,20.4745,21.1898 ,22.1243,22.1662,22.1928,22.2122, 22.2379,22.2565,22.269,22.2808,22.2923, 22.3035,22.3142,22.3249,22.3353,22.345, 22.354,22.3655,22.3774,22.386,22.3892, 22.3991,22.4073,22.4175,22.4294,22.4355 ,22.4437,22.4513,22.4587,22.4654, 22.4743,22.4811,22.491,22.4965,22.5046, 22.5095,22.5143,22.5184,22.5232,22.5302 ,22.534,22.5399,22.5436,22.5468,22.3988 ,22.0385,21.5771,20.9611,20.3977, 19.9881,19.4757,19.1168,18.7065,18.2446 ,17.5766,17.2561,17.283,17.3024,17.315, 17.3275,17.3394,17.3511,17.3687,17.3797 ,17.3897,17.4003,17.4101,17.4237, 17.4321,17.4401,17.4479,17.4552,17.4625 ,17.4719,17.4774,17.483,17.4878,17.4923 ,17.4967,17.5006,17.5038,17.5068, 17.5093,17.5113,17.5127,17.514,17.5114, 17.5111,17.5102,17.5113,17.5065,17.4984 ,17.491,17.4839,17.4759,17.4636, 18.1546)
ORBIT_NUMBER = 2639
ORBITAL_ECCENTRICITY = 0.571
ORBITAL_INCLINATION = 86.61
ORBITAL_SEMIMAJOR_AXIS = 8535.75
PERIAPSIS_ALTITUDE = 281.62
PERIAPSIS_ARGUMENT_ANGLE = 254.67
PERIAPSIS_TIME = 2006-01-31T15:11:20.000Z
SPACECRAFT_ORIENTATION = (0.0,-1.0,0.0)
^MEX_ORIENTATION_DESC = "MEX_ORIENTATION_DESC.TXT"
SPACECRAFT_POINTING_MODE = NADIR
^MEX_POINTING_DESC = "MEX_POINTING_DESC.TXT"
RIGHT_ASCENSION = -1e+32
DECLINATION = -1e+32
OFFSET_ANGLE = -1e+32
SPACECRAFT_SOLAR_DISTANCE = 2.34814e+08
TARGET_NAME = MARS
/* CAMERA DATA ELEMENTS */
DETECTOR_TEMPERATURE = 17.351
FOCAL_PLANE_TEMPERATURE = 8.3794
INST_CMPRS_NAME = "DISCRETE COSINE TRANSFORMATION (DCT)"
INST_CMPRS_RATIO = 8.93993
INST_CMPRS_QUALITY = 0
INST_CMPRS_QUANTZ_TBL_ID = 0
INSTRUMENT_TEMPERATURE = 11.234
LENS_TEMPERATURE = 8.7872
MACROPIXEL_SIZE = 2
MISSING_FRAMES = 0
PIXEL_SUBSAMPLING_FLAG = N
SIGNAL_CHAIN_ID = 1
/* RADIOMETRIC DATA ELEMENTS */
BANDWIDTH = 180.0
CENTER_FILTER_WAVELENGTH = 677.0
RADIANCE_OFFSET = 1.3704
RADIANCE_SCALING_FACTOR = 0.0145246
REFLECTANCE_SCALING_FACTOR = 0.000417831
MEX:REFLECTANCE_OFFSET = 0.0394224
/* IMAGE OBJECT DEFINITIONS */
OBJECT = IMAGE
  INTERCHANGE_FORMAT = BINARY
  LINES = 8278
  LINE_SAMPLES = 3186
  SAMPLE_TYPE = UNSIGNED_INTEGER
  SAMPLE_BITS = 8
  BANDS = 1
  BAND_STORAGE_TYPE = BAND_SEQUENTIAL
  MAXIMUM = 255
  MEAN = 123.764
  MINIMUM = 1
  STANDARD_DEVIATION = 25.5229
END_OBJECT = IMAGE
/* MAP OBJECT DEFINITIONS */
OBJECT = IMAGE_MAP_PROJECTION
  ^DATA_SET_MAP_PROJECTION_CATALOG= "DSMAP.CAT"
  A_AXIS_RADIUS = 3396.0
  B_AXIS_RADIUS = 3396.0
  C_AXIS_RADIUS = 3396.0
  CENTER_LATITUDE = 0.0
  CENTER_LONGITUDE = 20.0
  COORDINATE_SYSTEM_NAME = PLANETOGRAPHIC
  COORDINATE_SYSTEM_TYPE = "BODY-FIXED ROTATING"
  EASTERNMOST_LONGITUDE = 22.5468
  FIRST_STANDARD_PARALLEL = "N/A"
  LINE_FIRST_PIXEL = 1
  LINE_LAST_PIXEL = 8278
  LINE_PROJECTION_OFFSET = -19528.75
  MAP_PROJECTION_ROTATION = 0.0
  MAP_PROJECTION_TYPE = SINUSOIDAL
  MAP_RESOLUTION = 592.713803866667
  MAP_SCALE = 0.1
  MAXIMUM_LATITUDE = -33.0162
  MINIMUM_LATITUDE = -47.0118
  POSITIVE_LONGITUDE_DIRECTION = EAST
  REFERENCE_LATITUDE = "N/A"
  REFERENCE_LONGITUDE = "N/A"
  SAMPLE_FIRST_PIXEL = 1
  SAMPLE_LAST_PIXEL = 3186
  SAMPLE_PROJECTION_OFFSET = 1681.25
  SECOND_STANDARD_PARALLEL = "N/A"
  WESTERNMOST_LONGITUDE = 17.2561
END_OBJECT = IMAGE_MAP_PROJECTION
/* The JPEG2000 image data file associated with this label. */
OBJECT = COMPRESSED_FILE
  FILE_NAME = "H2639_0000_S13.JP2"
  RECORD_TYPE = UNDEFINED
  FILE_RECORDS = UNK
  ENCODING_TYPE = "JP2"
  INTERCHANGE_FORMAT = BINARY
  UNCOMPRESSED_FILE_NAME = "H2639_0000_S13.IMG"
  REQUIRED_STORAGE_BYTES = "26396010"
  ^DESCRIPTION = "JP2INFO.TXT"
END_OBJECT = COMPRESSED_FILE
END
