PDS_VERSION_ID = PDS3
/* FILE DATA ELEMENTS */
RECORD_TYPE = STREAM
/* POINTERS TO DATA OBJECTS */
^COMPRESSED_FILE = "H2645_0000_BL3.JP2"
/* IDENTIFICATION DATA ELEMENTS */
DATA_SET_ID = "MEX-M-HRSC-5-REFDR-MAPPROJECTED-V3.0"
DATA_SET_NAME = "MARS EXPRESS HRSC MAP PROJECTED REFDR V3.0"
DETECTOR_ID = MEX_HRSC_BLUE
EVENT_TYPE = "MARS-REGIONAL-MAPPING-Te-Im-Fl"
INSTRUMENT_HOST_ID = MEX
INSTRUMENT_HOST_NAME = "MARS EXPRESS"
INSTRUMENT_ID = HRSC
INSTRUMENT_NAME = "HIGH RESOLUTION STEREO CAMERA"
MISSION_NAME = "MARS EXPRESS"
MISSION_PHASE_NAME = ME_Phase_2
PROCESSING_LEVEL_ID = 3
PRODUCT_CREATION_TIME = 2016-04-08T01:44:18.000Z
PRODUCT_ID = "H2645_0000_BL3.JP2"
RELEASE_ID = 0033
REVISION_ID = 0000
/* QUALITY DATA ELEMENTS */
DATA_QUALITY_ID = 2
DATA_QUALITY_DESC = "Data calculated based on photogrammetrically improved orbit and attitude data"
/* TIME DATA ELEMENTS */
SPACECRAFT_CLOCK_START_COUNT = "1/0086946229.07302"
SPACECRAFT_CLOCK_STOP_COUNT = "1/0086947016.53476"
START_TIME = 2006-02-02T07:45:49.547Z
STOP_TIME = 2006-02-02T07:52:08.862Z
/* ORBITAL DATA ELEMENTS */
ASCENDING_NODE_LONGITUDE = 172.78
MAXIMUM_RESOLUTION = 150.8
FOOTPRINT_POINT_LATITUDE = (-52.5788,-52.6186,-52.6465,-52.6633, -52.6756,-52.6936,-52.1337,-51.5672, -50.9928,-50.414,-49.8261,-49.2309, -48.6283,-48.0177,-47.7093,-47.3991, -47.087,-46.7724,-46.4563,-45.9763, -45.6552,-45.3326,-44.8439,-44.5157, -44.1848,-43.8514,-43.5161,-43.0084, -42.669,-42.3315,-41.9962,-41.6625, -41.3313,-40.8365,-40.5088,-40.1829, -39.8586,-39.5362,-39.2153,-38.896, -38.5783,-38.2624,-37.9481,-37.6354, -37.3245,-37.0153,-36.9464,-36.9578, -36.9686,-36.9799,-36.9892,-36.9947, -37.0008,-37.0055,-37.007,-37.008, -37.0058,-37.0033,-36.9994,-37.3009, -37.9112,-38.2189,-38.5287,-38.8399, -39.153,-39.4692,-39.7843,-40.1028, -40.4231,-40.7451,-41.0689,-41.3943, -41.7217,-42.0506,-42.3813,-42.8808, -43.2151,-43.5476,-43.8779,-44.2057, -44.5318,-44.8558,-45.1778,-45.4978, -45.8155,-46.1313,-46.4436,-46.7564, -47.065,-47.3738,-47.6801,-48.2865, -48.8845,-49.6254,-50.2082,-50.784, -51.3526,-51.9146,-52.47,-52.5788)
FOOTPRINT_POINT_LONGITUDE = (147.907,148.999,149.993,150.788, 151.635,152.381,152.433,152.483,152.529 ,152.581,152.628,152.673,152.717,152.76 ,152.781,152.801,152.821,152.84,152.86, 152.885,152.905,152.926,152.956,152.976 ,152.994,153.012,153.029,153.055,153.07 ,153.086,153.102,153.118,153.135, 153.156,153.17,153.184,153.197,153.211, 153.223,153.235,153.247,153.259,153.27, 153.281,153.292,153.303,152.654,152.234 ,151.816,151.34,150.744,150.327,149.851 ,149.255,148.838,148.42,148.003,147.585 ,147.167,146.926,146.959,146.975,146.99 ,147.005,147.019,147.029,147.045, 147.057,147.068,147.079,147.089,147.099 ,147.108,147.117,147.126,147.137, 147.143,147.149,147.154,147.158,147.162 ,147.164,147.166,147.167,147.168, 147.168,147.17,147.166,147.166,147.16, 147.156,147.145,147.135,147.108,147.088 ,147.065,147.04,147.011,146.98,147.907)
ORBIT_NUMBER = 2645
ORBITAL_ECCENTRICITY = 0.571
ORBITAL_INCLINATION = 86.61
ORBITAL_SEMIMAJOR_AXIS = 8536.73
PERIAPSIS_ALTITUDE = 282.23
PERIAPSIS_ARGUMENT_ANGLE = 253.64
PERIAPSIS_TIME = 2006-02-02T07:30:35.000Z
SPACECRAFT_ORIENTATION = (0.0,-1.0,0.0)
^MEX_ORIENTATION_DESC = "MEX_ORIENTATION_DESC.TXT"
SPACECRAFT_POINTING_MODE = NADIR
^MEX_POINTING_DESC = "MEX_POINTING_DESC.TXT"
RIGHT_ASCENSION = -1e+32
DECLINATION = -1e+32
OFFSET_ANGLE = -1e+32
SPACECRAFT_SOLAR_DISTANCE = 2.35114e+08
TARGET_NAME = MARS
/* CAMERA DATA ELEMENTS */
DETECTOR_TEMPERATURE = 18.3705
FOCAL_PLANE_TEMPERATURE = 8.3794
INST_CMPRS_NAME = "DISCRETE COSINE TRANSFORMATION (DCT)"
INST_CMPRS_RATIO = 11.9509
INST_CMPRS_QUALITY = 0
INST_CMPRS_QUANTZ_TBL_ID = 0
INSTRUMENT_TEMPERATURE = 11.234
LENS_TEMPERATURE = 8.9911
MACROPIXEL_SIZE = 4
MISSING_FRAMES = 0
PIXEL_SUBSAMPLING_FLAG = N
SIGNAL_CHAIN_ID = 2
/* RADIOMETRIC DATA ELEMENTS */
BANDWIDTH = 76.0
CENTER_FILTER_WAVELENGTH = 444.0
RADIANCE_OFFSET = 0.299823
RADIANCE_SCALING_FACTOR = 0.00169648
REFLECTANCE_SCALING_FACTOR = 9.63532e-05
MEX:REFLECTANCE_OFFSET = 0.0170288
/* IMAGE OBJECT DEFINITIONS */
OBJECT = IMAGE
  INTERCHANGE_FORMAT = BINARY
  LINES = 9344
  LINE_SAMPLES = 2970
  SAMPLE_TYPE = UNSIGNED_INTEGER
  SAMPLE_BITS = 8
  BANDS = 1
  BAND_STORAGE_TYPE = BAND_SEQUENTIAL
  MAXIMUM = 255
  MEAN = 131.299
  MINIMUM = 1
  STANDARD_DEVIATION = 19.3288
END_OBJECT = IMAGE
/* MAP OBJECT DEFINITIONS */
OBJECT = IMAGE_MAP_PROJECTION
  ^DATA_SET_MAP_PROJECTION_CATALOG= "DSMAP.CAT"
  A_AXIS_RADIUS = 3396.0
  B_AXIS_RADIUS = 3396.0
  C_AXIS_RADIUS = 3396.0
  CENTER_LATITUDE = 0.0
  CENTER_LONGITUDE = 150.0
  COORDINATE_SYSTEM_NAME = PLANETOGRAPHIC
  COORDINATE_SYSTEM_TYPE = "BODY-FIXED ROTATING"
  EASTERNMOST_LONGITUDE = 153.303
  FIRST_STANDARD_PARALLEL = "N/A"
  LINE_FIRST_PIXEL = 1
  LINE_LAST_PIXEL = 9344
  LINE_PROJECTION_OFFSET = -21895.375
  MAP_PROJECTION_ROTATION = 0.0
  MAP_PROJECTION_TYPE = SINUSOIDAL
  MAP_RESOLUTION = 592.713803866667
  MAP_SCALE = 0.1
  MAXIMUM_LATITUDE = -36.9464
  MINIMUM_LATITUDE = -52.6936
  POSITIVE_LONGITUDE_DIRECTION = EAST
  REFERENCE_LATITUDE = "N/A"
  REFERENCE_LONGITUDE = "N/A"
  SAMPLE_FIRST_PIXEL = 1
  SAMPLE_LAST_PIXEL = 2970
  SAMPLE_PROJECTION_OFFSET = 1427.375
  SECOND_STANDARD_PARALLEL = "N/A"
  WESTERNMOST_LONGITUDE = 146.926
END_OBJECT = IMAGE_MAP_PROJECTION
/* The JPEG2000 image data file associated with this label. */
OBJECT = COMPRESSED_FILE
  FILE_NAME = "H2645_0000_BL3.JP2"
  RECORD_TYPE = UNDEFINED
  FILE_RECORDS = UNK
  ENCODING_TYPE = "JP2"
  INTERCHANGE_FORMAT = BINARY
  UNCOMPRESSED_FILE_NAME = "H2645_0000_BL3.IMG"
  REQUIRED_STORAGE_BYTES = "27775440"
  ^DESCRIPTION = "JP2INFO.TXT"
END_OBJECT = COMPRESSED_FILE
END
