PDS_VERSION_ID = PDS3
/* FILE DATA ELEMENTS */
RECORD_TYPE = STREAM
/* POINTERS TO DATA OBJECTS */
^COMPRESSED_FILE = "H2647_0000_IR3.JP2"
/* IDENTIFICATION DATA ELEMENTS */
DATA_SET_ID = "MEX-M-HRSC-5-REFDR-MAPPROJECTED-V3.0"
DATA_SET_NAME = "MARS EXPRESS HRSC MAP PROJECTED REFDR V3.0"
DETECTOR_ID = MEX_HRSC_IR
EVENT_TYPE = "MARS-REGIONAL-MAPPING-Im-Fl-Gl"
INSTRUMENT_HOST_ID = MEX
INSTRUMENT_HOST_NAME = "MARS EXPRESS"
INSTRUMENT_ID = HRSC
INSTRUMENT_NAME = "HIGH RESOLUTION STEREO CAMERA"
MISSION_NAME = "MARS EXPRESS"
MISSION_PHASE_NAME = ME_Phase_2
PROCESSING_LEVEL_ID = 3
PRODUCT_CREATION_TIME = 2016-04-08T01:44:18.000Z
PRODUCT_ID = "H2647_0000_IR3.JP2"
RELEASE_ID = 0033
REVISION_ID = 0000
/* QUALITY DATA ELEMENTS */
DATA_QUALITY_ID = 1
DATA_QUALITY_DESC = "Data calculated based on original SPICE kernels"
/* TIME DATA ELEMENTS */
SPACECRAFT_CLOCK_START_COUNT = "1/0086994366.09027"
SPACECRAFT_CLOCK_STOP_COUNT = "1/0086994884.03001"
START_TIME = 2006-02-02T21:06:20.719Z
STOP_TIME = 2006-02-02T21:10:53.644Z
/* ORBITAL DATA ELEMENTS */
ASCENDING_NODE_LONGITUDE = 172.74
MAXIMUM_RESOLUTION = 183.8
FOOTPRINT_POINT_LATITUDE = (-68.0037,-68.0589,-68.1305,-68.1696, -68.2049,-68.2384,-68.0536,-67.5159, -66.8402,-66.294,-66.0186,-65.6018, -65.3231,-65.0484,-64.7656,-64.4781, -64.1895,-63.8987,-63.6012,-63.1562, -62.7154,-62.4075,-62.1038,-61.6499, -61.3396,-61.0223,-60.7125,-60.398, -60.0794,-59.7602,-59.2678,-58.9391, -58.615,-58.2863,-57.9413,-57.4212, -57.0811,-56.5629,-56.2025,-55.8498, -55.494,-55.1361,-54.7737,-54.4098, -54.0424,-53.6721,-53.2982,-52.921, -52.5416,-52.0137,-52.0062,-51.9909, -51.9791,-51.9466,-51.9184,-51.8721, -52.045,-52.4261,-52.8021,-53.1764, -53.5457,-53.913,-54.4631,-54.8219, -55.1915,-55.5378,-55.8956,-56.4143, -56.7612,-57.2813,-57.6125,-57.9686, -58.3043,-58.7909,-59.1143,-59.5938, -59.913,-60.2282,-60.5373,-60.8512, -61.161,-61.4651,-61.771,-62.0723, -62.3737,-62.6717,-63.115,-63.4087, -63.7007,-63.9905,-64.2769,-64.7025, -65.1263,-65.4038,-65.6817,-65.9554, -66.3638,-67.0342,-67.5624,-68.0037)
FOOTPRINT_POINT_LONGITUDE = (307.831,308.658,309.859,310.601, 311.346,312.14,312.912,313.083,313.278, 313.425,313.496,313.599,313.666,313.724 ,313.788,313.853,313.917,313.978, 314.044,314.135,314.214,314.277,314.332 ,314.408,314.461,314.519,314.565, 314.614,314.663,314.709,314.784,314.831 ,314.871,314.912,314.963,315.035, 315.075,315.135,315.182,315.222,315.259 ,315.296,315.333,315.369,315.404, 315.438,315.472,315.505,315.537,315.58, 314.956,314.237,313.743,312.756,312.084 ,311.189,310.788,310.763,310.735, 310.707,310.677,310.646,310.6,310.565, 310.536,310.497,310.462,310.402,310.363 ,310.304,310.257,310.222,310.177, 310.102,310.052,309.973,309.92,309.864, 309.807,309.75,309.691,309.63,309.568, 309.505,309.44,309.374,309.271,309.201, 309.13,309.056,308.981,308.865,308.745, 308.663,308.578,308.492,308.359,308.126 ,307.931,307.831)
ORBIT_NUMBER = 2647
ORBITAL_ECCENTRICITY = 0.571
ORBITAL_INCLINATION = 86.61
ORBITAL_SEMIMAJOR_AXIS = 8537.56
PERIAPSIS_ALTITUDE = 281.6
PERIAPSIS_ARGUMENT_ANGLE = 253.32
PERIAPSIS_TIME = 2006-02-02T20:57:02.000Z
SPACECRAFT_ORIENTATION = (0.0,-1.0,0.0)
^MEX_ORIENTATION_DESC = "MEX_ORIENTATION_DESC.TXT"
SPACECRAFT_POINTING_MODE = NADIR
^MEX_POINTING_DESC = "MEX_POINTING_DESC.TXT"
RIGHT_ASCENSION = -1e+32
DECLINATION = -1e+32
OFFSET_ANGLE = -1e+32
SPACECRAFT_SOLAR_DISTANCE = 2.35213e+08
TARGET_NAME = MARS
/* CAMERA DATA ELEMENTS */
DETECTOR_TEMPERATURE = 17.1471
FOCAL_PLANE_TEMPERATURE = 8.1755
INST_CMPRS_NAME = "DISCRETE COSINE TRANSFORMATION (DCT)"
INST_CMPRS_RATIO = 25.9345
INST_CMPRS_QUALITY = 0
INST_CMPRS_QUANTZ_TBL_ID = 0
INSTRUMENT_TEMPERATURE = 11.0301
LENS_TEMPERATURE = 8.7872
MACROPIXEL_SIZE = 8
MISSING_FRAMES = 0
PIXEL_SUBSAMPLING_FLAG = N
SIGNAL_CHAIN_ID = 2
/* RADIOMETRIC DATA ELEMENTS */
BANDWIDTH = 81.0
CENTER_FILTER_WAVELENGTH = 955.5
RADIANCE_OFFSET = 0.239898
RADIANCE_SCALING_FACTOR = 0.0030699
REFLECTANCE_SCALING_FACTOR = 0.000366421
MEX:REFLECTANCE_OFFSET = 0.028634
/* IMAGE OBJECT DEFINITIONS */
OBJECT = IMAGE
  INTERCHANGE_FORMAT = BINARY
  LINES = 4834
  LINE_SAMPLES = 1200
  SAMPLE_TYPE = UNSIGNED_INTEGER
  SAMPLE_BITS = 8
  BANDS = 1
  BAND_STORAGE_TYPE = BAND_SEQUENTIAL
  MAXIMUM = 255
  MEAN = 73.54
  MINIMUM = 1
  STANDARD_DEVIATION = 36.2438
END_OBJECT = IMAGE
/* MAP OBJECT DEFINITIONS */
OBJECT = IMAGE_MAP_PROJECTION
  ^DATA_SET_MAP_PROJECTION_CATALOG= "DSMAP.CAT"
  A_AXIS_RADIUS = 3396.0
  B_AXIS_RADIUS = 3396.0
  C_AXIS_RADIUS = 3396.0
  CENTER_LATITUDE = 0.0
  CENTER_LONGITUDE = 312.0
  COORDINATE_SYSTEM_NAME = PLANETOGRAPHIC
  COORDINATE_SYSTEM_TYPE = "BODY-FIXED ROTATING"
  EASTERNMOST_LONGITUDE = 315.58
  FIRST_STANDARD_PARALLEL = "N/A"
  LINE_FIRST_PIXEL = 1
  LINE_LAST_PIXEL = 4834
  LINE_PROJECTION_OFFSET = -15369.3125
  MAP_PROJECTION_ROTATION = 0.0
  MAP_PROJECTION_TYPE = SINUSOIDAL
  MAP_RESOLUTION = 296.356901933333
  MAP_SCALE = 0.2
  MAXIMUM_LATITUDE = -51.8721
  MINIMUM_LATITUDE = -68.2384
  POSITIVE_LONGITUDE_DIRECTION = EAST
  REFERENCE_LATITUDE = "N/A"
  REFERENCE_LONGITUDE = "N/A"
  SAMPLE_FIRST_PIXEL = 1
  SAMPLE_LAST_PIXEL = 1200
  SAMPLE_PROJECTION_OFFSET = 487.0625
  SECOND_STANDARD_PARALLEL = "N/A"
  WESTERNMOST_LONGITUDE = 307.831
END_OBJECT = IMAGE_MAP_PROJECTION
/* The JPEG2000 image data file associated with this label. */
OBJECT = COMPRESSED_FILE
  FILE_NAME = "H2647_0000_IR3.JP2"
  RECORD_TYPE = UNDEFINED
  FILE_RECORDS = UNK
  ENCODING_TYPE = "JP2"
  INTERCHANGE_FORMAT = BINARY
  UNCOMPRESSED_FILE_NAME = "H2647_0000_IR3.IMG"
  REQUIRED_STORAGE_BYTES = "5818800"
  ^DESCRIPTION = "JP2INFO.TXT"
END_OBJECT = COMPRESSED_FILE
END
