PDS_VERSION_ID = PDS3
/* FILE DATA ELEMENTS */
RECORD_TYPE = STREAM
/* POINTERS TO DATA OBJECTS */
^COMPRESSED_FILE = "H2650_0000_GR3.JP2"
/* IDENTIFICATION DATA ELEMENTS */
DATA_SET_ID = "MEX-M-HRSC-5-REFDR-MAPPROJECTED-V3.0"
DATA_SET_NAME = "MARS EXPRESS HRSC MAP PROJECTED REFDR V3.0"
DETECTOR_ID = MEX_HRSC_GREEN
EVENT_TYPE = "MARS-REGIONAL-MAPPING-Im-Eo"
INSTRUMENT_HOST_ID = MEX
INSTRUMENT_HOST_NAME = "MARS EXPRESS"
INSTRUMENT_ID = HRSC
INSTRUMENT_NAME = "HIGH RESOLUTION STEREO CAMERA"
MISSION_NAME = "MARS EXPRESS"
MISSION_PHASE_NAME = ME_Phase_2
PROCESSING_LEVEL_ID = 3
PRODUCT_CREATION_TIME = 2016-04-08T01:44:18.000Z
PRODUCT_ID = "H2650_0000_GR3.JP2"
RELEASE_ID = 0033
REVISION_ID = 0000
/* QUALITY DATA ELEMENTS */
DATA_QUALITY_ID = 2
DATA_QUALITY_DESC = "Data calculated based on photogrammetrically improved orbit and attitude data"
/* TIME DATA ELEMENTS */
SPACECRAFT_CLOCK_START_COUNT = "1/0087067049.07307"
SPACECRAFT_CLOCK_STOP_COUNT = "1/0087067735.46120"
START_TIME = 2006-02-03T17:18:32.385Z
STOP_TIME = 2006-02-03T17:24:36.975Z
/* ORBITAL DATA ELEMENTS */
ASCENDING_NODE_LONGITUDE = 172.68
MAXIMUM_RESOLUTION = 113.5
FOOTPRINT_POINT_LATITUDE = (-61.5886,-61.6412,-61.6892,-61.7552, -61.8161,-61.833,-61.2424,-60.6433, -60.0358,-59.419,-58.7935,-58.1592, -57.5144,-57.1881,-56.8596,-56.5288, -56.1955,-55.8592,-55.521,-55.1798, -54.8359,-54.4892,-54.1397,-53.7876, -53.4325,-53.0748,-52.7141,-52.3506, -51.984,-51.6153,-51.2425,-50.8664, -50.4877,-50.1061,-49.7208,-49.3327, -48.9415,-48.5468,-48.1491,-47.7473, -47.3412,-46.9322,-46.5204,-46.1048, -45.6856,-45.2446,-44.8191,-44.3882, -43.9533,-43.8038,-43.7989,-43.7878, -43.7762,-43.7635,-43.7415,-43.7066, -43.9001,-44.3287,-44.7536,-45.1752, -45.6116,-46.0251,-46.4357,-46.8434, -47.2472,-47.6474,-48.0442,-48.438, -48.8274,-49.2135,-49.5984,-49.9803, -50.3577,-50.7326,-51.1046,-51.4733, -51.8389,-52.2017,-52.5618,-52.9192, -53.2738,-53.6253,-53.9737,-54.32, -54.6637,-55.0044,-55.3422,-55.6775, -56.0108,-56.3408,-56.6686,-56.9937, -57.6378,-58.2722,-58.8965,-59.5116, -60.1181,-60.5682,-61.1591,-61.5886)
FOOTPRINT_POINT_LONGITUDE = (13.6106,14.3726,15.1337,16.3209, 17.6476,18.4972,18.6237,18.7463,18.8646 ,18.9787,19.09,19.1961,19.3,19.351, 19.4011,19.4501,19.4983,19.5467,19.5928 ,19.6384,19.6834,19.7275,19.7712, 19.8139,19.856,19.8969,19.9372,19.9769, 20.0164,20.0539,20.0915,20.1294,20.1661 ,20.2019,20.237,20.2715,20.3053,20.3379 ,20.3702,20.4021,20.4362,20.4676, 20.4977,20.5271,20.556,20.5838,20.6089, 20.6367,20.6641,19.7897,19.1119,18.2767 ,17.7532,17.2293,16.4947,15.5986, 15.0511,15.0482,15.0437,15.0384,15.0308 ,15.0212,15.0112,15.0023,14.9901, 14.9761,14.9606,14.9447,14.9233,14.9015 ,14.884,14.8656,14.842,14.8181,14.7926, 14.7661,14.7385,14.709,14.6785,14.647, 14.6141,14.5792,14.5426,14.5067,14.4697 ,14.4303,14.389,14.3464,14.3043,14.259, 14.2134,14.1652,14.0686,13.9643,13.8545 ,13.7367,13.6139,13.5212,13.3883, 13.6106)
ORBIT_NUMBER = 2650
ORBITAL_ECCENTRICITY = 0.571
ORBITAL_INCLINATION = 86.61
ORBITAL_SEMIMAJOR_AXIS = 8537.3
PERIAPSIS_ALTITUDE = 281.65
PERIAPSIS_ARGUMENT_ANGLE = 252.76
PERIAPSIS_TIME = 2006-02-03T17:06:34.000Z
SPACECRAFT_ORIENTATION = (0.0,-1.0,0.0)
^MEX_ORIENTATION_DESC = "MEX_ORIENTATION_DESC.TXT"
SPACECRAFT_POINTING_MODE = ACROSSTRACK
^MEX_POINTING_DESC = "MEX_POINTING_DESC.TXT"
RIGHT_ASCENSION = -1e+32
DECLINATION = -1e+32
OFFSET_ANGLE = 0.56
SPACECRAFT_SOLAR_DISTANCE = 2.35362e+08
TARGET_NAME = MARS
/* CAMERA DATA ELEMENTS */
DETECTOR_TEMPERATURE = 18.1666
FOCAL_PLANE_TEMPERATURE = 8.3794
INST_CMPRS_NAME = "DISCRETE COSINE TRANSFORMATION (DCT)"
INST_CMPRS_RATIO = 17.0516
INST_CMPRS_QUALITY = 0
INST_CMPRS_QUANTZ_TBL_ID = 0
INSTRUMENT_TEMPERATURE = 11.234
LENS_TEMPERATURE = 8.7872
MACROPIXEL_SIZE = 4
MISSING_FRAMES = 1
PIXEL_SUBSAMPLING_FLAG = N
SIGNAL_CHAIN_ID = 2
/* RADIOMETRIC DATA ELEMENTS */
BANDWIDTH = 88.0
CENTER_FILTER_WAVELENGTH = 538.0
RADIANCE_OFFSET = 0.56876
RADIANCE_SCALING_FACTOR = 0.00306268
REFLECTANCE_SCALING_FACTOR = 0.000146073
MEX:REFLECTANCE_OFFSET = 0.0271267
/* IMAGE OBJECT DEFINITIONS */
OBJECT = IMAGE
  INTERCHANGE_FORMAT = BINARY
  LINES = 10739
  LINE_SAMPLES = 2698
  SAMPLE_TYPE = UNSIGNED_INTEGER
  SAMPLE_BITS = 8
  BANDS = 1
  BAND_STORAGE_TYPE = BAND_SEQUENTIAL
  MAXIMUM = 255
  MEAN = 97.5356
  MINIMUM = 1
  STANDARD_DEVIATION = 34.9948
END_OBJECT = IMAGE
/* MAP OBJECT DEFINITIONS */
OBJECT = IMAGE_MAP_PROJECTION
  ^DATA_SET_MAP_PROJECTION_CATALOG= "DSMAP.CAT"
  A_AXIS_RADIUS = 3396.0
  B_AXIS_RADIUS = 3396.0
  C_AXIS_RADIUS = 3396.0
  CENTER_LATITUDE = 0.0
  CENTER_LONGITUDE = 17.0
  COORDINATE_SYSTEM_NAME = PLANETOGRAPHIC
  COORDINATE_SYSTEM_TYPE = "BODY-FIXED ROTATING"
  EASTERNMOST_LONGITUDE = 20.6641
  FIRST_STANDARD_PARALLEL = "N/A"
  LINE_FIRST_PIXEL = 1
  LINE_LAST_PIXEL = 10739
  LINE_PROJECTION_OFFSET = -25908.875
  MAP_PROJECTION_ROTATION = 0.0
  MAP_PROJECTION_TYPE = SINUSOIDAL
  MAP_RESOLUTION = 592.713803866667
  MAP_SCALE = 0.1
  MAXIMUM_LATITUDE = -43.7066
  MINIMUM_LATITUDE = -61.833
  POSITIVE_LONGITUDE_DIRECTION = EAST
  REFERENCE_LATITUDE = "N/A"
  REFERENCE_LONGITUDE = "N/A"
  SAMPLE_FIRST_PIXEL = 1
  SAMPLE_LAST_PIXEL = 2698
  SAMPLE_PROJECTION_OFFSET = 1073.625
  SECOND_STANDARD_PARALLEL = "N/A"
  WESTERNMOST_LONGITUDE = 13.3883
END_OBJECT = IMAGE_MAP_PROJECTION
/* The JPEG2000 image data file associated with this label. */
OBJECT = COMPRESSED_FILE
  FILE_NAME = "H2650_0000_GR3.JP2"
  RECORD_TYPE = UNDEFINED
  FILE_RECORDS = UNK
  ENCODING_TYPE = "JP2"
  INTERCHANGE_FORMAT = BINARY
  UNCOMPRESSED_FILE_NAME = "H2650_0000_GR3.IMG"
  REQUIRED_STORAGE_BYTES = "28995406"
  ^DESCRIPTION = "JP2INFO.TXT"
END_OBJECT = COMPRESSED_FILE
END
