PDS_VERSION_ID = PDS3
/* FILE DATA ELEMENTS */
RECORD_TYPE = STREAM
/* POINTERS TO DATA OBJECTS */
^COMPRESSED_FILE = "H2652_0000_BL3.JP2"
/* IDENTIFICATION DATA ELEMENTS */
DATA_SET_ID = "MEX-M-HRSC-5-REFDR-MAPPROJECTED-V3.0"
DATA_SET_NAME = "MARS EXPRESS HRSC MAP PROJECTED REFDR V3.0"
DETECTOR_ID = MEX_HRSC_BLUE
EVENT_TYPE = "MARS-REGIONAL-MAPPING-Im-Fl"
INSTRUMENT_HOST_ID = MEX
INSTRUMENT_HOST_NAME = "MARS EXPRESS"
INSTRUMENT_ID = HRSC
INSTRUMENT_NAME = "HIGH RESOLUTION STEREO CAMERA"
MISSION_NAME = "MARS EXPRESS"
MISSION_PHASE_NAME = ME_Phase_2
PROCESSING_LEVEL_ID = 3
PRODUCT_CREATION_TIME = 2016-04-08T01:44:18.000Z
PRODUCT_ID = "H2652_0000_BL3.JP2"
RELEASE_ID = 0033
REVISION_ID = 0000
/* QUALITY DATA ELEMENTS */
DATA_QUALITY_ID = 2
DATA_QUALITY_DESC = "Data calculated based on photogrammetrically improved orbit and attitude data"
/* TIME DATA ELEMENTS */
SPACECRAFT_CLOCK_START_COUNT = "1/0087115473.07294"
SPACECRAFT_CLOCK_STOP_COUNT = "1/0087116047.00586"
START_TIME = 2006-02-04T06:46:10.411Z
STOP_TIME = 2006-02-04T06:51:08.101Z
/* ORBITAL DATA ELEMENTS */
ASCENDING_NODE_LONGITUDE = 172.64
MAXIMUM_RESOLUTION = 126.5
FOOTPRINT_POINT_LATITUDE = (-59.7786,-59.8164,-59.8458,-59.8816, -59.9084,-59.9387,-59.4878,-59.1305, -58.6471,-58.1588,-57.6656,-57.1665, -56.6617,-56.1506,-55.6344,-55.3737, -55.1114,-54.8475,-54.5823,-54.3154, -54.0473,-53.7775,-53.5059,-53.2328, -52.9578,-52.681,-52.4039,-52.1243, -51.8428,-51.5586,-51.2739,-50.9871, -50.5539,-50.2653,-49.9706,-49.6765, -49.38,-49.081,-48.7835,-48.4869, -48.1914,-47.8972,-47.6044,-47.3128, -47.0225,-46.7333,-46.2608,-46.2632, -46.2658,-46.2652,-46.2613,-46.2551, -46.2483,-46.2352,-46.2163,-46.2042, -46.1866,-46.4702,-46.7549,-47.0407, -47.328,-47.6164,-47.906,-48.197, -48.4893,-48.7833,-49.0784,-49.3728, -49.6653,-49.9558,-50.2446,-50.5317, -50.8172,-51.1009,-51.383,-51.6633, -51.9422,-52.2194,-52.4947,-52.7684, -53.0406,-53.3115,-53.5807,-53.8482, -54.1143,-54.3785,-54.6416,-54.9031, -55.1632,-55.4215,-55.9337,-56.4407, -56.9416,-57.4378,-57.927,-58.2912, -58.772,-59.247,-59.7172,-59.7786)
FOOTPRINT_POINT_LONGITUDE = (178.874,179.621,180.27,181.17,181.97, 183.126,183.661,183.718,183.786,183.853 ,183.921,183.985,184.049,184.11,184.17, 184.199,184.228,184.256,184.285,184.312 ,184.34,184.367,184.393,184.42,184.445, 184.47,184.498,184.523,184.548,184.569, 184.594,184.617,184.651,184.68,184.697, 184.721,184.744,184.763,184.786,184.807 ,184.827,184.847,184.867,184.886, 184.905,184.924,184.85,184.406,183.634, 183.139,182.426,181.987,181.548,180.834 ,180.065,179.624,179.056,179.055, 179.053,179.052,179.049,179.046,179.042 ,179.038,179.032,179.025,179.017, 179.009,179.0,178.991,178.981,178.97, 178.958,178.946,178.933,178.92,178.905, 178.89,178.875,178.859,178.842,178.824, 178.805,178.786,178.765,178.745,178.724 ,178.703,178.68,178.657,178.608,178.557 ,178.502,178.441,178.383,178.334, 178.268,178.199,178.126,178.874)
ORBIT_NUMBER = 2652
ORBITAL_ECCENTRICITY = 0.571
ORBITAL_INCLINATION = 86.61
ORBITAL_SEMIMAJOR_AXIS = 8538.66
PERIAPSIS_ALTITUDE = 281.72
PERIAPSIS_ARGUMENT_ANGLE = 252.43
PERIAPSIS_TIME = 2006-02-04T06:33:02.000Z
SPACECRAFT_ORIENTATION = (0.0,-1.0,0.0)
^MEX_ORIENTATION_DESC = "MEX_ORIENTATION_DESC.TXT"
SPACECRAFT_POINTING_MODE = NADIR
^MEX_POINTING_DESC = "MEX_POINTING_DESC.TXT"
RIGHT_ASCENSION = -1e+32
DECLINATION = -1e+32
OFFSET_ANGLE = -1e+32
SPACECRAFT_SOLAR_DISTANCE = 2.35461e+08
TARGET_NAME = MARS
/* CAMERA DATA ELEMENTS */
DETECTOR_TEMPERATURE = 18.1666
FOCAL_PLANE_TEMPERATURE = 7.9716
INST_CMPRS_NAME = "DISCRETE COSINE TRANSFORMATION (DCT)"
INST_CMPRS_RATIO = 21.5622
INST_CMPRS_QUALITY = 0
INST_CMPRS_QUANTZ_TBL_ID = 0
INSTRUMENT_TEMPERATURE = 11.0301
LENS_TEMPERATURE = 8.5833
MACROPIXEL_SIZE = 4
MISSING_FRAMES = 0
PIXEL_SUBSAMPLING_FLAG = N
SIGNAL_CHAIN_ID = 2
/* RADIOMETRIC DATA ELEMENTS */
BANDWIDTH = 76.0
CENTER_FILTER_WAVELENGTH = 444.0
RADIANCE_OFFSET = 0.308838
RADIANCE_SCALING_FACTOR = 0.0015288
REFLECTANCE_SCALING_FACTOR = 8.70864e-05
MEX:REFLECTANCE_OFFSET = 0.0175926
/* IMAGE OBJECT DEFINITIONS */
OBJECT = IMAGE
  INTERCHANGE_FORMAT = BINARY
  LINES = 8168
  LINE_SAMPLES = 2373
  SAMPLE_TYPE = UNSIGNED_INTEGER
  SAMPLE_BITS = 8
  BANDS = 1
  BAND_STORAGE_TYPE = BAND_SEQUENTIAL
  MAXIMUM = 255
  MEAN = 100.194
  MINIMUM = 1
  STANDARD_DEVIATION = 36.4885
END_OBJECT = IMAGE
/* MAP OBJECT DEFINITIONS */
OBJECT = IMAGE_MAP_PROJECTION
  ^DATA_SET_MAP_PROJECTION_CATALOG= "DSMAP.CAT"
  A_AXIS_RADIUS = 3396.0
  B_AXIS_RADIUS = 3396.0
  C_AXIS_RADIUS = 3396.0
  CENTER_LATITUDE = 0.0
  CENTER_LONGITUDE = 182.0
  COORDINATE_SYSTEM_NAME = PLANETOGRAPHIC
  COORDINATE_SYSTEM_TYPE = "BODY-FIXED ROTATING"
  EASTERNMOST_LONGITUDE = 184.924
  FIRST_STANDARD_PARALLEL = "N/A"
  LINE_FIRST_PIXEL = 1
  LINE_LAST_PIXEL = 8168
  LINE_PROJECTION_OFFSET = -27377.375
  MAP_PROJECTION_ROTATION = 0.0
  MAP_PROJECTION_TYPE = SINUSOIDAL
  MAP_RESOLUTION = 592.713803866667
  MAP_SCALE = 0.1
  MAXIMUM_LATITUDE = -46.1866
  MINIMUM_LATITUDE = -59.9387
  POSITIVE_LONGITUDE_DIRECTION = EAST
  REFERENCE_LATITUDE = "N/A"
  REFERENCE_LONGITUDE = "N/A"
  SAMPLE_FIRST_PIXEL = 1
  SAMPLE_LAST_PIXEL = 2373
  SAMPLE_PROJECTION_OFFSET = 1180.875
  SECOND_STANDARD_PARALLEL = "N/A"
  WESTERNMOST_LONGITUDE = 178.126
END_OBJECT = IMAGE_MAP_PROJECTION
/* The JPEG2000 image data file associated with this label. */
OBJECT = COMPRESSED_FILE
  FILE_NAME = "H2652_0000_BL3.JP2"
  RECORD_TYPE = UNDEFINED
  FILE_RECORDS = UNK
  ENCODING_TYPE = "JP2"
  INTERCHANGE_FORMAT = BINARY
  UNCOMPRESSED_FILE_NAME = "H2652_0000_BL3.IMG"
  REQUIRED_STORAGE_BYTES = "19404021"
  ^DESCRIPTION = "JP2INFO.TXT"
END_OBJECT = COMPRESSED_FILE
END
