PDS_VERSION_ID = PDS3
/* FILE DATA ELEMENTS */
RECORD_TYPE = STREAM
/* POINTERS TO DATA OBJECTS */
^COMPRESSED_FILE = "H2652_0000_ND3.JP2"
/* IDENTIFICATION DATA ELEMENTS */
DATA_SET_ID = "MEX-M-HRSC-5-REFDR-MAPPROJECTED-V3.0"
DATA_SET_NAME = "MARS EXPRESS HRSC MAP PROJECTED REFDR V3.0"
DETECTOR_ID = MEX_HRSC_NADIR
EVENT_TYPE = "MARS-REGIONAL-MAPPING-Im-Fl"
INSTRUMENT_HOST_ID = MEX
INSTRUMENT_HOST_NAME = "MARS EXPRESS"
INSTRUMENT_ID = HRSC
INSTRUMENT_NAME = "HIGH RESOLUTION STEREO CAMERA"
MISSION_NAME = "MARS EXPRESS"
MISSION_PHASE_NAME = ME_Phase_2
PROCESSING_LEVEL_ID = 3
PRODUCT_CREATION_TIME = 2016-04-08T01:44:18.000Z
PRODUCT_ID = "H2652_0000_ND3.JP2"
RELEASE_ID = 0033
REVISION_ID = 0000
/* QUALITY DATA ELEMENTS */
DATA_QUALITY_ID = 2
DATA_QUALITY_DESC = "Data calculated based on photogrammetrically improved orbit and attitude data"
/* TIME DATA ELEMENTS */
SPACECRAFT_CLOCK_START_COUNT = "1/0087115473.07294"
SPACECRAFT_CLOCK_STOP_COUNT = "1/0087116047.00586"
START_TIME = 2006-02-04T06:45:55.206Z
STOP_TIME = 2006-02-04T06:50:41.233Z
/* ORBITAL DATA ELEMENTS */
ASCENDING_NODE_LONGITUDE = 172.64
MAXIMUM_RESOLUTION = 30.9
FOOTPRINT_POINT_LATITUDE = (-59.8095,-59.8481,-59.8821,-59.9186, -59.9363,-59.9504,-59.8491,-59.4917, -59.0107,-58.5246,-58.0322,-57.6595, -57.1575,-56.65,-56.1362,-55.6162, -55.3542,-55.0905,-54.8251,-54.5581, -54.2895,-54.0193,-53.7476,-53.4744, -53.1994,-52.9227,-52.6443,-52.3643, -52.0824,-51.7988,-51.5134,-51.2266, -50.9377,-50.647,-50.3549,-50.0607, -49.7646,-49.4668,-49.1667,-48.8649, -48.5612,-48.2555,-47.9482,-47.4885, -47.1836,-46.8799,-46.5774,-46.2755, -46.2781,-46.2783,-46.2759,-46.2717, -46.264,-46.257,-46.2462,-46.2361, -46.2139,-46.1978,-46.4862,-46.7851, -47.0852,-47.3867,-47.6894,-47.9933, -48.4476,-48.748,-49.0466,-49.3435, -49.6383,-49.9312,-50.2224,-50.5118, -50.7997,-51.0857,-51.3698,-51.6523, -51.9333,-52.2125,-52.4901,-52.766, -53.0401,-53.3126,-53.5834,-53.8527, -54.1204,-54.3867,-54.6515,-54.9146, -55.1761,-55.4359,-55.9516,-56.4612, -56.9646,-57.4626,-58.0772,-58.5627, -59.0428,-59.3995,-59.7531,-59.8095)
FOOTPRINT_POINT_LONGITUDE = (179.166,179.943,180.721,181.709, 182.281,182.804,183.577,183.629,183.701 ,183.77,183.837,183.887,183.951,184.014 ,184.074,184.133,184.162,184.191, 184.219,184.247,184.274,184.301,184.327 ,184.353,184.379,184.404,184.428, 184.456,184.48,184.504,184.525,184.549, 184.572,184.594,184.622,184.642,184.662 ,184.685,184.703,184.725,184.747, 184.767,184.787,184.816,184.836,184.855 ,184.872,184.611,184.096,183.416, 182.908,182.455,181.891,181.496,180.987 ,180.592,179.856,179.403,179.147, 179.145,179.142,179.138,179.134,179.129 ,179.119,179.112,179.103,179.094, 179.084,179.074,179.064,179.052,179.039 ,179.026,179.013,178.998,178.983, 178.968,178.951,178.935,178.917,178.898 ,178.879,178.859,178.837,178.816, 178.795,178.773,178.75,178.725,178.675, 178.622,178.564,178.505,178.428,178.361 ,178.292,178.238,178.183,179.166)
ORBIT_NUMBER = 2652
ORBITAL_ECCENTRICITY = 0.571
ORBITAL_INCLINATION = 86.61
ORBITAL_SEMIMAJOR_AXIS = 8538.66
PERIAPSIS_ALTITUDE = 281.72
PERIAPSIS_ARGUMENT_ANGLE = 252.43
PERIAPSIS_TIME = 2006-02-04T06:33:02.000Z
SPACECRAFT_ORIENTATION = (0.0,-1.0,0.0)
^MEX_ORIENTATION_DESC = "MEX_ORIENTATION_DESC.TXT"
SPACECRAFT_POINTING_MODE = NADIR
^MEX_POINTING_DESC = "MEX_POINTING_DESC.TXT"
RIGHT_ASCENSION = -1e+32
DECLINATION = -1e+32
OFFSET_ANGLE = -1e+32
SPACECRAFT_SOLAR_DISTANCE = 2.35461e+08
TARGET_NAME = MARS
/* CAMERA DATA ELEMENTS */
DETECTOR_TEMPERATURE = 18.1666
FOCAL_PLANE_TEMPERATURE = 7.9716
INST_CMPRS_NAME = "DISCRETE COSINE TRANSFORMATION (DCT)"
INST_CMPRS_RATIO = 7.2858
INST_CMPRS_QUALITY = 0
INST_CMPRS_QUANTZ_TBL_ID = 0
INSTRUMENT_TEMPERATURE = 11.0301
LENS_TEMPERATURE = 8.5833
MACROPIXEL_SIZE = 1
MISSING_FRAMES = 0
PIXEL_SUBSAMPLING_FLAG = N
SIGNAL_CHAIN_ID = 0
/* RADIOMETRIC DATA ELEMENTS */
BANDWIDTH = 177.0
CENTER_FILTER_WAVELENGTH = 677.5
RADIANCE_OFFSET = 0.879435
RADIANCE_SCALING_FACTOR = 0.0131953
REFLECTANCE_SCALING_FACTOR = 0.000388639
MEX:REFLECTANCE_OFFSET = 0.0259019
/* IMAGE OBJECT DEFINITIONS */
OBJECT = IMAGE
  INTERCHANGE_FORMAT = BINARY
  LINES = 32669
  LINE_SAMPLES = 9492
  SAMPLE_TYPE = UNSIGNED_INTEGER
  SAMPLE_BITS = 8
  BANDS = 1
  BAND_STORAGE_TYPE = BAND_SEQUENTIAL
  MAXIMUM = 255
  MEAN = 76.2438
  MINIMUM = 1
  STANDARD_DEVIATION = 32.4203
END_OBJECT = IMAGE
/* MAP OBJECT DEFINITIONS */
OBJECT = IMAGE_MAP_PROJECTION
  ^DATA_SET_MAP_PROJECTION_CATALOG= "DSMAP.CAT"
  A_AXIS_RADIUS = 3396.0
  B_AXIS_RADIUS = 3396.0
  C_AXIS_RADIUS = 3396.0
  CENTER_LATITUDE = 0.0
  CENTER_LONGITUDE = 182.0
  COORDINATE_SYSTEM_NAME = PLANETOGRAPHIC
  COORDINATE_SYSTEM_TYPE = "BODY-FIXED ROTATING"
  EASTERNMOST_LONGITUDE = 184.872
  FIRST_STANDARD_PARALLEL = "N/A"
  LINE_FIRST_PIXEL = 1
  LINE_LAST_PIXEL = 32669
  LINE_PROJECTION_OFFSET = -109508.0
  MAP_PROJECTION_ROTATION = 0.0
  MAP_PROJECTION_TYPE = SINUSOIDAL
  MAP_RESOLUTION = 2370.85521546667
  MAP_SCALE = 0.025
  MAXIMUM_LATITUDE = -46.1978
  MINIMUM_LATITUDE = -59.9504
  POSITIVE_LONGITUDE_DIRECTION = EAST
  REFERENCE_LATITUDE = "N/A"
  REFERENCE_LONGITUDE = "N/A"
  SAMPLE_FIRST_PIXEL = 1
  SAMPLE_LAST_PIXEL = 9492
  SAMPLE_PROJECTION_OFFSET = 4725.0
  SECOND_STANDARD_PARALLEL = "N/A"
  WESTERNMOST_LONGITUDE = 178.183
END_OBJECT = IMAGE_MAP_PROJECTION
/* The JPEG2000 image data file associated with this label. */
OBJECT = COMPRESSED_FILE
  FILE_NAME = "H2652_0000_ND3.JP2"
  RECORD_TYPE = UNDEFINED
  FILE_RECORDS = UNK
  ENCODING_TYPE = "JP2"
  INTERCHANGE_FORMAT = BINARY
  UNCOMPRESSED_FILE_NAME = "H2652_0000_ND3.IMG"
  REQUIRED_STORAGE_BYTES = "310132116"
  ^DESCRIPTION = "JP2INFO.TXT"
END_OBJECT = COMPRESSED_FILE
END
