PDS_VERSION_ID = PDS3
/* FILE DATA ELEMENTS */
RECORD_TYPE = STREAM
/* POINTERS TO DATA OBJECTS */
^COMPRESSED_FILE = "H2653_0000_P23.JP2"
/* IDENTIFICATION DATA ELEMENTS */
DATA_SET_ID = "MEX-M-HRSC-5-REFDR-MAPPROJECTED-V3.0"
DATA_SET_NAME = "MARS EXPRESS HRSC MAP PROJECTED REFDR V3.0"
DETECTOR_ID = MEX_HRSC_P2
EVENT_TYPE = "MARS-REGIONAL-MAPPING-Fl-Gl-Mw"
INSTRUMENT_HOST_ID = MEX
INSTRUMENT_HOST_NAME = "MARS EXPRESS"
INSTRUMENT_ID = HRSC
INSTRUMENT_NAME = "HIGH RESOLUTION STEREO CAMERA"
MISSION_NAME = "MARS EXPRESS"
MISSION_PHASE_NAME = ME_Phase_2
PROCESSING_LEVEL_ID = 3
PRODUCT_CREATION_TIME = 2016-04-08T01:44:18.000Z
PRODUCT_ID = "H2653_0000_P23.JP2"
RELEASE_ID = 0033
REVISION_ID = 0000
/* QUALITY DATA ELEMENTS */
DATA_QUALITY_ID = 1
DATA_QUALITY_DESC = "Data calculated based on original SPICE kernels"
/* TIME DATA ELEMENTS */
SPACECRAFT_CLOCK_START_COUNT = "1/0087139618.09051"
SPACECRAFT_CLOCK_STOP_COUNT = "1/0087140268.54255"
START_TIME = 2006-02-04T13:29:09.813Z
STOP_TIME = 2006-02-04T13:36:18.641Z
/* ORBITAL DATA ELEMENTS */
ASCENDING_NODE_LONGITUDE = 172.61
MAXIMUM_RESOLUTION = 63.9
FOOTPRINT_POINT_LATITUDE = (-62.8086,-62.8875,-62.9303,-62.9574, -62.9862,-63.0798,-62.6404,-62.0505, -61.5956,-60.9817,-60.0723,-59.7567, -59.2791,-58.9608,-58.3229,-57.9976, -57.6641,-57.1706,-56.6675,-56.3321, -55.9917,-55.484,-55.1379,-54.7822, -54.4289,-54.0744,-53.5514,-53.1955, -52.8295,-52.2794,-51.908,-51.3583, -50.9842,-50.6052,-50.0311,-49.649, -49.2649,-48.8739,-48.4791,-48.0807, -47.68,-47.2759,-46.8694,-46.4585, -46.0453,-45.6316,-45.6094,-45.6181, -45.6245,-45.6287,-45.6315,-45.6329, -45.6328,-45.6288,-45.626,-45.6193, -45.6116,-45.6004,-46.0052,-46.6122, -47.0138,-47.4114,-47.8074,-48.1997, -48.5901,-48.9767,-49.3616,-49.7427, -50.1215,-50.4978,-50.8716,-51.2418, -51.6087,-51.9721,-52.5105,-52.8691, -53.2256,-53.5787,-53.9278,-54.2716, -54.6152,-55.1257,-55.473,-55.8096, -56.1375,-56.4701,-56.806,-57.1351, -57.4612,-57.7857,-58.1077,-58.4266, -59.0628,-59.6852,-60.3012,-60.9085, -61.3545,-61.9497,-62.5352,-62.8086)
FOOTPRINT_POINT_LONGITUDE = (79.5544,81.1324,82.1503,82.8865, 83.7946,85.0662,85.1553,85.2732,85.3535 ,85.457,85.6291,85.6779,85.7495,85.7987 ,85.9001,85.9473,85.989,86.0592,86.1246 ,86.1699,86.2125,86.2815,86.3229, 86.3587,86.3976,86.4375,86.5063,86.5482 ,86.5844,86.6406,86.6766,86.7392, 86.7772,86.8133,86.8666,86.9049,86.9436 ,86.9788,87.0129,87.0465,87.0801, 87.1133,87.1468,87.1789,87.2116,87.2433 ,86.6518,86.1224,85.5936,85.1317, 84.5382,83.8131,83.3512,82.6916,82.2296 ,81.6353,81.1065,80.4192,80.4248,80.431 ,80.4328,80.4341,80.4331,80.4315, 80.4279,80.4236,80.4173,80.4106,80.4021 ,80.392,80.3805,80.3685,80.3557,80.3423 ,80.3216,80.3038,80.2842,80.2643,80.244 ,80.2257,80.2037,80.1686,80.1341, 80.1063,80.0834,80.0522,80.014,79.9789, 79.9431,79.9053,79.8666,79.8273,79.7394 ,79.651,79.5549,79.4531,79.3776,79.263, 79.1441,79.5544)
ORBIT_NUMBER = 2653
ORBITAL_ECCENTRICITY = 0.571
ORBITAL_INCLINATION = 86.62
ORBITAL_SEMIMAJOR_AXIS = 8536.27
PERIAPSIS_ALTITUDE = 280.66
PERIAPSIS_ARGUMENT_ANGLE = 252.26
PERIAPSIS_TIME = 2006-02-04T13:16:16.000Z
SPACECRAFT_ORIENTATION = (0.0,-1.0,0.0)
^MEX_ORIENTATION_DESC = "MEX_ORIENTATION_DESC.TXT"
SPACECRAFT_POINTING_MODE = NADIR
^MEX_POINTING_DESC = "MEX_POINTING_DESC.TXT"
RIGHT_ASCENSION = -1e+32
DECLINATION = -1e+32
OFFSET_ANGLE = -1e+32
SPACECRAFT_SOLAR_DISTANCE = 2.3551e+08
TARGET_NAME = MARS
/* CAMERA DATA ELEMENTS */
DETECTOR_TEMPERATURE = 18.7783
FOCAL_PLANE_TEMPERATURE = 8.3794
INST_CMPRS_NAME = "DISCRETE COSINE TRANSFORMATION (DCT)"
INST_CMPRS_RATIO = 10.6204
INST_CMPRS_QUALITY = 0
INST_CMPRS_QUANTZ_TBL_ID = 0
INSTRUMENT_TEMPERATURE = 11.0301
LENS_TEMPERATURE = 8.7872
MACROPIXEL_SIZE = 2
MISSING_FRAMES = 0
PIXEL_SUBSAMPLING_FLAG = N
SIGNAL_CHAIN_ID = 3
/* RADIOMETRIC DATA ELEMENTS */
BANDWIDTH = 177.0
CENTER_FILTER_WAVELENGTH = 676.5
RADIANCE_OFFSET = 1.11972
RADIANCE_SCALING_FACTOR = 0.0114915
REFLECTANCE_SCALING_FACTOR = 0.000337955
MEX:REFLECTANCE_OFFSET = 0.03293
/* IMAGE OBJECT DEFINITIONS */
OBJECT = IMAGE
  INTERCHANGE_FORMAT = BINARY
  LINES = 20810
  LINE_SAMPLES = 5018
  SAMPLE_TYPE = UNSIGNED_INTEGER
  SAMPLE_BITS = 8
  BANDS = 1
  BAND_STORAGE_TYPE = BAND_SEQUENTIAL
  MAXIMUM = 255
  MEAN = 110.921
  MINIMUM = 1
  STANDARD_DEVIATION = 50.123
END_OBJECT = IMAGE
/* MAP OBJECT DEFINITIONS */
OBJECT = IMAGE_MAP_PROJECTION
  ^DATA_SET_MAP_PROJECTION_CATALOG= "DSMAP.CAT"
  A_AXIS_RADIUS = 3396.0
  B_AXIS_RADIUS = 3396.0
  C_AXIS_RADIUS = 3396.0
  CENTER_LATITUDE = 0.0
  CENTER_LONGITUDE = 83.0
  COORDINATE_SYSTEM_NAME = PLANETOGRAPHIC
  COORDINATE_SYSTEM_TYPE = "BODY-FIXED ROTATING"
  EASTERNMOST_LONGITUDE = 87.2433
  FIRST_STANDARD_PARALLEL = "N/A"
  LINE_FIRST_PIXEL = 1
  LINE_LAST_PIXEL = 20810
  LINE_PROJECTION_OFFSET = -53987.75
  MAP_PROJECTION_ROTATION = 0.0
  MAP_PROJECTION_TYPE = SINUSOIDAL
  MAP_RESOLUTION = 1185.42760773333
  MAP_SCALE = 0.05
  MAXIMUM_LATITUDE = -45.6004
  MINIMUM_LATITUDE = -63.0798
  POSITIVE_LONGITUDE_DIRECTION = EAST
  REFERENCE_LATITUDE = "N/A"
  REFERENCE_LONGITUDE = "N/A"
  SAMPLE_FIRST_PIXEL = 1
  SAMPLE_LAST_PIXEL = 5018
  SAMPLE_PROJECTION_OFFSET = 1989.25
  SECOND_STANDARD_PARALLEL = "N/A"
  WESTERNMOST_LONGITUDE = 79.14409999999999
END_OBJECT = IMAGE_MAP_PROJECTION
/* The JPEG2000 image data file associated with this label. */
OBJECT = COMPRESSED_FILE
  FILE_NAME = "H2653_0000_P23.JP2"
  RECORD_TYPE = UNDEFINED
  FILE_RECORDS = UNK
  ENCODING_TYPE = "JP2"
  INTERCHANGE_FORMAT = BINARY
  UNCOMPRESSED_FILE_NAME = "H2653_0000_P23.IMG"
  REQUIRED_STORAGE_BYTES = "104449670"
  ^DESCRIPTION = "JP2INFO.TXT"
END_OBJECT = COMPRESSED_FILE
END
