PDS_VERSION_ID = PDS3
/* FILE DATA ELEMENTS */
RECORD_TYPE = STREAM
/* POINTERS TO DATA OBJECTS */
^COMPRESSED_FILE = "H2660_0001_S13.JP2"
/* IDENTIFICATION DATA ELEMENTS */
DATA_SET_ID = "MEX-M-HRSC-5-REFDR-MAPPROJECTED-V3.0"
DATA_SET_NAME = "MARS EXPRESS HRSC MAP PROJECTED REFDR V3.0"
DETECTOR_ID = MEX_HRSC_S1
EVENT_TYPE = "MARS-GLOBAL-MAPPING-Vo-Fl-Eo"
INSTRUMENT_HOST_ID = MEX
INSTRUMENT_HOST_NAME = "MARS EXPRESS"
INSTRUMENT_ID = HRSC
INSTRUMENT_NAME = "HIGH RESOLUTION STEREO CAMERA"
MISSION_NAME = "MARS EXPRESS"
MISSION_PHASE_NAME = ME_Phase_2
PROCESSING_LEVEL_ID = 3
PRODUCT_CREATION_TIME = 2016-04-08T01:44:18.000Z
PRODUCT_ID = "H2660_0001_S13.JP2"
RELEASE_ID = 0033
REVISION_ID = 0000
/* QUALITY DATA ELEMENTS */
DATA_QUALITY_ID = 2
DATA_QUALITY_DESC = "Data calculated based on photogrammetrically improved orbit and attitude data"
/* TIME DATA ELEMENTS */
SPACECRAFT_CLOCK_START_COUNT = "1/0087309318.09053"
SPACECRAFT_CLOCK_STOP_COUNT = "1/0087310712.61765"
START_TIME = 2006-02-06T12:35:23.981Z
STOP_TIME = 2006-02-06T12:41:02.827Z
/* ORBITAL DATA ELEMENTS */
ASCENDING_NODE_LONGITUDE = 172.47
MAXIMUM_RESOLUTION = 91.3
FOOTPRINT_POINT_LATITUDE = (-43.6883,-43.7183,-43.7441,-43.7556, -43.7587,-43.695,-43.0587,-42.2667, -41.7859,-41.4571,-41.1308,-40.7989, -40.465,-40.1338,-39.6272,-39.1155, -38.77,-38.4226,-37.8991,-37.3699, -37.0144,-36.6603,-36.3066,-35.9552, -35.6046,-35.0798,-34.7304,-34.3832, -33.8643,-33.5204,-33.1779,-32.8369, -32.3255,-31.9854,-31.647,-31.1404, -30.8034,-30.4631,-30.1317,-29.7992, -29.4657,-29.1345,-28.6384,-28.3086, -27.9798,-27.3278,-26.8418,-26.8739, -26.8969,-26.9206,-26.9348,-26.9441, -26.9507,-26.9535,-26.9526,-26.9475, -26.938,-26.9212,-27.5628,-28.0471, -28.6955,-29.0207,-29.3465,-29.6739, -30.0026,-30.3329,-30.6637,-30.9956, -31.3286,-31.6614,-31.9951,-32.4996, -32.8365,-33.1755,-33.6846,-34.0252, -34.3671,-34.71,-35.0538,-35.4018, -35.9186,-36.4402,-36.79,-37.1408, -37.4921,-37.8413,-38.1889,-38.518, -38.859,-39.2146,-39.5522,-39.8878, -40.2195,-40.5484,-40.8765,-41.5271, -42.0117,-42.8016,-43.4288,-43.6883)
FOOTPRINT_POINT_LONGITUDE = (114.294,115.095,116.096,116.897, 117.701,118.496,118.522,118.547,118.561 ,118.572,118.581,118.59,118.6,118.607, 118.62,118.632,118.64,118.647,118.658, 118.667,118.673,118.678,118.684,118.688 ,118.693,118.699,118.703,118.706, 118.711,118.713,118.715,118.716,118.719 ,118.72,118.721,118.722,118.722,118.724 ,118.723,118.722,118.722,118.721, 118.719,118.718,118.716,118.712,118.709 ,118.108,117.567,116.907,116.428, 115.949,115.469,114.99,114.209,113.729, 113.187,112.502,112.557,112.598,112.65, 112.676,112.7,112.725,112.749,112.773, 112.796,112.819,112.842,112.863,112.884 ,112.916,112.936,112.956,112.984, 113.003,113.021,113.038,113.055,113.072 ,113.094,113.116,113.13,113.144,113.157 ,113.169,113.181,113.187,113.197, 113.211,113.22,113.228,113.235,113.241, 113.247,113.257,113.264,113.27,113.273, 114.294)
ORBIT_NUMBER = 2660
ORBITAL_ECCENTRICITY = 0.571
ORBITAL_INCLINATION = 86.62
ORBITAL_SEMIMAJOR_AXIS = 8537.68
PERIAPSIS_ALTITUDE = 281.31
PERIAPSIS_ARGUMENT_ANGLE = 251.03
PERIAPSIS_TIME = 2006-02-06T12:18:36.000Z
SPACECRAFT_ORIENTATION = (0.0,-1.0,0.0)
^MEX_ORIENTATION_DESC = "MEX_ORIENTATION_DESC.TXT"
SPACECRAFT_POINTING_MODE = NADIR
^MEX_POINTING_DESC = "MEX_POINTING_DESC.TXT"
RIGHT_ASCENSION = -1e+32
DECLINATION = -1e+32
OFFSET_ANGLE = -1e+32
SPACECRAFT_SOLAR_DISTANCE = 2.35854e+08
TARGET_NAME = MARS
/* CAMERA DATA ELEMENTS */
DETECTOR_TEMPERATURE = 19.1861
FOCAL_PLANE_TEMPERATURE = 8.5833
INST_CMPRS_NAME = "DISCRETE COSINE TRANSFORMATION (DCT)"
INST_CMPRS_RATIO = 7.56438
INST_CMPRS_QUALITY = 0
INST_CMPRS_QUANTZ_TBL_ID = 0
INSTRUMENT_TEMPERATURE = 13.0691
LENS_TEMPERATURE = 9.195
MACROPIXEL_SIZE = 2
MISSING_FRAMES = 0
PIXEL_SUBSAMPLING_FLAG = N
SIGNAL_CHAIN_ID = 1
/* RADIOMETRIC DATA ELEMENTS */
BANDWIDTH = 180.0
CENTER_FILTER_WAVELENGTH = 677.0
RADIANCE_OFFSET = 1.66536
RADIANCE_SCALING_FACTOR = 0.0185238
REFLECTANCE_SCALING_FACTOR = 0.000537609
MEX:REFLECTANCE_OFFSET = 0.0483331
/* IMAGE OBJECT DEFINITIONS */
OBJECT = IMAGE
  INTERCHANGE_FORMAT = BINARY
  LINES = 10048
  LINE_SAMPLES = 4085
  SAMPLE_TYPE = UNSIGNED_INTEGER
  SAMPLE_BITS = 8
  BANDS = 1
  BAND_STORAGE_TYPE = BAND_SEQUENTIAL
  MAXIMUM = 255
  MEAN = 106.493
  MINIMUM = 1
  STANDARD_DEVIATION = 20.4087
END_OBJECT = IMAGE
/* MAP OBJECT DEFINITIONS */
OBJECT = IMAGE_MAP_PROJECTION
  ^DATA_SET_MAP_PROJECTION_CATALOG= "DSMAP.CAT"
  A_AXIS_RADIUS = 3396.0
  B_AXIS_RADIUS = 3396.0
  C_AXIS_RADIUS = 3396.0
  CENTER_LATITUDE = 0.0
  CENTER_LONGITUDE = 116.0
  COORDINATE_SYSTEM_NAME = PLANETOGRAPHIC
  COORDINATE_SYSTEM_TYPE = "BODY-FIXED ROTATING"
  EASTERNMOST_LONGITUDE = 118.724
  FIRST_STANDARD_PARALLEL = "N/A"
  LINE_FIRST_PIXEL = 1
  LINE_LAST_PIXEL = 10048
  LINE_PROJECTION_OFFSET = -15840.25
  MAP_PROJECTION_ROTATION = 0.0
  MAP_PROJECTION_TYPE = SINUSOIDAL
  MAP_RESOLUTION = 592.713803866667
  MAP_SCALE = 0.1
  MAXIMUM_LATITUDE = -26.8418
  MINIMUM_LATITUDE = -43.7587
  POSITIVE_LONGITUDE_DIRECTION = EAST
  REFERENCE_LATITUDE = "N/A"
  REFERENCE_LONGITUDE = "N/A"
  SAMPLE_FIRST_PIXEL = 1
  SAMPLE_LAST_PIXEL = 4085
  SAMPLE_PROJECTION_OFFSET = 2328.25
  SECOND_STANDARD_PARALLEL = "N/A"
  WESTERNMOST_LONGITUDE = 112.502
END_OBJECT = IMAGE_MAP_PROJECTION
/* The JPEG2000 image data file associated with this label. */
OBJECT = COMPRESSED_FILE
  FILE_NAME = "H2660_0001_S13.JP2"
  RECORD_TYPE = UNDEFINED
  FILE_RECORDS = UNK
  ENCODING_TYPE = "JP2"
  INTERCHANGE_FORMAT = BINARY
  UNCOMPRESSED_FILE_NAME = "H2660_0001_S13.IMG"
  REQUIRED_STORAGE_BYTES = "41070590"
  ^DESCRIPTION = "JP2INFO.TXT"
END_OBJECT = COMPRESSED_FILE
END
