PDS_VERSION_ID = PDS3
/* FILE DATA ELEMENTS */
RECORD_TYPE = STREAM
/* POINTERS TO DATA OBJECTS */
^COMPRESSED_FILE = "H2660_0001_S23.JP2"
/* IDENTIFICATION DATA ELEMENTS */
DATA_SET_ID = "MEX-M-HRSC-5-REFDR-MAPPROJECTED-V3.0"
DATA_SET_NAME = "MARS EXPRESS HRSC MAP PROJECTED REFDR V3.0"
DETECTOR_ID = MEX_HRSC_S2
EVENT_TYPE = "MARS-GLOBAL-MAPPING-Vo-Fl-Eo"
INSTRUMENT_HOST_ID = MEX
INSTRUMENT_HOST_NAME = "MARS EXPRESS"
INSTRUMENT_ID = HRSC
INSTRUMENT_NAME = "HIGH RESOLUTION STEREO CAMERA"
MISSION_NAME = "MARS EXPRESS"
MISSION_PHASE_NAME = ME_Phase_2
PROCESSING_LEVEL_ID = 3
PRODUCT_CREATION_TIME = 2016-04-08T01:44:18.000Z
PRODUCT_ID = "H2660_0001_S23.JP2"
RELEASE_ID = 0033
REVISION_ID = 0000
/* QUALITY DATA ELEMENTS */
DATA_QUALITY_ID = 2
DATA_QUALITY_DESC = "Data calculated based on photogrammetrically improved orbit and attitude data"
/* TIME DATA ELEMENTS */
SPACECRAFT_CLOCK_START_COUNT = "1/0087309318.09053"
SPACECRAFT_CLOCK_STOP_COUNT = "1/0087310712.61765"
START_TIME = 2006-02-06T12:42:09.958Z
STOP_TIME = 2006-02-06T12:58:36.817Z
/* ORBITAL DATA ELEMENTS */
ASCENDING_NODE_LONGITUDE = 172.47
MAXIMUM_RESOLUTION = 144.1
FOOTPRINT_POINT_LATITUDE = (-43.6417,-43.6348,-43.6264,-43.6165, -43.6053,-43.5927,-43.5788,-43.5635, -43.5467,-43.5285,-43.5087,-43.5489, -42.7843,-42.2843,-41.7942,-41.3115, -40.837,-40.3693,-39.9102,-39.4605, -39.0185,-38.583,-38.1544,-37.7348, -37.3212,-36.9143,-36.5153,-35.9289, -35.5461,-35.1709,-34.8005,-34.0803, -33.3846,-32.5446,-31.9011,-31.2769, -30.6768,-30.0971,-29.5368,-28.9952, -28.4711,-27.9649,-27.4781,-27.0046, -26.5501,-26.2004,-26.2533,-26.3398, -26.3967,-26.462,-26.5174,-26.5769, -26.6393,-26.7023,-26.781,-26.8465, -26.9632,-27.0499,-27.1181,-27.1914, -27.2638,-27.3373,-27.4701,-27.5464, -27.6853,-27.7669,-27.8499,-27.9331, -28.4301,-28.8085,-29.2044,-29.6172, -30.0522,-30.5056,-30.9791,-31.4738, -31.9928,-32.535,-33.0996,-33.6892, -34.302,-34.9419,-35.6066,-36.1236, -36.8385,-37.208,-37.5823,-37.9641, -38.3561,-38.9587,-39.3625,-39.9919, -40.4165,-41.0824,-41.53,-42.225, -42.7006,-43.1822,-43.6745,-43.6417)
FOOTPRINT_POINT_LONGITUDE = (112.999,113.635,114.27,114.904,115.537 ,116.17,116.802,117.434,118.067,118.701 ,119.336,120.194,120.282,120.339, 120.397,120.454,120.511,120.566,120.622 ,120.678,120.734,120.789,120.845, 120.901,120.956,121.011,121.067,121.151 ,121.207,121.263,121.319,121.433, 121.547,121.69,121.808,121.925,122.046, 122.168,122.292,122.417,122.544,122.672 ,122.803,122.934,123.068,123.178,122.66 ,122.019,121.365,120.852,120.336, 119.823,119.312,118.801,118.164,117.655 ,116.764,116.128,115.617,115.107, 114.596,114.085,113.187,112.672,111.768 ,111.249,110.728,110.205,109.999, 110.083,110.168,110.255,110.341,110.429 ,110.517,110.606,110.694,110.783, 110.871,110.959,111.047,111.134,111.22, 111.284,111.368,111.408,111.449,111.489 ,111.528,111.585,111.625,111.68,111.717 ,111.766,111.8,111.846,111.874,111.903, 111.928,112.999)
ORBIT_NUMBER = 2660
ORBITAL_ECCENTRICITY = 0.571
ORBITAL_INCLINATION = 86.62
ORBITAL_SEMIMAJOR_AXIS = 8537.68
PERIAPSIS_ALTITUDE = 281.31
PERIAPSIS_ARGUMENT_ANGLE = 251.03
PERIAPSIS_TIME = 2006-02-06T12:18:36.000Z
SPACECRAFT_ORIENTATION = (0.0,-1.0,0.0)
^MEX_ORIENTATION_DESC = "MEX_ORIENTATION_DESC.TXT"
SPACECRAFT_POINTING_MODE = NADIR
^MEX_POINTING_DESC = "MEX_POINTING_DESC.TXT"
RIGHT_ASCENSION = -1e+32
DECLINATION = -1e+32
OFFSET_ANGLE = -1e+32
SPACECRAFT_SOLAR_DISTANCE = 2.35854e+08
TARGET_NAME = MARS
/* CAMERA DATA ELEMENTS */
DETECTOR_TEMPERATURE = 20.6134
FOCAL_PLANE_TEMPERATURE = 8.5833
INST_CMPRS_NAME = "DISCRETE COSINE TRANSFORMATION (DCT)"
INST_CMPRS_RATIO = 9.72078
INST_CMPRS_QUALITY = 0
INST_CMPRS_QUANTZ_TBL_ID = 0
INSTRUMENT_TEMPERATURE = 13.0691
LENS_TEMPERATURE = 9.195
MACROPIXEL_SIZE = 2
MISSING_FRAMES = 0
PIXEL_SUBSAMPLING_FLAG = N
SIGNAL_CHAIN_ID = 1
/* RADIOMETRIC DATA ELEMENTS */
BANDWIDTH = 178.0
CENTER_FILTER_WAVELENGTH = 679.0
RADIANCE_OFFSET = 1.74711
RADIANCE_SCALING_FACTOR = 0.0173732
REFLECTANCE_SCALING_FACTOR = 0.000511807
MEX:REFLECTANCE_OFFSET = 0.051469
/* IMAGE OBJECT DEFINITIONS */
OBJECT = IMAGE
  INTERCHANGE_FORMAT = BINARY
  LINES = 10048
  LINE_SAMPLES = 4085
  SAMPLE_TYPE = UNSIGNED_INTEGER
  SAMPLE_BITS = 8
  BANDS = 1
  BAND_STORAGE_TYPE = BAND_SEQUENTIAL
  MAXIMUM = 255
  MEAN = 127.054
  MINIMUM = 1
  STANDARD_DEVIATION = 21.1387
END_OBJECT = IMAGE
/* MAP OBJECT DEFINITIONS */
OBJECT = IMAGE_MAP_PROJECTION
  ^DATA_SET_MAP_PROJECTION_CATALOG= "DSMAP.CAT"
  A_AXIS_RADIUS = 3396.0
  B_AXIS_RADIUS = 3396.0
  C_AXIS_RADIUS = 3396.0
  CENTER_LATITUDE = 0.0
  CENTER_LONGITUDE = 116.0
  COORDINATE_SYSTEM_NAME = PLANETOGRAPHIC
  COORDINATE_SYSTEM_TYPE = "BODY-FIXED ROTATING"
  EASTERNMOST_LONGITUDE = 123.178
  FIRST_STANDARD_PARALLEL = "N/A"
  LINE_FIRST_PIXEL = 1
  LINE_LAST_PIXEL = 10048
  LINE_PROJECTION_OFFSET = -15840.25
  MAP_PROJECTION_ROTATION = 0.0
  MAP_PROJECTION_TYPE = SINUSOIDAL
  MAP_RESOLUTION = 592.713803866667
  MAP_SCALE = 0.1
  MAXIMUM_LATITUDE = -26.2004
  MINIMUM_LATITUDE = -43.6745
  POSITIVE_LONGITUDE_DIRECTION = EAST
  REFERENCE_LATITUDE = "N/A"
  REFERENCE_LONGITUDE = "N/A"
  SAMPLE_FIRST_PIXEL = 1
  SAMPLE_LAST_PIXEL = 4085
  SAMPLE_PROJECTION_OFFSET = 2328.25
  SECOND_STANDARD_PARALLEL = "N/A"
  WESTERNMOST_LONGITUDE = 109.999
END_OBJECT = IMAGE_MAP_PROJECTION
/* The JPEG2000 image data file associated with this label. */
OBJECT = COMPRESSED_FILE
  FILE_NAME = "H2660_0001_S23.JP2"
  RECORD_TYPE = UNDEFINED
  FILE_RECORDS = UNK
  ENCODING_TYPE = "JP2"
  INTERCHANGE_FORMAT = BINARY
  UNCOMPRESSED_FILE_NAME = "H2660_0001_S23.IMG"
  REQUIRED_STORAGE_BYTES = "41070590"
  ^DESCRIPTION = "JP2INFO.TXT"
END_OBJECT = COMPRESSED_FILE
END
