PDS_VERSION_ID = PDS3
/* FILE DATA ELEMENTS */
RECORD_TYPE = STREAM
/* POINTERS TO DATA OBJECTS */
^COMPRESSED_FILE = "H2662_0000_ND3.JP2"
/* IDENTIFICATION DATA ELEMENTS */
DATA_SET_ID = "MEX-M-HRSC-5-REFDR-MAPPROJECTED-V3.0"
DATA_SET_NAME = "MARS EXPRESS HRSC MAP PROJECTED REFDR V3.0"
DETECTOR_ID = MEX_HRSC_NADIR
EVENT_TYPE = "MARS-TERMINATOR-VARIABLE-Gl-Eo-At"
INSTRUMENT_HOST_ID = MEX
INSTRUMENT_HOST_NAME = "MARS EXPRESS"
INSTRUMENT_ID = HRSC
INSTRUMENT_NAME = "HIGH RESOLUTION STEREO CAMERA"
MISSION_NAME = "MARS EXPRESS"
MISSION_PHASE_NAME = ME_Phase_2
PROCESSING_LEVEL_ID = 3
PRODUCT_CREATION_TIME = 2016-04-08T01:44:18.000Z
PRODUCT_ID = "H2662_0000_ND3.JP2"
RELEASE_ID = 0033
REVISION_ID = 0000
/* QUALITY DATA ELEMENTS */
DATA_QUALITY_ID = 1
DATA_QUALITY_DESC = "Data calculated based on original SPICE kernels"
/* TIME DATA ELEMENTS */
SPACECRAFT_CLOCK_START_COUNT = "1/0087357089.07293"
SPACECRAFT_CLOCK_STOP_COUNT = "1/0087357317.41598"
START_TIME = 2006-02-07T01:52:14.985Z
STOP_TIME = 2006-02-07T01:54:17.923Z
/* ORBITAL DATA ELEMENTS */
ASCENDING_NODE_LONGITUDE = 172.43
MAXIMUM_RESOLUTION = 35.7
FOOTPRINT_POINT_LATITUDE = (-80.1902,-80.2846,-80.3958,-80.479, -80.5332,-80.5897,-80.4687,-80.2123, -80.0156,-79.7528,-79.4898,-79.2885, -79.1538,-79.0192,-78.8846,-78.7499, -78.6126,-78.4749,-78.3373,-78.1996, -78.062,-77.922,-77.7814,-77.6408, -77.5002,-77.3597,-77.145,-77.0016, -76.8583,-76.7151,-76.4969,-76.3508, -76.2047,-76.0587,-75.8363,-75.6876, -75.539,-75.3904,-75.2392,-75.0878, -74.9365,-74.7854,-74.6321,-74.4781, -74.3243,-74.1707,-74.0145,-73.8581, -73.7019,-73.5457,-73.5123,-73.4798, -73.4515,-73.4181,-73.3718,-73.3142, -73.2775,-73.2217,-73.152,-73.3057, -73.4594,-73.6132,-73.7669,-73.9179, -74.0689,-74.2201,-74.3708,-74.5191, -74.6675,-74.816,-74.9645,-75.1101, -75.2557,-75.4014,-75.6193,-75.7621, -75.9049,-76.0477,-76.2611,-76.4009, -76.5408,-76.6806,-76.89,-77.0269, -77.1637,-77.3004,-77.4372,-77.5734, -77.7071,-77.8406,-77.9741,-78.1075, -78.2406,-78.5014,-78.7613,-78.9557, -79.2086,-79.524,-79.8957,-80.1902)
FOOTPRINT_POINT_LONGITUDE = (260.591,261.854,263.463,264.772, 265.683,266.688,268.413,268.9,269.256, 269.709,270.138,270.451,270.654,270.851 ,271.043,271.231,271.416,271.598, 271.776,271.949,272.118,272.286,272.45, 272.61,272.766,272.918,273.145,273.292, 273.437,273.578,273.787,273.922,274.053 ,274.183,274.375,274.5,274.623,274.743, 274.862,274.978,275.092,275.203,275.314 ,275.422,275.529,275.633,275.736, 275.838,275.937,276.034,275.527,274.817 ,274.24,273.599,272.77,271.817,271.247, 270.428,269.464,269.34,269.213,269.083, 268.951,268.818,268.682,268.542,268.401 ,268.258,268.112,267.963,267.811, 267.658,267.502,267.342,267.096,266.931 ,266.762,266.588,266.321,266.142, 265.957,265.769,265.479,265.284,265.084 ,264.879,264.67,264.456,264.243,264.022 ,263.795,263.563,263.329,262.851, 262.345,261.95,261.408,260.691,259.791, 260.591)
ORBIT_NUMBER = 2662
ORBITAL_ECCENTRICITY = 0.571
ORBITAL_INCLINATION = 86.61
ORBITAL_SEMIMAJOR_AXIS = 8541.44
PERIAPSIS_ALTITUDE = 281.74
PERIAPSIS_ARGUMENT_ANGLE = 250.69
PERIAPSIS_TIME = 2006-02-07T01:45:01.000Z
SPACECRAFT_ORIENTATION = (0.0,-1.0,0.0)
^MEX_ORIENTATION_DESC = "MEX_ORIENTATION_DESC.TXT"
SPACECRAFT_POINTING_MODE = ACROSSTRACK
^MEX_POINTING_DESC = "MEX_POINTING_DESC.TXT"
RIGHT_ASCENSION = -1e+32
DECLINATION = -1e+32
OFFSET_ANGLE = 0.2
SPACECRAFT_SOLAR_DISTANCE = 2.35952e+08
TARGET_NAME = MARS
/* CAMERA DATA ELEMENTS */
DETECTOR_TEMPERATURE = 18.1666
FOCAL_PLANE_TEMPERATURE = 8.1755
INST_CMPRS_NAME = "DISCRETE COSINE TRANSFORMATION (DCT)"
INST_CMPRS_RATIO = 14.1261
INST_CMPRS_QUALITY = 0
INST_CMPRS_QUANTZ_TBL_ID = 0
INSTRUMENT_TEMPERATURE = 11.234
LENS_TEMPERATURE = 8.3794
MACROPIXEL_SIZE = 2
MISSING_FRAMES = 0
PIXEL_SUBSAMPLING_FLAG = N
SIGNAL_CHAIN_ID = 0
/* RADIOMETRIC DATA ELEMENTS */
BANDWIDTH = 177.0
CENTER_FILTER_WAVELENGTH = 677.5
RADIANCE_OFFSET = 0.0
RADIANCE_SCALING_FACTOR = 0.00248519
REFLECTANCE_SCALING_FACTOR = 7.35013e-05
MEX:REFLECTANCE_OFFSET = 0.0
/* IMAGE OBJECT DEFINITIONS */
OBJECT = IMAGE
  INTERCHANGE_FORMAT = BINARY
  LINES = 17768
  LINE_SAMPLES = 8637
  SAMPLE_TYPE = UNSIGNED_INTEGER
  SAMPLE_BITS = 8
  BANDS = 1
  BAND_STORAGE_TYPE = BAND_SEQUENTIAL
  MAXIMUM = 255
  MEAN = 104.82
  MINIMUM = 1
  STANDARD_DEVIATION = 39.3073
END_OBJECT = IMAGE
/* MAP OBJECT DEFINITIONS */
OBJECT = IMAGE_MAP_PROJECTION
  ^DATA_SET_MAP_PROJECTION_CATALOG= "DSMAP.CAT"
  A_AXIS_RADIUS = 3396.0
  B_AXIS_RADIUS = 3396.0
  C_AXIS_RADIUS = 3396.0
  CENTER_LATITUDE = 0.0
  CENTER_LONGITUDE = 269.0
  COORDINATE_SYSTEM_NAME = PLANETOGRAPHIC
  COORDINATE_SYSTEM_TYPE = "BODY-FIXED ROTATING"
  EASTERNMOST_LONGITUDE = 276.034
  FIRST_STANDARD_PARALLEL = "N/A"
  LINE_FIRST_PIXEL = 1
  LINE_LAST_PIXEL = 17768
  LINE_PROJECTION_OFFSET = -173451.0
  MAP_PROJECTION_ROTATION = 0.0
  MAP_PROJECTION_TYPE = SINUSOIDAL
  MAP_RESOLUTION = 2370.85521546667
  MAP_SCALE = 0.025
  MAXIMUM_LATITUDE = -73.152
  MINIMUM_LATITUDE = -80.58969999999999
  POSITIVE_LONGITUDE_DIRECTION = EAST
  REFERENCE_LATITUDE = "N/A"
  REFERENCE_LONGITUDE = "N/A"
  SAMPLE_FIRST_PIXEL = 1
  SAMPLE_LAST_PIXEL = 8637
  SAMPLE_PROJECTION_OFFSET = 3920.0
  SECOND_STANDARD_PARALLEL = "N/A"
  WESTERNMOST_LONGITUDE = 259.791
END_OBJECT = IMAGE_MAP_PROJECTION
/* The JPEG2000 image data file associated with this label. */
OBJECT = COMPRESSED_FILE
  FILE_NAME = "H2662_0000_ND3.JP2"
  RECORD_TYPE = UNDEFINED
  FILE_RECORDS = UNK
  ENCODING_TYPE = "JP2"
  INTERCHANGE_FORMAT = BINARY
  UNCOMPRESSED_FILE_NAME = "H2662_0000_ND3.IMG"
  REQUIRED_STORAGE_BYTES = "153496764"
  ^DESCRIPTION = "JP2INFO.TXT"
END_OBJECT = COMPRESSED_FILE
END
