PDS_VERSION_ID = PDS3
/* FILE DATA ELEMENTS */
RECORD_TYPE = STREAM
/* POINTERS TO DATA OBJECTS */
^COMPRESSED_FILE = "H2663_0000_P13.JP2"
/* IDENTIFICATION DATA ELEMENTS */
DATA_SET_ID = "MEX-M-HRSC-5-REFDR-MAPPROJECTED-V3.0"
DATA_SET_NAME = "MARS EXPRESS HRSC MAP PROJECTED REFDR V3.0"
DETECTOR_ID = MEX_HRSC_P1
EVENT_TYPE = "MARS-TERMINATOR-VARIABLE-Eo-At"
INSTRUMENT_HOST_ID = MEX
INSTRUMENT_HOST_NAME = "MARS EXPRESS"
INSTRUMENT_ID = HRSC
INSTRUMENT_NAME = "HIGH RESOLUTION STEREO CAMERA"
MISSION_NAME = "MARS EXPRESS"
MISSION_PHASE_NAME = ME_Phase_2
PROCESSING_LEVEL_ID = 3
PRODUCT_CREATION_TIME = 2016-04-08T01:44:18.000Z
PRODUCT_ID = "H2663_0000_P13.JP2"
RELEASE_ID = 0033
REVISION_ID = 0000
/* QUALITY DATA ELEMENTS */
DATA_QUALITY_ID = 1
DATA_QUALITY_DESC = "Data calculated based on original SPICE kernels"
/* TIME DATA ELEMENTS */
SPACECRAFT_CLOCK_START_COUNT = "1/0087381302.09071"
SPACECRAFT_CLOCK_STOP_COUNT = "1/0087381578.32830"
START_TIME = 2006-02-07T08:35:21.681Z
STOP_TIME = 2006-02-07T08:37:50.121Z
/* ORBITAL DATA ELEMENTS */
ASCENDING_NODE_LONGITUDE = 172.41
MAXIMUM_RESOLUTION = 72.8
FOOTPRINT_POINT_LATITUDE = (-79.1398,-79.2522,-79.373,-79.4386, -79.5036,-79.2584,-78.9342,-78.6046, -78.3551,-78.1054,-77.937,-77.7669, -77.5967,-77.3417,-77.1676,-76.9949, -76.7345,-76.5609,-76.2959,-76.1185, -75.9414,-75.7638,-75.5827,-75.4019, -75.1305,-74.8549,-74.6705,-74.4866, -74.3008,-74.1127,-73.925,-73.7378, -73.5467,-73.258,-72.9669,-72.7729, -72.5811,-72.3878,-72.1907,-71.9919, -71.7964,-71.5964,-71.3944,-71.0937, -70.8884,-70.6821,-70.4797,-70.3407, -70.3138,-70.2745,-70.2471,-70.2031, -70.1719,-70.1313,-70.0704,-70.2556, -70.4576,-70.6593,-70.8599,-71.0583, -71.2571,-71.4546,-71.6501,-71.8458, -72.0406,-72.2327,-72.4248,-72.7121, -72.9002,-73.0888,-73.3712,-73.6485, -73.8335,-74.0185,-74.2009,-74.3821, -74.5631,-74.7428,-74.9219,-75.0994, -75.2772,-75.4534,-75.6276,-75.8018, -75.9758,-76.1487,-76.3188,-76.4888, -76.6588,-76.9119,-77.078,-77.2438, -77.4095,-77.5753,-77.899,-78.1394, -78.3011,-78.618,-78.9314,-79.1398)
FOOTPRINT_POINT_LONGITUDE = (165.618,167.219,169.139,170.296, 171.543,173.184,173.625,174.048,174.352 ,174.643,174.831,175.016,175.196, 175.455,175.632,175.794,176.033,176.187 ,176.415,176.562,176.705,176.845, 176.984,177.119,177.315,177.507,177.631 ,177.751,177.87,177.988,178.102,178.212 ,178.324,178.489,178.653,178.753, 178.847,178.942,179.038,179.135,179.223 ,179.314,179.405,179.534,179.621, 179.709,179.787,179.29,178.633,177.76, 177.217,176.405,175.866,175.221,174.311 ,173.921,173.814,173.704,173.593,173.48 ,173.364,173.245,173.126,173.003, 172.878,172.751,172.621,172.421,172.285 ,172.145,171.93,171.71,171.559,171.404, 171.248,171.088,170.923,170.754,170.585 ,170.41,170.231,170.048,169.863,169.673 ,169.477,169.277,169.075,168.868, 168.654,168.325,168.101,167.871,167.634 ,167.391,166.893,166.5,166.229,165.673, 165.086,165.618)
ORBIT_NUMBER = 2663
ORBITAL_ECCENTRICITY = 0.571
ORBITAL_INCLINATION = 86.61
ORBITAL_SEMIMAJOR_AXIS = 8540.64
PERIAPSIS_ALTITUDE = 282.0
PERIAPSIS_ARGUMENT_ANGLE = 250.51
PERIAPSIS_TIME = 2006-02-07T08:28:12.000Z
SPACECRAFT_ORIENTATION = (0.0,-1.0,0.0)
^MEX_ORIENTATION_DESC = "MEX_ORIENTATION_DESC.TXT"
SPACECRAFT_POINTING_MODE = NADIR
^MEX_POINTING_DESC = "MEX_POINTING_DESC.TXT"
RIGHT_ASCENSION = -1e+32
DECLINATION = -1e+32
OFFSET_ANGLE = -1e+32
SPACECRAFT_SOLAR_DISTANCE = 2.36001e+08
TARGET_NAME = MARS
/* CAMERA DATA ELEMENTS */
DETECTOR_TEMPERATURE = 17.9627
FOCAL_PLANE_TEMPERATURE = 7.9716
INST_CMPRS_NAME = "DISCRETE COSINE TRANSFORMATION (DCT)"
INST_CMPRS_RATIO = 34.8633
INST_CMPRS_QUALITY = 0
INST_CMPRS_QUANTZ_TBL_ID = 0
INSTRUMENT_TEMPERATURE = 11.0301
LENS_TEMPERATURE = 8.3794
MACROPIXEL_SIZE = 4
MISSING_FRAMES = 0
PIXEL_SUBSAMPLING_FLAG = N
SIGNAL_CHAIN_ID = 1
/* RADIOMETRIC DATA ELEMENTS */
BANDWIDTH = 174.0
CENTER_FILTER_WAVELENGTH = 675.0
RADIANCE_OFFSET = 0.136285
RADIANCE_SCALING_FACTOR = 0.00389386
REFLECTANCE_SCALING_FACTOR = 0.000116653
MEX:REFLECTANCE_OFFSET = 0.00408285
/* IMAGE OBJECT DEFINITIONS */
OBJECT = IMAGE
  INTERCHANGE_FORMAT = BINARY
  LINES = 11221
  LINE_SAMPLES = 4467
  SAMPLE_TYPE = UNSIGNED_INTEGER
  SAMPLE_BITS = 8
  BANDS = 1
  BAND_STORAGE_TYPE = BAND_SEQUENTIAL
  MAXIMUM = 255
  MEAN = 108.894
  MINIMUM = 1
  STANDARD_DEVIATION = 55.5762
END_OBJECT = IMAGE
/* MAP OBJECT DEFINITIONS */
OBJECT = IMAGE_MAP_PROJECTION
  ^DATA_SET_MAP_PROJECTION_CATALOG= "DSMAP.CAT"
  A_AXIS_RADIUS = 3396.0
  B_AXIS_RADIUS = 3396.0
  C_AXIS_RADIUS = 3396.0
  CENTER_LATITUDE = 0.0
  CENTER_LONGITUDE = 174.0
  COORDINATE_SYSTEM_NAME = PLANETOGRAPHIC
  COORDINATE_SYSTEM_TYPE = "BODY-FIXED ROTATING"
  EASTERNMOST_LONGITUDE = 179.787
  FIRST_STANDARD_PARALLEL = "N/A"
  LINE_FIRST_PIXEL = 1
  LINE_LAST_PIXEL = 11221
  LINE_PROJECTION_OFFSET = -83007.75
  MAP_PROJECTION_ROTATION = 0.0
  MAP_PROJECTION_TYPE = SINUSOIDAL
  MAP_RESOLUTION = 1185.42760773333
  MAP_SCALE = 0.05
  MAXIMUM_LATITUDE = -70.07040000000001
  MINIMUM_LATITUDE = -79.50360000000001
  POSITIVE_LONGITUDE_DIRECTION = EAST
  REFERENCE_LATITUDE = "N/A"
  REFERENCE_LONGITUDE = "N/A"
  SAMPLE_FIRST_PIXEL = 1
  SAMPLE_LAST_PIXEL = 4467
  SAMPLE_PROJECTION_OFFSET = 2094.25
  SECOND_STANDARD_PARALLEL = "N/A"
  WESTERNMOST_LONGITUDE = 165.086
END_OBJECT = IMAGE_MAP_PROJECTION
/* The JPEG2000 image data file associated with this label. */
OBJECT = COMPRESSED_FILE
  FILE_NAME = "H2663_0000_P13.JP2"
  RECORD_TYPE = UNDEFINED
  FILE_RECORDS = UNK
  ENCODING_TYPE = "JP2"
  INTERCHANGE_FORMAT = BINARY
  UNCOMPRESSED_FILE_NAME = "H2663_0000_P13.IMG"
  REQUIRED_STORAGE_BYTES = "50151009"
  ^DESCRIPTION = "JP2INFO.TXT"
END_OBJECT = COMPRESSED_FILE
END
