PDS_VERSION_ID = PDS3
/* FILE DATA ELEMENTS */
RECORD_TYPE = STREAM
/* POINTERS TO DATA OBJECTS */
^COMPRESSED_FILE = "H2664_0000_BL3.JP2"
/* IDENTIFICATION DATA ELEMENTS */
DATA_SET_ID = "MEX-M-HRSC-5-REFDR-MAPPROJECTED-V3.0"
DATA_SET_NAME = "MARS EXPRESS HRSC MAP PROJECTED REFDR V3.0"
DETECTOR_ID = MEX_HRSC_BLUE
EVENT_TYPE = "MARS-TERMINATOR-VARIABLE-Eo-At"
INSTRUMENT_HOST_ID = MEX
INSTRUMENT_HOST_NAME = "MARS EXPRESS"
INSTRUMENT_ID = HRSC
INSTRUMENT_NAME = "HIGH RESOLUTION STEREO CAMERA"
MISSION_NAME = "MARS EXPRESS"
MISSION_PHASE_NAME = ME_Phase_2
PROCESSING_LEVEL_ID = 3
PRODUCT_CREATION_TIME = 2016-04-08T01:44:18.000Z
PRODUCT_ID = "H2664_0000_BL3.JP2"
RELEASE_ID = 0033
REVISION_ID = 0000
/* QUALITY DATA ELEMENTS */
DATA_QUALITY_ID = 1
DATA_QUALITY_DESC = "Data calculated based on original SPICE kernels"
/* TIME DATA ELEMENTS */
SPACECRAFT_CLOCK_START_COUNT = "1/0087405497.07306"
SPACECRAFT_CLOCK_STOP_COUNT = "1/0087405769.34727"
START_TIME = 2006-02-07T15:19:12.669Z
STOP_TIME = 2006-02-07T15:21:51.725Z
/* ORBITAL DATA ELEMENTS */
ASCENDING_NODE_LONGITUDE = 172.39
MAXIMUM_RESOLUTION = 75.5
FOOTPRINT_POINT_LATITUDE = (-79.215,-79.36,-79.4307,-79.5006, -79.6095,-79.2134,-78.8951,-78.6525, -78.4899,-78.3273,-78.1648,-77.9993, -77.8334,-77.6674,-77.5017,-77.3332, -77.1645,-76.9959,-76.7408,-76.5687, -76.3966,-76.2247,-76.0494,-75.7871, -75.6129,-75.4355,-75.2579,-75.0806, -74.8111,-74.6305,-74.45,-74.2669, -74.0835,-73.9004,-73.6233,-73.4381, -73.2521,-73.0635,-72.7803,-72.59, -72.3987,-72.2079,-72.0152,-71.821, -71.6267,-71.4297,-71.2334,-70.9357, -70.6194,-70.5951,-70.5528,-70.5086, -70.4559,-70.4078,-70.3417,-70.405, -70.6013,-70.8948,-71.0885,-71.3789, -71.5701,-71.8567,-72.0451,-72.2338, -72.4217,-72.6073,-72.7931,-72.9779, -73.161,-73.344,-73.526,-73.7059, -73.886,-74.0659,-74.2429,-74.4203, -74.5975,-74.7723,-75.0344,-75.2086, -75.3796,-75.6358,-75.8068,-75.9747, -76.1427,-76.3108,-76.4777,-76.6425, -76.807,-76.9716,-77.1348,-77.2964, -77.5384,-77.6995,-78.0151,-78.1728, -78.408,-78.7161,-79.0988,-79.215)
FOOTPRINT_POINT_LONGITUDE = (68.0398,70.2901,71.5129,72.8295, 74.7254,75.2931,75.7183,76.0254,76.2234 ,76.4152,76.6019,76.7867,76.9657, 77.1389,77.3081,77.4769,77.6415,77.8014 ,78.0335,78.1841,78.3299,78.4718,78.612 ,78.8174,78.9521,79.0846,79.2135, 79.3399,79.5245,79.6433,79.7589,79.8737 ,79.9858,80.0958,80.2617,80.3696, 80.4729,80.5755,80.7219,80.82,80.9153, 81.0089,81.106,81.1946,81.282,81.3677, 81.4526,81.5781,81.4112,80.7536,79.7418 ,78.7954,77.7931,76.9742,75.9243, 75.3278,75.2229,75.065,74.9551,74.7837, 74.6666,74.4916,74.3703,74.2452,74.1192 ,73.9918,73.8605,73.7271,73.5886, 73.4496,73.3074,73.1641,73.0176,72.8663 ,72.7133,72.555,72.3957,72.2277,71.9647 ,71.79,71.6156,71.3524,71.1685,70.9799, 70.7849,70.5847,70.3815,70.1744,69.9662 ,69.7505,69.5217,69.2893,68.9375, 68.6944,68.1976,67.9379,67.5371,66.983, 66.2466,68.0398)
ORBIT_NUMBER = 2664
ORBITAL_ECCENTRICITY = 0.571
ORBITAL_INCLINATION = 86.62
ORBITAL_SEMIMAJOR_AXIS = 8538.27
PERIAPSIS_ALTITUDE = 281.01
PERIAPSIS_ARGUMENT_ANGLE = 250.34
PERIAPSIS_TIME = 2006-02-07T15:11:26.000Z
SPACECRAFT_ORIENTATION = (0.0,-1.0,0.0)
^MEX_ORIENTATION_DESC = "MEX_ORIENTATION_DESC.TXT"
SPACECRAFT_POINTING_MODE = NADIR
^MEX_POINTING_DESC = "MEX_POINTING_DESC.TXT"
RIGHT_ASCENSION = -1e+32
DECLINATION = -1e+32
OFFSET_ANGLE = -1e+32
SPACECRAFT_SOLAR_DISTANCE = 2.3605e+08
TARGET_NAME = MARS
/* CAMERA DATA ELEMENTS */
DETECTOR_TEMPERATURE = 18.3705
FOCAL_PLANE_TEMPERATURE = 8.5833
INST_CMPRS_NAME = "DISCRETE COSINE TRANSFORMATION (DCT)"
INST_CMPRS_RATIO = 11.9684
INST_CMPRS_QUALITY = 0
INST_CMPRS_QUANTZ_TBL_ID = 0
INSTRUMENT_TEMPERATURE = 11.4379
LENS_TEMPERATURE = 8.7872
MACROPIXEL_SIZE = 4
MISSING_FRAMES = 0
PIXEL_SUBSAMPLING_FLAG = N
SIGNAL_CHAIN_ID = 2
/* RADIOMETRIC DATA ELEMENTS */
BANDWIDTH = 76.0
CENTER_FILTER_WAVELENGTH = 444.0
RADIANCE_OFFSET = 0.0
RADIANCE_SCALING_FACTOR = 0.000954996
REFLECTANCE_SCALING_FACTOR = 5.46724e-05
MEX:REFLECTANCE_OFFSET = 0.0
/* IMAGE OBJECT DEFINITIONS */
OBJECT = IMAGE
  INTERCHANGE_FORMAT = BINARY
  LINES = 11007
  LINE_SAMPLES = 4351
  SAMPLE_TYPE = UNSIGNED_INTEGER
  SAMPLE_BITS = 8
  BANDS = 1
  BAND_STORAGE_TYPE = BAND_SEQUENTIAL
  MAXIMUM = 254
  MEAN = 112.525
  MINIMUM = 3
  STANDARD_DEVIATION = 44.0184
END_OBJECT = IMAGE
/* MAP OBJECT DEFINITIONS */
OBJECT = IMAGE_MAP_PROJECTION
  ^DATA_SET_MAP_PROJECTION_CATALOG= "DSMAP.CAT"
  A_AXIS_RADIUS = 3396.0
  B_AXIS_RADIUS = 3396.0
  C_AXIS_RADIUS = 3396.0
  CENTER_LATITUDE = 0.0
  CENTER_LONGITUDE = 76.0
  COORDINATE_SYSTEM_NAME = PLANETOGRAPHIC
  COORDINATE_SYSTEM_TYPE = "BODY-FIXED ROTATING"
  EASTERNMOST_LONGITUDE = 81.57810000000001
  FIRST_STANDARD_PARALLEL = "N/A"
  LINE_FIRST_PIXEL = 1
  LINE_LAST_PIXEL = 11007
  LINE_PROJECTION_OFFSET = -83360.25
  MAP_PROJECTION_ROTATION = 0.0
  MAP_PROJECTION_TYPE = SINUSOIDAL
  MAP_RESOLUTION = 1185.42760773333
  MAP_SCALE = 0.05
  MAXIMUM_LATITUDE = -70.3417
  MINIMUM_LATITUDE = -79.6095
  POSITIVE_LONGITUDE_DIRECTION = EAST
  REFERENCE_LATITUDE = "N/A"
  REFERENCE_LONGITUDE = "N/A"
  SAMPLE_FIRST_PIXEL = 1
  SAMPLE_LAST_PIXEL = 4351
  SAMPLE_PROJECTION_OFFSET = 2154.75
  SECOND_STANDARD_PARALLEL = "N/A"
  WESTERNMOST_LONGITUDE = 66.2466
END_OBJECT = IMAGE_MAP_PROJECTION
/* The JPEG2000 image data file associated with this label. */
OBJECT = COMPRESSED_FILE
  FILE_NAME = "H2664_0000_BL3.JP2"
  RECORD_TYPE = UNDEFINED
  FILE_RECORDS = UNK
  ENCODING_TYPE = "JP2"
  INTERCHANGE_FORMAT = BINARY
  UNCOMPRESSED_FILE_NAME = "H2664_0000_BL3.IMG"
  REQUIRED_STORAGE_BYTES = "47917563"
  ^DESCRIPTION = "JP2INFO.TXT"
END_OBJECT = COMPRESSED_FILE
END
