PDS_VERSION_ID = PDS3
/* FILE DATA ELEMENTS */
RECORD_TYPE = STREAM
/* POINTERS TO DATA OBJECTS */
^COMPRESSED_FILE = "H2664_0000_GR3.JP2"
/* IDENTIFICATION DATA ELEMENTS */
DATA_SET_ID = "MEX-M-HRSC-5-REFDR-MAPPROJECTED-V3.0"
DATA_SET_NAME = "MARS EXPRESS HRSC MAP PROJECTED REFDR V3.0"
DETECTOR_ID = MEX_HRSC_GREEN
EVENT_TYPE = "MARS-TERMINATOR-VARIABLE-Eo-At"
INSTRUMENT_HOST_ID = MEX
INSTRUMENT_HOST_NAME = "MARS EXPRESS"
INSTRUMENT_ID = HRSC
INSTRUMENT_NAME = "HIGH RESOLUTION STEREO CAMERA"
MISSION_NAME = "MARS EXPRESS"
MISSION_PHASE_NAME = ME_Phase_2
PROCESSING_LEVEL_ID = 3
PRODUCT_CREATION_TIME = 2016-04-08T01:44:18.000Z
PRODUCT_ID = "H2664_0000_GR3.JP2"
RELEASE_ID = 0033
REVISION_ID = 0000
/* QUALITY DATA ELEMENTS */
DATA_QUALITY_ID = 1
DATA_QUALITY_DESC = "Data calculated based on original SPICE kernels"
/* TIME DATA ELEMENTS */
SPACECRAFT_CLOCK_START_COUNT = "1/0087405497.07306"
SPACECRAFT_CLOCK_STOP_COUNT = "1/0087405769.34727"
START_TIME = 2006-02-07T15:18:57.306Z
STOP_TIME = 2006-02-07T15:21:30.417Z
/* ORBITAL DATA ELEMENTS */
ASCENDING_NODE_LONGITUDE = 172.39
MAXIMUM_RESOLUTION = 73.6
FOOTPRINT_POINT_LATITUDE = (-79.2075,-79.2933,-79.3788,-79.4456, -79.5246,-79.6115,-79.3784,-79.1381, -78.9774,-78.656,-78.4927,-78.3284, -78.1642,-77.9179,-77.6668,-77.4992, -77.2478,-77.0778,-76.9068,-76.7358, -76.5651,-76.3921,-76.218,-76.044, -75.8701,-75.6041,-75.4268,-75.2496, -74.9797,-74.7992,-74.6191,-74.345, -74.1617,-73.9785,-73.7924,-73.6057, -73.4191,-73.136,-72.8419,-72.5551, -72.3628,-72.171,-71.9752,-71.7805, -71.5853,-71.3873,-71.1898,-70.9912, -70.6898,-70.6093,-70.571,-70.5447, -70.51,-70.4767,-70.4181,-70.3753, -70.3175,-70.5156,-70.8126,-71.0082, -71.3008,-71.4927,-71.6851,-71.8776, -72.0669,-72.2564,-72.5491,-72.829, -73.0156,-73.1985,-73.3822,-73.6564, -73.8372,-74.0177,-74.198,-74.3752, -74.5525,-74.8176,-74.9898,-75.1636, -75.3376,-75.5967,-75.8538,-76.1094, -76.2763,-76.4435,-76.6104,-76.7776, -76.9417,-77.1061,-77.3485,-77.5108, -77.6703,-77.83,-77.9896,-78.149, -78.4608,-78.7719,-79.0773,-79.2075)
FOOTPRINT_POINT_LONGITUDE = (67.3088,68.5349,69.8553,70.9696, 72.4009,74.1646,74.9518,75.2869,75.502, 75.9131,76.1126,76.3073,76.4959,76.7691 ,77.0341,77.2053,77.4559,77.6198, 77.7788,77.9336,78.0834,78.2297,78.3729 ,78.5127,78.6496,78.8555,78.9882,79.117 ,79.3068,79.4296,79.5477,79.7229, 79.8354,79.9468,80.0583,80.1689,80.2771 ,80.4338,80.5867,80.7339,80.8292, 80.9215,81.0194,81.1064,81.1962,81.2828 ,81.3659,81.4501,81.576,80.8505,79.9293 ,79.3563,78.672,78.0456,77.026,76.3504, 75.4866,75.3811,75.2224,75.113,74.9424, 74.8257,74.7067,74.5892,74.4667,74.341, 74.143,73.9455,73.8103,73.671,73.5308, 73.3144,73.1687,73.018,72.8627,72.7072, 72.5472,72.2949,72.1202,71.9472,71.7703 ,71.5033,71.2284,70.9364,70.7389, 70.5368,70.328,70.1159,69.9033,69.6861, 69.3299,69.0949,68.8546,68.6087,68.3553 ,68.0947,67.5632,66.9986,66.4101, 67.3088)
ORBIT_NUMBER = 2664
ORBITAL_ECCENTRICITY = 0.571
ORBITAL_INCLINATION = 86.62
ORBITAL_SEMIMAJOR_AXIS = 8538.27
PERIAPSIS_ALTITUDE = 281.01
PERIAPSIS_ARGUMENT_ANGLE = 250.34
PERIAPSIS_TIME = 2006-02-07T15:11:26.000Z
SPACECRAFT_ORIENTATION = (0.0,-1.0,0.0)
^MEX_ORIENTATION_DESC = "MEX_ORIENTATION_DESC.TXT"
SPACECRAFT_POINTING_MODE = NADIR
^MEX_POINTING_DESC = "MEX_POINTING_DESC.TXT"
RIGHT_ASCENSION = -1e+32
DECLINATION = -1e+32
OFFSET_ANGLE = -1e+32
SPACECRAFT_SOLAR_DISTANCE = 2.3605e+08
TARGET_NAME = MARS
/* CAMERA DATA ELEMENTS */
DETECTOR_TEMPERATURE = 18.3705
FOCAL_PLANE_TEMPERATURE = 8.5833
INST_CMPRS_NAME = "DISCRETE COSINE TRANSFORMATION (DCT)"
INST_CMPRS_RATIO = 36.9018
INST_CMPRS_QUALITY = 0
INST_CMPRS_QUANTZ_TBL_ID = 0
INSTRUMENT_TEMPERATURE = 11.4379
LENS_TEMPERATURE = 8.7872
MACROPIXEL_SIZE = 4
MISSING_FRAMES = 1
PIXEL_SUBSAMPLING_FLAG = N
SIGNAL_CHAIN_ID = 2
/* RADIOMETRIC DATA ELEMENTS */
BANDWIDTH = 88.0
CENTER_FILTER_WAVELENGTH = 538.0
RADIANCE_OFFSET = 0.0369418
RADIANCE_SCALING_FACTOR = 0.00152113
REFLECTANCE_SCALING_FACTOR = 7.29738e-05
MEX:REFLECTANCE_OFFSET = 0.00177222
/* IMAGE OBJECT DEFINITIONS */
OBJECT = IMAGE
  INTERCHANGE_FORMAT = BINARY
  LINES = 11007
  LINE_SAMPLES = 4351
  SAMPLE_TYPE = UNSIGNED_INTEGER
  SAMPLE_BITS = 8
  BANDS = 1
  BAND_STORAGE_TYPE = BAND_SEQUENTIAL
  MAXIMUM = 255
  MEAN = 96.5451
  MINIMUM = 6
  STANDARD_DEVIATION = 45.0072
END_OBJECT = IMAGE
/* MAP OBJECT DEFINITIONS */
OBJECT = IMAGE_MAP_PROJECTION
  ^DATA_SET_MAP_PROJECTION_CATALOG= "DSMAP.CAT"
  A_AXIS_RADIUS = 3396.0
  B_AXIS_RADIUS = 3396.0
  C_AXIS_RADIUS = 3396.0
  CENTER_LATITUDE = 0.0
  CENTER_LONGITUDE = 76.0
  COORDINATE_SYSTEM_NAME = PLANETOGRAPHIC
  COORDINATE_SYSTEM_TYPE = "BODY-FIXED ROTATING"
  EASTERNMOST_LONGITUDE = 81.57599999999999
  FIRST_STANDARD_PARALLEL = "N/A"
  LINE_FIRST_PIXEL = 1
  LINE_LAST_PIXEL = 11007
  LINE_PROJECTION_OFFSET = -83360.25
  MAP_PROJECTION_ROTATION = 0.0
  MAP_PROJECTION_TYPE = SINUSOIDAL
  MAP_RESOLUTION = 1185.42760773333
  MAP_SCALE = 0.05
  MAXIMUM_LATITUDE = -70.3175
  MINIMUM_LATITUDE = -79.61150000000001
  POSITIVE_LONGITUDE_DIRECTION = EAST
  REFERENCE_LATITUDE = "N/A"
  REFERENCE_LONGITUDE = "N/A"
  SAMPLE_FIRST_PIXEL = 1
  SAMPLE_LAST_PIXEL = 4351
  SAMPLE_PROJECTION_OFFSET = 2154.75
  SECOND_STANDARD_PARALLEL = "N/A"
  WESTERNMOST_LONGITUDE = 66.4101
END_OBJECT = IMAGE_MAP_PROJECTION
/* The JPEG2000 image data file associated with this label. */
OBJECT = COMPRESSED_FILE
  FILE_NAME = "H2664_0000_GR3.JP2"
  RECORD_TYPE = UNDEFINED
  FILE_RECORDS = UNK
  ENCODING_TYPE = "JP2"
  INTERCHANGE_FORMAT = BINARY
  UNCOMPRESSED_FILE_NAME = "H2664_0000_GR3.IMG"
  REQUIRED_STORAGE_BYTES = "47917563"
  ^DESCRIPTION = "JP2INFO.TXT"
END_OBJECT = COMPRESSED_FILE
END
