PDS_VERSION_ID = PDS3
/* FILE DATA ELEMENTS */
RECORD_TYPE = STREAM
/* POINTERS TO DATA OBJECTS */
^COMPRESSED_FILE = "H2664_0001_S23.JP2"
/* IDENTIFICATION DATA ELEMENTS */
DATA_SET_ID = "MEX-M-HRSC-5-REFDR-MAPPROJECTED-V3.0"
DATA_SET_NAME = "MARS EXPRESS HRSC MAP PROJECTED REFDR V3.0"
DETECTOR_ID = MEX_HRSC_S2
EVENT_TYPE = "MARS-GLOBAL-MAPPING-Vo-Fl-Mw"
INSTRUMENT_HOST_ID = MEX
INSTRUMENT_HOST_NAME = "MARS EXPRESS"
INSTRUMENT_ID = HRSC
INSTRUMENT_NAME = "HIGH RESOLUTION STEREO CAMERA"
MISSION_NAME = "MARS EXPRESS"
MISSION_PHASE_NAME = ME_Phase_2
PROCESSING_LEVEL_ID = 3
PRODUCT_CREATION_TIME = 2016-04-08T01:44:18.000Z
PRODUCT_ID = "H2664_0001_S23.JP2"
RELEASE_ID = 0033
REVISION_ID = 0000
/* QUALITY DATA ELEMENTS */
DATA_QUALITY_ID = 2
DATA_QUALITY_DESC = "Data calculated based on photogrammetrically improved orbit and attitude data"
/* TIME DATA ELEMENTS */
SPACECRAFT_CLOCK_START_COUNT = "1/0087405998.09049"
SPACECRAFT_CLOCK_STOP_COUNT = "1/0087407056.04966"
START_TIME = 2006-02-07T15:32:05.993Z
STOP_TIME = 2006-02-07T15:44:19.921Z
/* ORBITAL DATA ELEMENTS */
ASCENDING_NODE_LONGITUDE = 172.39
MAXIMUM_RESOLUTION = 121.6
FOOTPRINT_POINT_LATITUDE = (-49.0977,-49.1085,-49.1161,-49.1222, -49.1266,-49.1294,-49.1306,-49.1303, -49.1284,-49.1249,-49.1197,-49.1128, -49.1043,-49.2349,-48.7908,-48.3512, -47.9171,-47.488,-47.0648,-46.647, -46.2336,-45.8265,-45.4244,-45.0272, -44.6342,-44.2465,-43.8637,-43.4873, -43.1132,-42.5666,-42.2004,-41.8429, -41.1439,-40.2925,-39.631,-38.9872, -38.3634,-37.7466,-37.1509,-36.5682, -36.004,-35.4508,-34.9106,-34.383, -33.9796,-33.6167,-33.124,-32.644, -32.675,-32.7119,-32.7483,-32.7841, -32.82,-32.8562,-32.9198,-32.9885, -33.0497,-33.0941,-33.1359,-33.1792, -33.2271,-33.266,-33.3079,-33.3745, -33.4419,-33.4824,-33.5398,-33.5807, -33.8432,-34.6114,-35.0694,-35.5418, -36.03,-36.5315,-37.0482,-37.578, -38.1287,-38.6936,-39.2768,-39.8756, -40.4935,-40.9699,-41.6185,-42.2866, -42.9731,-43.3241,-43.679,-44.2251, -44.5911,-44.9693,-45.3481,-45.7335, -46.124,-46.5199,-46.9208,-47.3292, -47.7417,-48.1598,-48.5851,-49.0977)
FOOTPRINT_POINT_LONGITUDE = (78.8806,79.5432,80.1314,80.7189, 81.3058,81.8924,82.4789,83.0648,83.6505 ,84.2367,84.8236,85.4118,86.0011,86.542 ,86.5947,86.6458,86.6961,86.7453,86.794 ,86.842,86.889,86.9359,86.9822,87.0279, 87.0726,87.1171,87.1612,87.2058,87.2487 ,87.3156,87.3558,87.398,87.4831,87.5874 ,87.6705,87.7539,87.8392,87.9199, 88.0036,88.0865,88.1718,88.2557,88.3395 ,88.4234,88.4779,88.5506,88.6374, 88.7251,88.298,87.8675,87.4376,87.0082, 86.5795,86.1519,85.4049,84.5516,83.8061 ,83.3813,82.9553,82.5287,81.994,81.5657 ,81.1367,80.3844,79.6295,79.1963, 78.5452,78.109,77.6627,77.7756,77.8396, 77.9032,77.9659,78.0284,78.0901,78.1518 ,78.2107,78.2692,78.3257,78.3811, 78.4341,78.472,78.5216,78.5684,78.6127, 78.6335,78.6538,78.6809,78.6997,78.7143 ,78.7299,78.7438,78.7566,78.7681, 78.7786,78.7866,78.7938,78.7995,78.8027 ,78.8806)
ORBIT_NUMBER = 2664
ORBITAL_ECCENTRICITY = 0.571
ORBITAL_INCLINATION = 86.62
ORBITAL_SEMIMAJOR_AXIS = 8538.27
PERIAPSIS_ALTITUDE = 281.01
PERIAPSIS_ARGUMENT_ANGLE = 250.34
PERIAPSIS_TIME = 2006-02-07T15:11:26.000Z
SPACECRAFT_ORIENTATION = (0.0,-1.0,0.0)
^MEX_ORIENTATION_DESC = "MEX_ORIENTATION_DESC.TXT"
SPACECRAFT_POINTING_MODE = NADIR
^MEX_POINTING_DESC = "MEX_POINTING_DESC.TXT"
RIGHT_ASCENSION = -1e+32
DECLINATION = -1e+32
OFFSET_ANGLE = -1e+32
SPACECRAFT_SOLAR_DISTANCE = 2.3605e+08
TARGET_NAME = MARS
/* CAMERA DATA ELEMENTS */
DETECTOR_TEMPERATURE = 20.6134
FOCAL_PLANE_TEMPERATURE = 8.5833
INST_CMPRS_NAME = "DISCRETE COSINE TRANSFORMATION (DCT)"
INST_CMPRS_RATIO = 12.299
INST_CMPRS_QUALITY = 0
INST_CMPRS_QUANTZ_TBL_ID = 0
INSTRUMENT_TEMPERATURE = 13.4769
LENS_TEMPERATURE = 9.195
MACROPIXEL_SIZE = 2
MISSING_FRAMES = 0
PIXEL_SUBSAMPLING_FLAG = N
SIGNAL_CHAIN_ID = 1
/* RADIOMETRIC DATA ELEMENTS */
BANDWIDTH = 178.0
CENTER_FILTER_WAVELENGTH = 679.0
RADIANCE_OFFSET = 2.37055
RADIANCE_SCALING_FACTOR = 0.0129584
REFLECTANCE_SCALING_FACTOR = 0.000382381
MEX:REFLECTANCE_OFFSET = 0.0699508
/* IMAGE OBJECT DEFINITIONS */
OBJECT = IMAGE
  INTERCHANGE_FORMAT = BINARY
  LINES = 9675
  LINE_SAMPLES = 3561
  SAMPLE_TYPE = UNSIGNED_INTEGER
  SAMPLE_BITS = 8
  BANDS = 1
  BAND_STORAGE_TYPE = BAND_SEQUENTIAL
  MAXIMUM = 248
  MEAN = 95.3218
  MINIMUM = 1
  STANDARD_DEVIATION = 30.043
END_OBJECT = IMAGE
/* MAP OBJECT DEFINITIONS */
OBJECT = IMAGE_MAP_PROJECTION
  ^DATA_SET_MAP_PROJECTION_CATALOG= "DSMAP.CAT"
  A_AXIS_RADIUS = 3396.0
  B_AXIS_RADIUS = 3396.0
  C_AXIS_RADIUS = 3396.0
  CENTER_LATITUDE = 0.0
  CENTER_LONGITUDE = 83.0
  COORDINATE_SYSTEM_NAME = PLANETOGRAPHIC
  COORDINATE_SYSTEM_TYPE = "BODY-FIXED ROTATING"
  EASTERNMOST_LONGITUDE = 88.7251
  FIRST_STANDARD_PARALLEL = "N/A"
  LINE_FIRST_PIXEL = 1
  LINE_LAST_PIXEL = 9675
  LINE_PROJECTION_OFFSET = -19524.75
  MAP_PROJECTION_ROTATION = 0.0
  MAP_PROJECTION_TYPE = SINUSOIDAL
  MAP_RESOLUTION = 592.713803866667
  MAP_SCALE = 0.1
  MAXIMUM_LATITUDE = -32.644
  MINIMUM_LATITUDE = -49.2349
  POSITIVE_LONGITUDE_DIRECTION = EAST
  REFERENCE_LATITUDE = "N/A"
  REFERENCE_LONGITUDE = "N/A"
  SAMPLE_FIRST_PIXEL = 1
  SAMPLE_LAST_PIXEL = 3561
  SAMPLE_PROJECTION_OFFSET = 2002.25
  SECOND_STANDARD_PARALLEL = "N/A"
  WESTERNMOST_LONGITUDE = 77.6627
END_OBJECT = IMAGE_MAP_PROJECTION
/* The JPEG2000 image data file associated with this label. */
OBJECT = COMPRESSED_FILE
  FILE_NAME = "H2664_0001_S23.JP2"
  RECORD_TYPE = UNDEFINED
  FILE_RECORDS = UNK
  ENCODING_TYPE = "JP2"
  INTERCHANGE_FORMAT = BINARY
  UNCOMPRESSED_FILE_NAME = "H2664_0001_S23.IMG"
  REQUIRED_STORAGE_BYTES = "34477602"
  ^DESCRIPTION = "JP2INFO.TXT"
END_OBJECT = COMPRESSED_FILE
END
