PDS_VERSION_ID = PDS3
/* FILE DATA ELEMENTS */
RECORD_TYPE = STREAM
/* POINTERS TO DATA OBJECTS */
^COMPRESSED_FILE = "H2665_0001_P23.JP2"
/* IDENTIFICATION DATA ELEMENTS */
DATA_SET_ID = "MEX-M-HRSC-5-REFDR-MAPPROJECTED-V3.0"
DATA_SET_NAME = "MARS EXPRESS HRSC MAP PROJECTED REFDR V3.0"
DETECTOR_ID = MEX_HRSC_P2
EVENT_TYPE = "MARS-REGIONAL-MAPPING-Im-Fl-Eo"
INSTRUMENT_HOST_ID = MEX
INSTRUMENT_HOST_NAME = "MARS EXPRESS"
INSTRUMENT_ID = HRSC
INSTRUMENT_NAME = "HIGH RESOLUTION STEREO CAMERA"
MISSION_NAME = "MARS EXPRESS"
MISSION_PHASE_NAME = ME_Phase_2
PROCESSING_LEVEL_ID = 3
PRODUCT_CREATION_TIME = 2016-04-08T01:44:18.000Z
PRODUCT_ID = "H2665_0001_P23.JP2"
RELEASE_ID = 0033
REVISION_ID = 0000
/* QUALITY DATA ELEMENTS */
DATA_QUALITY_ID = 2
DATA_QUALITY_DESC = "Data calculated based on photogrammetrically improved orbit and attitude data"
/* TIME DATA ELEMENTS */
SPACECRAFT_CLOCK_START_COUNT = "1/0087430060.08250"
SPACECRAFT_CLOCK_STOP_COUNT = "1/0087430997.40252"
START_TIME = 2006-02-07T22:10:41.618Z
STOP_TIME = 2006-02-07T22:20:13.715Z
/* ORBITAL DATA ELEMENTS */
ASCENDING_NODE_LONGITUDE = 172.37
MAXIMUM_RESOLUTION = 83.7
FOOTPRINT_POINT_LATITUDE = (-56.5302,-56.5813,-56.6175,-56.636, -56.653,-56.5279,-56.1401,-55.7496, -55.3559,-54.9586,-54.5579,-54.1558, -53.7479,-53.3361,-52.9224,-52.5038, -51.8697,-51.4443,-51.0148,-50.5816, -50.1473,-49.715,-49.2874,-48.8638, -48.4434,-48.0263,-47.6133,-47.2047, -46.7983,-46.3958,-45.9975,-45.6024, -45.2102,-44.8221,-44.437,-44.055, -43.6768,-43.3032,-42.9335,-42.5647, -42.199,-41.4768,-40.7694,-40.0734, -39.3885,-38.716,-38.055,-37.4041, -37.4237,-37.4714,-37.4916,-37.5091, -37.5275,-37.5592,-37.5783,-37.5964, -37.6177,-37.6328,-37.6481,-37.972, -38.6013,-39.2445,-39.8986,-40.5654, -41.2439,-41.9354,-42.64,-43.3593, -44.0905,-44.462,-44.8364,-45.2125, -45.5987,-45.9823,-46.3731,-46.7671, -47.1622,-47.5634,-47.9706,-48.3791, -48.9987,-49.4143,-49.8347,-50.2606, -50.6883,-51.1124,-51.5334,-51.9516, -52.3662,-52.7771,-53.1853,-53.5897, -53.9912,-54.39,-54.7849,-55.175, -55.7588,-56.149,-56.5302,-56.5302)
FOOTPRINT_POINT_LONGITUDE = (341.299,342.656,343.892,344.696, 345.687,346.959,347.009,347.058,347.107 ,347.155,347.202,347.249,347.294, 347.338,347.383,347.425,347.489,347.532 ,347.573,347.615,347.656,347.694, 347.733,347.77,347.807,347.842,347.876, 347.911,347.943,347.975,348.007,348.038 ,348.068,348.098,348.126,348.155, 348.183,348.211,348.239,348.265,348.291 ,348.341,348.391,348.439,348.485, 348.531,348.576,348.619,347.825,346.949 ,346.469,345.83,345.272,344.397,343.84, 343.202,342.404,341.764,341.042,340.394 ,340.444,340.491,340.537,340.58,340.62, 340.658,340.693,340.723,340.751,340.763 ,340.775,340.786,340.792,340.802, 340.807,340.811,340.816,340.818,340.817 ,340.816,340.811,340.808,340.802, 340.794,340.783,340.771,340.758,340.742 ,340.725,340.706,340.685,340.663, 340.638,340.612,340.585,340.557,340.508 ,340.469,340.433,341.299)
ORBIT_NUMBER = 2665
ORBITAL_ECCENTRICITY = 0.571
ORBITAL_INCLINATION = 86.62
ORBITAL_SEMIMAJOR_AXIS = 8539.25
PERIAPSIS_ALTITUDE = 281.84
PERIAPSIS_ARGUMENT_ANGLE = 250.15
PERIAPSIS_TIME = 2006-02-07T21:54:36.000Z
SPACECRAFT_ORIENTATION = (0.0,-1.0,0.0)
^MEX_ORIENTATION_DESC = "MEX_ORIENTATION_DESC.TXT"
SPACECRAFT_POINTING_MODE = NADIR
^MEX_POINTING_DESC = "MEX_POINTING_DESC.TXT"
RIGHT_ASCENSION = -1e+32
DECLINATION = -1e+32
OFFSET_ANGLE = -1e+32
SPACECRAFT_SOLAR_DISTANCE = 2.36098e+08
TARGET_NAME = MARS
/* CAMERA DATA ELEMENTS */
DETECTOR_TEMPERATURE = 50.9945
FOCAL_PLANE_TEMPERATURE = 8.5833
INST_CMPRS_NAME = "DISCRETE COSINE TRANSFORMATION (DCT)"
INST_CMPRS_RATIO = 9.47907
INST_CMPRS_QUALITY = 0
INST_CMPRS_QUANTZ_TBL_ID = 0
INSTRUMENT_TEMPERATURE = 12.6613
LENS_TEMPERATURE = 8.9911
MACROPIXEL_SIZE = 2
MISSING_FRAMES = 0
PIXEL_SUBSAMPLING_FLAG = N
SIGNAL_CHAIN_ID = 3
/* RADIOMETRIC DATA ELEMENTS */
BANDWIDTH = 177.0
CENTER_FILTER_WAVELENGTH = 676.5
RADIANCE_OFFSET = 1.30506
RADIANCE_SCALING_FACTOR = 0.0107475
REFLECTANCE_SCALING_FACTOR = 0.000317655
MEX:REFLECTANCE_OFFSET = 0.0385724
/* IMAGE OBJECT DEFINITIONS */
OBJECT = IMAGE
  INTERCHANGE_FORMAT = BINARY
  LINES = 22824
  LINE_SAMPLES = 6382
  SAMPLE_TYPE = UNSIGNED_INTEGER
  SAMPLE_BITS = 8
  BANDS = 1
  BAND_STORAGE_TYPE = BAND_SEQUENTIAL
  MAXIMUM = 255
  MEAN = 98.2291
  MINIMUM = 1
  STANDARD_DEVIATION = 29.6255
END_OBJECT = IMAGE
/* MAP OBJECT DEFINITIONS */
OBJECT = IMAGE_MAP_PROJECTION
  ^DATA_SET_MAP_PROJECTION_CATALOG= "DSMAP.CAT"
  A_AXIS_RADIUS = 3396.0
  B_AXIS_RADIUS = 3396.0
  C_AXIS_RADIUS = 3396.0
  CENTER_LATITUDE = 0.0
  CENTER_LONGITUDE = 344.0
  COORDINATE_SYSTEM_NAME = PLANETOGRAPHIC
  COORDINATE_SYSTEM_TYPE = "BODY-FIXED ROTATING"
  EASTERNMOST_LONGITUDE = 348.619
  FIRST_STANDARD_PARALLEL = "N/A"
  LINE_FIRST_PIXEL = 1
  LINE_LAST_PIXEL = 22824
  LINE_PROJECTION_OFFSET = -44440.75
  MAP_PROJECTION_ROTATION = 0.0
  MAP_PROJECTION_TYPE = SINUSOIDAL
  MAP_RESOLUTION = 1185.42760773333
  MAP_SCALE = 0.05
  MAXIMUM_LATITUDE = -37.4041
  MINIMUM_LATITUDE = -56.653
  POSITIVE_LONGITUDE_DIRECTION = EAST
  REFERENCE_LATITUDE = "N/A"
  REFERENCE_LONGITUDE = "N/A"
  SAMPLE_FIRST_PIXEL = 1
  SAMPLE_LAST_PIXEL = 6382
  SAMPLE_PROJECTION_OFFSET = 2828.75
  SECOND_STANDARD_PARALLEL = "N/A"
  WESTERNMOST_LONGITUDE = 340.394
END_OBJECT = IMAGE_MAP_PROJECTION
/* The JPEG2000 image data file associated with this label. */
OBJECT = COMPRESSED_FILE
  FILE_NAME = "H2665_0001_P23.JP2"
  RECORD_TYPE = UNDEFINED
  FILE_RECORDS = UNK
  ENCODING_TYPE = "JP2"
  INTERCHANGE_FORMAT = BINARY
  UNCOMPRESSED_FILE_NAME = "H2665_0001_P23.IMG"
  REQUIRED_STORAGE_BYTES = "145694678"
  ^DESCRIPTION = "JP2INFO.TXT"
END_OBJECT = COMPRESSED_FILE
END
