PDS_VERSION_ID = PDS3
/* FILE DATA ELEMENTS */
RECORD_TYPE = STREAM
/* POINTERS TO DATA OBJECTS */
^COMPRESSED_FILE = "H2671_0000_S23.JP2"
/* IDENTIFICATION DATA ELEMENTS */
DATA_SET_ID = "MEX-M-HRSC-5-REFDR-MAPPROJECTED-V3.0"
DATA_SET_NAME = "MARS EXPRESS HRSC MAP PROJECTED REFDR V3.0"
DETECTOR_ID = MEX_HRSC_S2
EVENT_TYPE = "MARS-REGIONAL-MAPPING-Im-Fl-Eo"
INSTRUMENT_HOST_ID = MEX
INSTRUMENT_HOST_NAME = "MARS EXPRESS"
INSTRUMENT_ID = HRSC
INSTRUMENT_NAME = "HIGH RESOLUTION STEREO CAMERA"
MISSION_NAME = "MARS EXPRESS"
MISSION_PHASE_NAME = ME_Phase_2
PROCESSING_LEVEL_ID = 3
PRODUCT_CREATION_TIME = 2016-04-08T01:44:18.000Z
PRODUCT_ID = "H2671_0000_S23.JP2"
RELEASE_ID = 0033
REVISION_ID = 0000
/* QUALITY DATA ELEMENTS */
DATA_QUALITY_ID = 2
DATA_QUALITY_DESC = "Data calculated based on photogrammetrically improved orbit and attitude data"
/* TIME DATA ELEMENTS */
SPACECRAFT_CLOCK_START_COUNT = "1/0087575229.07299"
SPACECRAFT_CLOCK_STOP_COUNT = "1/0087576053.40369"
START_TIME = 2006-02-09T14:31:15.266Z
STOP_TIME = 2006-02-09T14:40:57.485Z
/* ORBITAL DATA ELEMENTS */
ASCENDING_NODE_LONGITUDE = 172.24
MAXIMUM_RESOLUTION = 96.4
FOOTPRINT_POINT_LATITUDE = (-56.7666,-56.7855,-56.8182,-56.8442, -56.8636,-56.8761,-56.8799,-56.9634, -56.5968,-56.2218,-55.8565,-55.2905, -54.9099,-54.5258,-53.9448,-53.5536, -53.1706,-52.7829,-52.4021,-52.0254, -51.6528,-51.288,-50.9089,-50.5536, -50.198,-49.8443,-49.494,-49.1457, -48.7984,-48.4545,-48.1206,-47.6217, -47.2958,-46.973,-46.6487,-46.3299, -46.0151,-45.7034,-45.3943,-44.7864, -44.1867,-43.6057,-43.0276,-42.6093, -41.925,-41.3872,-40.8589,-40.4713, -40.4537,-40.4843,-40.5211,-40.5589, -40.58,-40.6111,-40.6499,-40.6722, -40.7071,-40.7349,-40.7558,-40.7747, -40.7945,-41.1737,-41.5414,-42.0542, -42.5636,-43.1017,-43.5062,-44.0574, -44.6189,-45.1964,-45.9252,-46.3877, -46.6955,-47.0052,-47.3144,-47.6336, -47.955,-48.2648,-48.5956,-49.0916, -49.4275,-49.7664,-50.1103,-50.4568, -50.8089,-51.3531,-51.9094,-52.2778, -52.6489,-53.2008,-53.7736,-54.1374, -54.5139,-54.8946,-55.2714,-55.6441, -56.0131,-56.3788,-56.7415,-56.7666)
FOOTPRINT_POINT_LONGITUDE = (111.46,112.017,113.13,114.244,115.358, 116.475,117.035,117.666,117.722,117.775 ,117.834,117.914,117.966,118.018, 118.095,118.146,118.2,118.248,118.296, 118.344,118.392,118.44,118.478,118.526, 118.571,118.615,118.658,118.699,118.738 ,118.777,118.819,118.879,118.919, 118.959,118.996,119.034,119.072,119.11, 119.146,119.22,119.29,119.363,119.431, 119.485,119.575,119.644,119.713,119.765 ,119.129,118.578,117.75,117.019,116.561 ,115.83,114.916,114.184,113.451,112.625 ,112.072,111.427,110.78,110.315,110.346 ,110.381,110.421,110.453,110.478, 110.509,110.54,110.566,110.6,110.612, 110.62,110.629,110.639,110.645,110.65, 110.662,110.664,110.669,110.671,110.671 ,110.67,110.668,110.664,110.65,110.63, 110.619,110.606,110.592,110.566,110.556 ,110.535,110.508,110.481,110.452, 110.423,110.393,110.361,111.46)
ORBIT_NUMBER = 2671
ORBITAL_ECCENTRICITY = 0.571
ORBITAL_INCLINATION = 86.62
ORBITAL_SEMIMAJOR_AXIS = 8540.08
PERIAPSIS_ALTITUDE = 282.44
PERIAPSIS_ARGUMENT_ANGLE = 249.11
PERIAPSIS_TIME = 2006-02-09T14:13:52.000Z
SPACECRAFT_ORIENTATION = (0.0,-1.0,0.0)
^MEX_ORIENTATION_DESC = "MEX_ORIENTATION_DESC.TXT"
SPACECRAFT_POINTING_MODE = NADIR
^MEX_POINTING_DESC = "MEX_POINTING_DESC.TXT"
RIGHT_ASCENSION = -1e+32
DECLINATION = -1e+32
OFFSET_ANGLE = -1e+32
SPACECRAFT_SOLAR_DISTANCE = 2.36389e+08
TARGET_NAME = MARS
/* CAMERA DATA ELEMENTS */
DETECTOR_TEMPERATURE = 18.7783
FOCAL_PLANE_TEMPERATURE = 7.3599
INST_CMPRS_NAME = "DISCRETE COSINE TRANSFORMATION (DCT)"
INST_CMPRS_RATIO = 11.5672
INST_CMPRS_QUALITY = 0
INST_CMPRS_QUANTZ_TBL_ID = 0
INSTRUMENT_TEMPERATURE = 11.234
LENS_TEMPERATURE = 9.195
MACROPIXEL_SIZE = 2
MISSING_FRAMES = 0
PIXEL_SUBSAMPLING_FLAG = N
SIGNAL_CHAIN_ID = 1
/* RADIOMETRIC DATA ELEMENTS */
BANDWIDTH = 178.0
CENTER_FILTER_WAVELENGTH = 679.0
RADIANCE_OFFSET = 1.26073
RADIANCE_SCALING_FACTOR = 0.0172439
REFLECTANCE_SCALING_FACTOR = 0.0005103
MEX:REFLECTANCE_OFFSET = 0.037309
/* IMAGE OBJECT DEFINITIONS */
OBJECT = IMAGE
  INTERCHANGE_FORMAT = BINARY
  LINES = 19469
  LINE_SAMPLES = 6023
  SAMPLE_TYPE = UNSIGNED_INTEGER
  SAMPLE_BITS = 8
  BANDS = 1
  BAND_STORAGE_TYPE = BAND_SEQUENTIAL
  MAXIMUM = 255
  MEAN = 83.6614
  MINIMUM = 1
  STANDARD_DEVIATION = 36.7142
END_OBJECT = IMAGE
/* MAP OBJECT DEFINITIONS */
OBJECT = IMAGE_MAP_PROJECTION
  ^DATA_SET_MAP_PROJECTION_CATALOG= "DSMAP.CAT"
  A_AXIS_RADIUS = 3396.0
  B_AXIS_RADIUS = 3396.0
  C_AXIS_RADIUS = 3396.0
  CENTER_LATITUDE = 0.0
  CENTER_LONGITUDE = 114.0
  COORDINATE_SYSTEM_NAME = PLANETOGRAPHIC
  COORDINATE_SYSTEM_TYPE = "BODY-FIXED ROTATING"
  EASTERNMOST_LONGITUDE = 119.765
  FIRST_STANDARD_PARALLEL = "N/A"
  LINE_FIRST_PIXEL = 1
  LINE_LAST_PIXEL = 19469
  LINE_PROJECTION_OFFSET = -48120.75
  MAP_PROJECTION_ROTATION = 0.0
  MAP_PROJECTION_TYPE = SINUSOIDAL
  MAP_RESOLUTION = 1185.42760773333
  MAP_SCALE = 0.05
  MAXIMUM_LATITUDE = -40.4537
  MINIMUM_LATITUDE = -56.9634
  POSITIVE_LONGITUDE_DIRECTION = EAST
  REFERENCE_LATITUDE = "N/A"
  REFERENCE_LONGITUDE = "N/A"
  SAMPLE_FIRST_PIXEL = 1
  SAMPLE_LAST_PIXEL = 6023
  SAMPLE_PROJECTION_OFFSET = 2445.25
  SECOND_STANDARD_PARALLEL = "N/A"
  WESTERNMOST_LONGITUDE = 110.315
END_OBJECT = IMAGE_MAP_PROJECTION
/* The JPEG2000 image data file associated with this label. */
OBJECT = COMPRESSED_FILE
  FILE_NAME = "H2671_0000_S23.JP2"
  RECORD_TYPE = UNDEFINED
  FILE_RECORDS = UNK
  ENCODING_TYPE = "JP2"
  INTERCHANGE_FORMAT = BINARY
  UNCOMPRESSED_FILE_NAME = "H2671_0000_S23.IMG"
  REQUIRED_STORAGE_BYTES = "117291902"
  ^DESCRIPTION = "JP2INFO.TXT"
END_OBJECT = COMPRESSED_FILE
END
