PDS_VERSION_ID = PDS3
/* FILE DATA ELEMENTS */
RECORD_TYPE = STREAM
/* POINTERS TO DATA OBJECTS */
^COMPRESSED_FILE = "H2687_0000_S13.JP2"
/* IDENTIFICATION DATA ELEMENTS */
DATA_SET_ID = "MEX-M-HRSC-5-REFDR-MAPPROJECTED-V3.0"
DATA_SET_NAME = "MARS EXPRESS HRSC MAP PROJECTED REFDR V3.0"
DETECTOR_ID = MEX_HRSC_S1
EVENT_TYPE = "MARS-GLOBAL-MAPPING-Im-Fl-At"
INSTRUMENT_HOST_ID = MEX
INSTRUMENT_HOST_NAME = "MARS EXPRESS"
INSTRUMENT_ID = HRSC
INSTRUMENT_NAME = "HIGH RESOLUTION STEREO CAMERA"
MISSION_NAME = "MARS EXPRESS"
MISSION_PHASE_NAME = ME_Phase_2
PROCESSING_LEVEL_ID = 3
PRODUCT_CREATION_TIME = 2016-04-08T01:44:18.000Z
PRODUCT_ID = "H2687_0000_S13.JP2"
RELEASE_ID = 0033
REVISION_ID = 0000
/* QUALITY DATA ELEMENTS */
DATA_QUALITY_ID = 2
DATA_QUALITY_DESC = "Data calculated based on photogrammetrically improved orbit and attitude data"
/* TIME DATA ELEMENTS */
SPACECRAFT_CLOCK_START_COUNT = "1/0087962382.09050"
SPACECRAFT_CLOCK_STOP_COUNT = "1/0087963564.46641"
START_TIME = 2006-02-14T01:59:47.890Z
STOP_TIME = 2006-02-14T02:06:24.415Z
/* ORBITAL DATA ELEMENTS */
ASCENDING_NODE_LONGITUDE = 171.91
MAXIMUM_RESOLUTION = 74.5
FOOTPRINT_POINT_LATITUDE = (-56.8562,-56.934,-56.9867,-57.04, -57.0645,-57.0027,-56.3244,-55.4588, -54.7529,-54.0366,-53.3089,-52.5726, -52.2007,-51.8241,-51.445,-51.0624, -50.6758,-50.2881,-49.8962,-49.2989, -48.903,-48.499,-48.0919,-47.6801, -47.2658,-46.8487,-46.2149,-45.7894, -45.3585,-44.9242,-44.4819,-44.0423, -43.5944,-42.9194,-42.4636,-42.0031, -41.5343,-40.8297,-40.3523,-39.8714, -39.3874,-38.8921,-38.1569,-37.6667, -37.1774,-36.6906,-36.2052,-36.2301, -36.2398,-36.2491,-36.2545,-36.2549, -36.2512,-36.2451,-36.2304,-36.21, -36.1843,-36.1622,-36.8828,-37.364, -37.8494,-38.3367,-39.0669,-39.5483, -40.0231,-40.5015,-40.974,-41.4308, -41.8911,-42.3469,-42.8002,-43.245, -43.6962,-44.1395,-44.5742,-45.2066, -45.6336,-46.0583,-46.4972,-46.9122, -47.3242,-47.731,-48.1274,-48.5297, -48.9279,-49.331,-49.723,-50.1092, -50.4931,-50.8756,-51.2548,-51.6314, -52.0053,-52.3751,-53.1075,-53.8291, -54.7136,-55.5777,-56.2653,-56.8562)
FOOTPRINT_POINT_LONGITUDE = (338.474,339.701,340.718,342.058, 342.919,344.068,344.139,344.225,344.292 ,344.355,344.416,344.472,344.499, 344.526,344.552,344.577,344.603,344.626 ,344.65,344.686,344.705,344.727,344.747 ,344.768,344.787,344.806,344.833,344.85 ,344.866,344.882,344.899,344.913, 344.928,344.947,344.959,344.971,344.984 ,344.999,345.009,345.019,345.027, 345.037,345.045,345.051,345.056,345.06, 345.065,344.282,343.8,343.257,342.716, 342.236,341.755,341.273,340.671,340.009 ,339.346,338.841,338.877,338.899,338.92 ,338.94,338.967,338.984,338.997,339.013 ,339.026,339.034,339.043,339.05,339.057 ,339.061,339.067,339.07,339.07,339.064, 339.062,339.059,339.06,339.054,339.046, 339.037,339.025,339.013,339.001,338.99, 338.975,338.958,338.941,338.922,338.903 ,338.882,338.86,338.837,338.787,338.732 ,338.657,338.572,338.502,338.474)
ORBIT_NUMBER = 2687
ORBITAL_ECCENTRICITY = 0.571
ORBITAL_INCLINATION = 86.62
ORBITAL_SEMIMAJOR_AXIS = 8544.18
PERIAPSIS_ALTITUDE = 283.39
PERIAPSIS_ARGUMENT_ANGLE = 246.32
PERIAPSIS_TIME = 2006-02-14T01:45:35.000Z
SPACECRAFT_ORIENTATION = (0.0,-1.0,0.0)
^MEX_ORIENTATION_DESC = "MEX_ORIENTATION_DESC.TXT"
SPACECRAFT_POINTING_MODE = NADIR
^MEX_POINTING_DESC = "MEX_POINTING_DESC.TXT"
RIGHT_ASCENSION = -1e+32
DECLINATION = -1e+32
OFFSET_ANGLE = -1e+32
SPACECRAFT_SOLAR_DISTANCE = 2.37154e+08
TARGET_NAME = MARS
/* CAMERA DATA ELEMENTS */
DETECTOR_TEMPERATURE = 17.5549
FOCAL_PLANE_TEMPERATURE = 9.195
INST_CMPRS_NAME = "DISCRETE COSINE TRANSFORMATION (DCT)"
INST_CMPRS_RATIO = 11.084
INST_CMPRS_QUALITY = 0
INST_CMPRS_QUANTZ_TBL_ID = 0
INSTRUMENT_TEMPERATURE = 11.234
LENS_TEMPERATURE = 9.6028
MACROPIXEL_SIZE = 2
MISSING_FRAMES = 0
PIXEL_SUBSAMPLING_FLAG = N
SIGNAL_CHAIN_ID = 1
/* RADIOMETRIC DATA ELEMENTS */
BANDWIDTH = 180.0
CENTER_FILTER_WAVELENGTH = 677.0
RADIANCE_OFFSET = 1.17784
RADIANCE_SCALING_FACTOR = 0.0104196
REFLECTANCE_SCALING_FACTOR = 0.000305744
MEX:REFLECTANCE_OFFSET = 0.0345617
/* IMAGE OBJECT DEFINITIONS */
OBJECT = IMAGE
  INTERCHANGE_FORMAT = BINARY
  LINES = 12356
  LINE_SAMPLES = 3652
  SAMPLE_TYPE = UNSIGNED_INTEGER
  SAMPLE_BITS = 8
  BANDS = 1
  BAND_STORAGE_TYPE = BAND_SEQUENTIAL
  MAXIMUM = 255
  MEAN = 95.7509
  MINIMUM = 1
  STANDARD_DEVIATION = 36.6928
END_OBJECT = IMAGE
/* MAP OBJECT DEFINITIONS */
OBJECT = IMAGE_MAP_PROJECTION
  ^DATA_SET_MAP_PROJECTION_CATALOG= "DSMAP.CAT"
  A_AXIS_RADIUS = 3396.0
  B_AXIS_RADIUS = 3396.0
  C_AXIS_RADIUS = 3396.0
  CENTER_LATITUDE = 0.0
  CENTER_LONGITUDE = 342.0
  COORDINATE_SYSTEM_NAME = PLANETOGRAPHIC
  COORDINATE_SYSTEM_TYPE = "BODY-FIXED ROTATING"
  EASTERNMOST_LONGITUDE = 345.065
  FIRST_STANDARD_PARALLEL = "N/A"
  LINE_FIRST_PIXEL = 1
  LINE_LAST_PIXEL = 12356
  LINE_PROJECTION_OFFSET = -21416.25
  MAP_PROJECTION_ROTATION = 0.0
  MAP_PROJECTION_TYPE = SINUSOIDAL
  MAP_RESOLUTION = 592.713803866667
  MAP_SCALE = 0.1
  MAXIMUM_LATITUDE = -36.1622
  MINIMUM_LATITUDE = -57.0645
  POSITIVE_LONGITUDE_DIRECTION = EAST
  REFERENCE_LATITUDE = "N/A"
  REFERENCE_LONGITUDE = "N/A"
  SAMPLE_FIRST_PIXEL = 1
  SAMPLE_LAST_PIXEL = 3652
  SAMPLE_PROJECTION_OFFSET = 1919.25
  SECOND_STANDARD_PARALLEL = "N/A"
  WESTERNMOST_LONGITUDE = 338.474
END_OBJECT = IMAGE_MAP_PROJECTION
/* The JPEG2000 image data file associated with this label. */
OBJECT = COMPRESSED_FILE
  FILE_NAME = "H2687_0000_S13.JP2"
  RECORD_TYPE = UNDEFINED
  FILE_RECORDS = UNK
  ENCODING_TYPE = "JP2"
  INTERCHANGE_FORMAT = BINARY
  UNCOMPRESSED_FILE_NAME = "H2687_0000_S13.IMG"
  REQUIRED_STORAGE_BYTES = "45146024"
  ^DESCRIPTION = "JP2INFO.TXT"
END_OBJECT = COMPRESSED_FILE
END
