PDS_VERSION_ID = PDS3
/* FILE DATA ELEMENTS */
RECORD_TYPE = STREAM
/* POINTERS TO DATA OBJECTS */
^COMPRESSED_FILE = "H2687_0000_S23.JP2"
/* IDENTIFICATION DATA ELEMENTS */
DATA_SET_ID = "MEX-M-HRSC-5-REFDR-MAPPROJECTED-V3.0"
DATA_SET_NAME = "MARS EXPRESS HRSC MAP PROJECTED REFDR V3.0"
DETECTOR_ID = MEX_HRSC_S2
EVENT_TYPE = "MARS-GLOBAL-MAPPING-Im-Fl-At"
INSTRUMENT_HOST_ID = MEX
INSTRUMENT_HOST_NAME = "MARS EXPRESS"
INSTRUMENT_ID = HRSC
INSTRUMENT_NAME = "HIGH RESOLUTION STEREO CAMERA"
MISSION_NAME = "MARS EXPRESS"
MISSION_PHASE_NAME = ME_Phase_2
PROCESSING_LEVEL_ID = 3
PRODUCT_CREATION_TIME = 2016-04-08T01:44:18.000Z
PRODUCT_ID = "H2687_0000_S23.JP2"
RELEASE_ID = 0033
REVISION_ID = 0000
/* QUALITY DATA ELEMENTS */
DATA_QUALITY_ID = 2
DATA_QUALITY_DESC = "Data calculated based on photogrammetrically improved orbit and attitude data"
/* TIME DATA ELEMENTS */
SPACECRAFT_CLOCK_START_COUNT = "1/0087962382.09050"
SPACECRAFT_CLOCK_STOP_COUNT = "1/0087963564.46641"
START_TIME = 2006-02-14T02:04:21.511Z
STOP_TIME = 2006-02-14T02:19:28.583Z
/* ORBITAL DATA ELEMENTS */
ASCENDING_NODE_LONGITUDE = 171.91
MAXIMUM_RESOLUTION = 106.9
FOOTPRINT_POINT_LATITUDE = (-56.7506,-56.7836,-56.8085,-56.8254, -56.8341,-56.9281,-56.3734,-55.8131, -55.2475,-54.6806,-54.1088,-53.5504, -52.7165,-51.9129,-51.3768,-50.8563, -50.3421,-49.837,-49.3396,-48.8501, -48.372,-47.8942,-47.4277,-46.97, -46.5179,-46.071,-45.6316,-45.2014, -44.778,-44.3597,-43.9474,-43.5482, -43.151,-42.7553,-42.3717,-41.9897, -41.6164,-40.8882,-40.1807,-39.4972, -38.9958,-38.3473,-37.718,-36.9619, -36.3772,-35.809,-35.8468,-35.9085, -35.944,-36.0435,-36.136,-36.2036, -36.2711,-36.3706,-36.4525,-36.5422, -36.6049,-36.6543,-36.6938,-36.7405, -37.0427,-37.5495,-38.077,-38.6262, -39.194,-39.7839,-40.4051,-41.0449, -41.7095,-42.3899,-43.1017,-43.8386, -44.2169,-44.5988,-44.9942,-45.3993, -45.8088,-46.2212,-46.6487,-47.071, -47.5145,-47.9624,-48.4152,-48.8769, -49.3473,-49.8252,-50.3104,-50.8051, -51.3093,-51.8211,-52.3405,-52.8702, -53.4073,-53.9522,-54.5145,-55.0734, -55.625,-56.1694,-56.7082,-56.7506)
FOOTPRINT_POINT_LONGITUDE = (339.16,340.392,341.624,342.857,344.094 ,345.416,345.5,345.582,345.664,345.748, 345.828,345.909,346.018,346.13,346.196, 346.264,346.331,346.396,346.46,346.524, 346.588,346.647,346.708,346.769,346.828 ,346.886,346.944,347.002,347.06,347.117 ,347.173,347.233,347.29,347.344,347.402 ,347.456,347.513,347.626,347.738, 347.852,347.936,348.05,348.165,348.311, 348.428,348.546,347.627,346.932,346.468 ,345.317,344.285,343.481,342.678, 341.528,340.606,339.564,338.867,338.285 ,337.817,337.346,336.635,336.707, 336.778,336.848,336.918,336.987,337.051 ,337.116,337.178,337.241,337.298, 337.353,337.38,337.406,337.429,337.449, 337.469,337.49,337.506,337.526,337.538, 337.55,337.561,337.569,337.575,337.579, 337.581,337.58,337.575,337.567,337.557, 337.542,337.524,337.503,337.472,337.44, 337.405,337.367,337.327,339.16)
ORBIT_NUMBER = 2687
ORBITAL_ECCENTRICITY = 0.571
ORBITAL_INCLINATION = 86.62
ORBITAL_SEMIMAJOR_AXIS = 8544.18
PERIAPSIS_ALTITUDE = 283.39
PERIAPSIS_ARGUMENT_ANGLE = 246.32
PERIAPSIS_TIME = 2006-02-14T01:45:35.000Z
SPACECRAFT_ORIENTATION = (0.0,-1.0,0.0)
^MEX_ORIENTATION_DESC = "MEX_ORIENTATION_DESC.TXT"
SPACECRAFT_POINTING_MODE = NADIR
^MEX_POINTING_DESC = "MEX_POINTING_DESC.TXT"
RIGHT_ASCENSION = -1e+32
DECLINATION = -1e+32
OFFSET_ANGLE = -1e+32
SPACECRAFT_SOLAR_DISTANCE = 2.37154e+08
TARGET_NAME = MARS
/* CAMERA DATA ELEMENTS */
DETECTOR_TEMPERATURE = 18.7783
FOCAL_PLANE_TEMPERATURE = 9.195
INST_CMPRS_NAME = "DISCRETE COSINE TRANSFORMATION (DCT)"
INST_CMPRS_RATIO = 12.1542
INST_CMPRS_QUALITY = 0
INST_CMPRS_QUANTZ_TBL_ID = 0
INSTRUMENT_TEMPERATURE = 11.234
LENS_TEMPERATURE = 9.6028
MACROPIXEL_SIZE = 2
MISSING_FRAMES = 0
PIXEL_SUBSAMPLING_FLAG = N
SIGNAL_CHAIN_ID = 1
/* RADIOMETRIC DATA ELEMENTS */
BANDWIDTH = 178.0
CENTER_FILTER_WAVELENGTH = 679.0
RADIANCE_OFFSET = 0.905792
RADIANCE_SCALING_FACTOR = 0.0150965
REFLECTANCE_SCALING_FACTOR = 0.000449648
MEX:REFLECTANCE_OFFSET = 0.0269789
/* IMAGE OBJECT DEFINITIONS */
OBJECT = IMAGE
  INTERCHANGE_FORMAT = BINARY
  LINES = 12356
  LINE_SAMPLES = 3652
  SAMPLE_TYPE = UNSIGNED_INTEGER
  SAMPLE_BITS = 8
  BANDS = 1
  BAND_STORAGE_TYPE = BAND_SEQUENTIAL
  MAXIMUM = 253
  MEAN = 84.7077
  MINIMUM = 1
  STANDARD_DEVIATION = 32.6858
END_OBJECT = IMAGE
/* MAP OBJECT DEFINITIONS */
OBJECT = IMAGE_MAP_PROJECTION
  ^DATA_SET_MAP_PROJECTION_CATALOG= "DSMAP.CAT"
  A_AXIS_RADIUS = 3396.0
  B_AXIS_RADIUS = 3396.0
  C_AXIS_RADIUS = 3396.0
  CENTER_LATITUDE = 0.0
  CENTER_LONGITUDE = 342.0
  COORDINATE_SYSTEM_NAME = PLANETOGRAPHIC
  COORDINATE_SYSTEM_TYPE = "BODY-FIXED ROTATING"
  EASTERNMOST_LONGITUDE = 348.546
  FIRST_STANDARD_PARALLEL = "N/A"
  LINE_FIRST_PIXEL = 1
  LINE_LAST_PIXEL = 12356
  LINE_PROJECTION_OFFSET = -21416.25
  MAP_PROJECTION_ROTATION = 0.0
  MAP_PROJECTION_TYPE = SINUSOIDAL
  MAP_RESOLUTION = 592.713803866667
  MAP_SCALE = 0.1
  MAXIMUM_LATITUDE = -35.809
  MINIMUM_LATITUDE = -56.9281
  POSITIVE_LONGITUDE_DIRECTION = EAST
  REFERENCE_LATITUDE = "N/A"
  REFERENCE_LONGITUDE = "N/A"
  SAMPLE_FIRST_PIXEL = 1
  SAMPLE_LAST_PIXEL = 3652
  SAMPLE_PROJECTION_OFFSET = 1919.25
  SECOND_STANDARD_PARALLEL = "N/A"
  WESTERNMOST_LONGITUDE = 336.635
END_OBJECT = IMAGE_MAP_PROJECTION
/* The JPEG2000 image data file associated with this label. */
OBJECT = COMPRESSED_FILE
  FILE_NAME = "H2687_0000_S23.JP2"
  RECORD_TYPE = UNDEFINED
  FILE_RECORDS = UNK
  ENCODING_TYPE = "JP2"
  INTERCHANGE_FORMAT = BINARY
  UNCOMPRESSED_FILE_NAME = "H2687_0000_S23.IMG"
  REQUIRED_STORAGE_BYTES = "45146024"
  ^DESCRIPTION = "JP2INFO.TXT"
END_OBJECT = COMPRESSED_FILE
END
