PDS_VERSION_ID = PDS3
/* FILE DATA ELEMENTS */
RECORD_TYPE = STREAM
/* POINTERS TO DATA OBJECTS */
^COMPRESSED_FILE = "H2688_0009_IR3.JP2"
/* IDENTIFICATION DATA ELEMENTS */
DATA_SET_ID = "MEX-M-HRSC-5-REFDR-MAPPROJECTED-V3.0"
DATA_SET_NAME = "MARS EXPRESS HRSC MAP PROJECTED REFDR V3.0"
DETECTOR_ID = MEX_HRSC_IR
EVENT_TYPE = "MARS-TERMINATOR-CARTOGRAPHY-Ot-At"
INSTRUMENT_HOST_ID = MEX
INSTRUMENT_HOST_NAME = "MARS EXPRESS"
INSTRUMENT_ID = HRSC
INSTRUMENT_NAME = "HIGH RESOLUTION STEREO CAMERA"
MISSION_NAME = "MARS EXPRESS"
MISSION_PHASE_NAME = ME_Phase_2
PROCESSING_LEVEL_ID = 3
PRODUCT_CREATION_TIME = 2016-04-08T01:44:18.000Z
PRODUCT_ID = "H2688_0009_IR3.JP2"
RELEASE_ID = 0033
REVISION_ID = 0000
/* QUALITY DATA ELEMENTS */
DATA_QUALITY_ID = 1
DATA_QUALITY_DESC = "Data calculated based on original SPICE kernels"
/* TIME DATA ELEMENTS */
SPACECRAFT_CLOCK_START_COUNT = "1/0087987393.07285"
SPACECRAFT_CLOCK_STOP_COUNT = "1/0087988496.05331"
START_TIME = 2006-02-14T08:57:42.174Z
STOP_TIME = 2006-02-14T09:01:58.906Z
/* ORBITAL DATA ELEMENTS */
ASCENDING_NODE_LONGITUDE = 171.89
MAXIMUM_RESOLUTION = 372.9
FOOTPRINT_POINT_LATITUDE = (-15.8414,-15.8418,-15.841,-15.8388, -15.8354,-15.8307,-15.8248,-15.8176, -15.8091,-15.7993,-15.7883,-15.7758, -15.7622,-15.7472,-15.731,-15.7135, -15.6946,-15.6745,-15.6531,-15.6304, -15.6064,-15.581,-15.5542,-15.5262, -15.4968,-15.466,-15.0255,-14.6407, -14.2581,-13.8767,-13.4018,-13.0236, -12.6478,-12.2722,-11.8981,-11.5252, -11.1541,-10.6919,-10.3239,-9.95761, -9.59276,-9.22932,-8.86744,-8.507, -8.05806,-7.70017,-7.34357,-6.98838, -6.63485,-6.2822,-6.30532,-6.35222, -6.39691,-6.43058,-6.47483,-6.51806, -6.5609,-6.6048,-6.64474,-6.7126,-6.748 ,-6.78229,-6.81207,-6.83945,-6.86297, -6.90403,-6.94249,-6.96337,-6.97873, -6.99525,-6.99697,-7.00165,-7.00046, -6.997,-6.9936,-7.33622,-7.59505, -8.02486,-8.28529,-8.62781,-8.97371, -9.41589,-9.76226,-10.1169,-10.5496, -10.9906,-11.2585,-11.7054,-12.0628, -12.5116,-12.9612,-13.232,-13.5937, -13.9563,-14.4092,-14.6825,-14.9566, -15.3228,-15.6933,-15.8414)
FOOTPRINT_POINT_LONGITUDE = (238.723,239.029,239.334,239.639, 239.944,240.248,240.551,240.855,241.158 ,241.461,241.764,242.067,242.369, 242.671,242.974,243.276,243.578,243.88, 244.182,244.484,244.787,245.09,245.393, 245.697,246.001,246.306,246.443,246.427 ,246.411,246.395,246.375,246.358, 246.341,246.324,246.307,246.29,246.272, 246.25,246.232,246.214,246.195,246.176, 246.158,246.138,246.114,246.095,246.075 ,246.055,246.035,246.015,245.671, 245.322,244.973,244.712,244.364,244.016 ,243.669,243.323,242.977,242.372, 242.027,241.682,241.337,240.992,240.646 ,240.128,239.697,239.351,239.003, 238.568,238.04,237.776,237.51,237.154, 236.796,236.753,236.809,236.902,236.957 ,237.029,237.1,237.192,237.262,237.333, 237.417,237.502,237.554,237.638,237.705 ,237.787,237.868,237.916,237.979, 238.042,238.118,238.164,238.209,238.269 ,238.329,238.723)
ORBIT_NUMBER = 2688
ORBITAL_ECCENTRICITY = 0.572
ORBITAL_INCLINATION = 86.62
ORBITAL_SEMIMAJOR_AXIS = 8546.74
PERIAPSIS_ALTITUDE = 282.65
PERIAPSIS_ARGUMENT_ANGLE = 246.15
PERIAPSIS_TIME = 2006-02-14T08:28:47.000Z
SPACECRAFT_ORIENTATION = (0.0,-1.0,0.0)
^MEX_ORIENTATION_DESC = "MEX_ORIENTATION_DESC.TXT"
SPACECRAFT_POINTING_MODE = ALONGTRACK
^MEX_POINTING_DESC = "MEX_POINTING_DESC.TXT"
RIGHT_ASCENSION = -1e+32
DECLINATION = -1e+32
OFFSET_ANGLE = 1.65
SPACECRAFT_SOLAR_DISTANCE = 2.37201e+08
TARGET_NAME = MARS
/* CAMERA DATA ELEMENTS */
DETECTOR_TEMPERATURE = 20.0017
FOCAL_PLANE_TEMPERATURE = 9.195
INST_CMPRS_NAME = "DISCRETE COSINE TRANSFORMATION (DCT)"
INST_CMPRS_RATIO = 12.0476
INST_CMPRS_QUALITY = 0
INST_CMPRS_QUANTZ_TBL_ID = 0
INSTRUMENT_TEMPERATURE = 14.4964
LENS_TEMPERATURE = 9.3989
MACROPIXEL_SIZE = 4
MISSING_FRAMES = 0
PIXEL_SUBSAMPLING_FLAG = N
SIGNAL_CHAIN_ID = 2
/* RADIOMETRIC DATA ELEMENTS */
BANDWIDTH = 81.0
CENTER_FILTER_WAVELENGTH = 955.5
RADIANCE_OFFSET = 0.237838
RADIANCE_SCALING_FACTOR = 0.00786965
REFLECTANCE_SCALING_FACTOR = 0.000955271
MEX:REFLECTANCE_OFFSET = 0.0288704
/* IMAGE OBJECT DEFINITIONS */
OBJECT = IMAGE
  INTERCHANGE_FORMAT = BINARY
  LINES = 1543
  LINE_SAMPLES = 1801
  SAMPLE_TYPE = UNSIGNED_INTEGER
  SAMPLE_BITS = 8
  BANDS = 1
  BAND_STORAGE_TYPE = BAND_SEQUENTIAL
  MAXIMUM = 255
  MEAN = 127.743
  MINIMUM = 1
  STANDARD_DEVIATION = 27.1302
END_OBJECT = IMAGE
/* MAP OBJECT DEFINITIONS */
OBJECT = IMAGE_MAP_PROJECTION
  ^DATA_SET_MAP_PROJECTION_CATALOG= "DSMAP.CAT"
  A_AXIS_RADIUS = 3396.0
  B_AXIS_RADIUS = 3396.0
  C_AXIS_RADIUS = 3396.0
  CENTER_LATITUDE = 0.0
  CENTER_LONGITUDE = 241.0
  COORDINATE_SYSTEM_NAME = PLANETOGRAPHIC
  COORDINATE_SYSTEM_TYPE = "BODY-FIXED ROTATING"
  EASTERNMOST_LONGITUDE = 246.443
  FIRST_STANDARD_PARALLEL = "N/A"
  LINE_FIRST_PIXEL = 1
  LINE_LAST_PIXEL = 1543
  LINE_PROJECTION_OFFSET = -862.875
  MAP_PROJECTION_ROTATION = 0.0
  MAP_PROJECTION_TYPE = SINUSOIDAL
  MAP_RESOLUTION = 148.178450966667
  MAP_SCALE = 0.4
  MAXIMUM_LATITUDE = -6.2822
  MINIMUM_LATITUDE = -15.8418
  POSITIVE_LONGITUDE_DIRECTION = EAST
  REFERENCE_LATITUDE = "N/A"
  REFERENCE_LONGITUDE = "N/A"
  SAMPLE_FIRST_PIXEL = 1
  SAMPLE_LAST_PIXEL = 1801
  SAMPLE_PROJECTION_OFFSET = 914.375
  SECOND_STANDARD_PARALLEL = "N/A"
  WESTERNMOST_LONGITUDE = 236.753
END_OBJECT = IMAGE_MAP_PROJECTION
/* The JPEG2000 image data file associated with this label. */
OBJECT = COMPRESSED_FILE
  FILE_NAME = "H2688_0009_IR3.JP2"
  RECORD_TYPE = UNDEFINED
  FILE_RECORDS = UNK
  ENCODING_TYPE = "JP2"
  INTERCHANGE_FORMAT = BINARY
  UNCOMPRESSED_FILE_NAME = "H2688_0009_IR3.IMG"
  REQUIRED_STORAGE_BYTES = "2798754"
  ^DESCRIPTION = "JP2INFO.TXT"
END_OBJECT = COMPRESSED_FILE
END
