PDS_VERSION_ID = PDS3
/* FILE DATA ELEMENTS */
RECORD_TYPE = STREAM
/* POINTERS TO DATA OBJECTS */
^COMPRESSED_FILE = "H2689_0001_P23.JP2"
/* IDENTIFICATION DATA ELEMENTS */
DATA_SET_ID = "MEX-M-HRSC-5-REFDR-MAPPROJECTED-V3.0"
DATA_SET_NAME = "MARS EXPRESS HRSC MAP PROJECTED REFDR V3.0"
DETECTOR_ID = MEX_HRSC_P2
EVENT_TYPE = "MARS-GLOBAL-MAPPING-Im-Fl-At"
INSTRUMENT_HOST_ID = MEX
INSTRUMENT_HOST_NAME = "MARS EXPRESS"
INSTRUMENT_ID = HRSC
INSTRUMENT_NAME = "HIGH RESOLUTION STEREO CAMERA"
MISSION_NAME = "MARS EXPRESS"
MISSION_PHASE_NAME = ME_Phase_2
PROCESSING_LEVEL_ID = 3
PRODUCT_CREATION_TIME = 2016-04-08T01:44:18.000Z
PRODUCT_ID = "H2689_0001_P23.JP2"
RELEASE_ID = 0033
REVISION_ID = 0000
/* QUALITY DATA ELEMENTS */
DATA_QUALITY_ID = 2
DATA_QUALITY_DESC = "Data calculated based on photogrammetrically improved orbit and attitude data"
/* TIME DATA ELEMENTS */
SPACECRAFT_CLOCK_START_COUNT = "1/0088010912.08259"
SPACECRAFT_CLOCK_STOP_COUNT = "1/0088012149.26038"
START_TIME = 2006-02-14T15:33:22.603Z
STOP_TIME = 2006-02-14T15:43:11.174Z
/* ORBITAL DATA ELEMENTS */
ASCENDING_NODE_LONGITUDE = 171.87
MAXIMUM_RESOLUTION = 120.9
FOOTPRINT_POINT_LATITUDE = (-49.2276,-49.2418,-49.2537,-49.2633, -49.2707,-49.2759,-49.2788,-49.2796, -49.2781,-49.2744,-49.2685,-49.2602, -49.2918,-48.9075,-48.5292,-48.1526, -47.7823,-47.4139,-47.0483,-46.6844, -46.3244,-45.9642,-45.6091,-45.261, -44.9151,-44.5721,-44.2307,-43.8917, -43.5556,-43.2219,-42.8913,-42.5634, -42.2381,-41.9153,-41.5944,-40.9618, -40.4907,-39.7278,-39.1256,-38.5353, -37.9526,-37.3761,-36.8139,-36.2585, -35.8515,-35.3135,-34.7862,-34.2653, -33.7505,-33.6462,-33.6921,-33.7321, -33.7755,-33.8303,-33.864,-33.89, -33.9146,-33.9392,-33.9812,-34.0055, -34.0298,-34.0788,-34.1139,-34.135, -34.1614,-34.1765,-34.1954,-34.4651, -34.9486,-35.4345,-35.9313,-36.4361, -36.9524,-37.4779,-38.0125,-38.5582, -39.1139,-39.8244,-40.4116,-40.9874, -41.5874,-42.2024,-42.8263,-43.4601, -43.7816,-44.1063,-44.4347,-44.7654, -45.1107,-45.4502,-45.7907,-46.1352, -46.4824,-46.833,-47.3648,-47.7199, -48.0849,-48.4497,-48.8086,-49.2276)
FOOTPRINT_POINT_LONGITUDE = (141.625,142.234,142.842,143.449, 144.055,144.662,145.268,145.874,146.481 ,147.087,147.695,148.303,149.203, 149.237,149.271,149.304,149.338,149.37, 149.402,149.432,149.462,149.489,149.517 ,149.547,149.577,149.606,149.633,149.66 ,149.686,149.712,149.737,149.762, 149.787,149.811,149.834,149.88,149.912, 149.97,150.014,150.058,150.099,150.138, 150.18,150.22,150.253,150.293,150.335, 150.375,150.413,149.55,148.859,148.37, 147.784,147.002,146.514,146.124,145.733 ,145.343,144.659,144.267,143.876, 143.091,142.501,142.108,141.711,141.318 ,140.922,140.319,140.378,140.439, 140.498,140.556,140.613,140.668,140.722 ,140.774,140.825,140.885,140.928, 140.981,141.024,141.063,141.101,141.137 ,141.154,141.17,141.185,141.199,141.205 ,141.216,141.227,141.237,141.247, 141.255,141.265,141.273,141.275,141.279 ,141.288,141.625)
ORBIT_NUMBER = 2689
ORBITAL_ECCENTRICITY = 0.571
ORBITAL_INCLINATION = 86.61
ORBITAL_SEMIMAJOR_AXIS = 8544.85
PERIAPSIS_ALTITUDE = 283.77
PERIAPSIS_ARGUMENT_ANGLE = 245.97
PERIAPSIS_TIME = 2006-02-14T15:12:01.000Z
SPACECRAFT_ORIENTATION = (0.0,-1.0,0.0)
^MEX_ORIENTATION_DESC = "MEX_ORIENTATION_DESC.TXT"
SPACECRAFT_POINTING_MODE = NADIR
^MEX_POINTING_DESC = "MEX_POINTING_DESC.TXT"
RIGHT_ASCENSION = -1e+32
DECLINATION = -1e+32
OFFSET_ANGLE = -1e+32
SPACECRAFT_SOLAR_DISTANCE = 2.37248e+08
TARGET_NAME = MARS
/* CAMERA DATA ELEMENTS */
DETECTOR_TEMPERATURE = 20.6134
FOCAL_PLANE_TEMPERATURE = 8.7872
INST_CMPRS_NAME = "DISCRETE COSINE TRANSFORMATION (DCT)"
INST_CMPRS_RATIO = 7.40247
INST_CMPRS_QUALITY = 0
INST_CMPRS_QUANTZ_TBL_ID = 0
INSTRUMENT_TEMPERATURE = 50.9945
LENS_TEMPERATURE = 9.3989
MACROPIXEL_SIZE = 2
MISSING_FRAMES = 0
PIXEL_SUBSAMPLING_FLAG = N
SIGNAL_CHAIN_ID = 3
/* RADIOMETRIC DATA ELEMENTS */
BANDWIDTH = 177.0
CENTER_FILTER_WAVELENGTH = 676.5
RADIANCE_OFFSET = 1.14844
RADIANCE_SCALING_FACTOR = 0.0121805
REFLECTANCE_SCALING_FACTOR = 0.000363525
MEX:REFLECTANCE_OFFSET = 0.0342753
/* IMAGE OBJECT DEFINITIONS */
OBJECT = IMAGE
  INTERCHANGE_FORMAT = BINARY
  LINES = 9231
  LINE_SAMPLES = 3929
  SAMPLE_TYPE = UNSIGNED_INTEGER
  SAMPLE_BITS = 8
  BANDS = 1
  BAND_STORAGE_TYPE = BAND_SEQUENTIAL
  MAXIMUM = 254
  MEAN = 106.659
  MINIMUM = 1
  STANDARD_DEVIATION = 31.5881
END_OBJECT = IMAGE
/* MAP OBJECT DEFINITIONS */
OBJECT = IMAGE_MAP_PROJECTION
  ^DATA_SET_MAP_PROJECTION_CATALOG= "DSMAP.CAT"
  A_AXIS_RADIUS = 3396.0
  B_AXIS_RADIUS = 3396.0
  C_AXIS_RADIUS = 3396.0
  CENTER_LATITUDE = 0.0
  CENTER_LONGITUDE = 145.0
  COORDINATE_SYSTEM_NAME = PLANETOGRAPHIC
  COORDINATE_SYSTEM_TYPE = "BODY-FIXED ROTATING"
  EASTERNMOST_LONGITUDE = 150.413
  FIRST_STANDARD_PARALLEL = "N/A"
  LINE_FIRST_PIXEL = 1
  LINE_LAST_PIXEL = 9231
  LINE_PROJECTION_OFFSET = -20022.25
  MAP_PROJECTION_ROTATION = 0.0
  MAP_PROJECTION_TYPE = SINUSOIDAL
  MAP_RESOLUTION = 592.713803866667
  MAP_SCALE = 0.1
  MAXIMUM_LATITUDE = -33.6462
  MINIMUM_LATITUDE = -49.2918
  POSITIVE_LONGITUDE_DIRECTION = EAST
  REFERENCE_LATITUDE = "N/A"
  REFERENCE_LONGITUDE = "N/A"
  SAMPLE_FIRST_PIXEL = 1
  SAMPLE_LAST_PIXEL = 3929
  SAMPLE_PROJECTION_OFFSET = 1909.25
  SECOND_STANDARD_PARALLEL = "N/A"
  WESTERNMOST_LONGITUDE = 140.319
END_OBJECT = IMAGE_MAP_PROJECTION
/* The JPEG2000 image data file associated with this label. */
OBJECT = COMPRESSED_FILE
  FILE_NAME = "H2689_0001_P23.JP2"
  RECORD_TYPE = UNDEFINED
  FILE_RECORDS = UNK
  ENCODING_TYPE = "JP2"
  INTERCHANGE_FORMAT = BINARY
  UNCOMPRESSED_FILE_NAME = "H2689_0001_P23.IMG"
  REQUIRED_STORAGE_BYTES = "36292173"
  ^DESCRIPTION = "JP2INFO.TXT"
END_OBJECT = COMPRESSED_FILE
END
