PDS_VERSION_ID = PDS3
/* FILE DATA ELEMENTS */
RECORD_TYPE = STREAM
/* POINTERS TO DATA OBJECTS */
^COMPRESSED_FILE = "H2692_0000_BL3.JP2"
/* IDENTIFICATION DATA ELEMENTS */
DATA_SET_ID = "MEX-M-HRSC-5-REFDR-MAPPROJECTED-V3.0"
DATA_SET_NAME = "MARS EXPRESS HRSC MAP PROJECTED REFDR V3.0"
DETECTOR_ID = MEX_HRSC_BLUE
EVENT_TYPE = "MARS-TERMINATOR-VARIABLE-At"
INSTRUMENT_HOST_ID = MEX
INSTRUMENT_HOST_NAME = "MARS EXPRESS"
INSTRUMENT_ID = HRSC
INSTRUMENT_NAME = "HIGH RESOLUTION STEREO CAMERA"
MISSION_NAME = "MARS EXPRESS"
MISSION_PHASE_NAME = ME_Phase_2
PROCESSING_LEVEL_ID = 3
PRODUCT_CREATION_TIME = 2016-04-08T01:44:18.000Z
PRODUCT_ID = "H2692_0000_BL3.JP2"
RELEASE_ID = 0033
REVISION_ID = 0000
/* QUALITY DATA ELEMENTS */
DATA_QUALITY_ID = 1
DATA_QUALITY_DESC = "Data calculated based on original SPICE kernels"
/* TIME DATA ELEMENTS */
SPACECRAFT_CLOCK_START_COUNT = "1/0088083084.08266"
SPACECRAFT_CLOCK_STOP_COUNT = "1/0088083477.32233"
START_TIME = 2006-02-15T11:32:42.156Z
STOP_TIME = 2006-02-15T11:36:10.420Z
/* ORBITAL DATA ELEMENTS */
ASCENDING_NODE_LONGITUDE = 171.81
MAXIMUM_RESOLUTION = 104.1
FOOTPRINT_POINT_LATITUDE = (-73.2738,-73.352,-73.447,-73.5057, -73.549,-73.6022,-73.5386,-73.3257, -73.1109,-72.8954,-72.6783,-72.4601, -72.2407,-72.0201,-71.8,-71.5801, -71.3607,-71.1421,-70.9237,-70.7062, -70.4888,-70.2726,-70.0565,-69.8407, -69.6253,-69.4108,-69.1978,-68.9848, -68.7713,-68.5561,-68.3437,-68.132, -67.9206,-67.7096,-67.4993,-67.2892, -67.0796,-66.8704,-66.6618,-66.4536, -66.2459,-65.8326,-65.4208,-65.011, -64.6029,-64.1969,-63.7928,-63.4926, -63.0697,-63.0551,-63.0416,-63.0176, -62.9878,-62.9641,-62.9384,-62.9041, -62.8555,-62.8175,-62.9953,-63.3923, -63.7916,-64.1926,-64.5954,-65.0002, -65.4069,-65.8152,-66.2256,-66.4316, -66.638,-66.8448,-67.0521,-67.2598, -67.468,-67.6766,-67.8857,-68.0952, -68.3051,-68.5155,-68.7262,-68.9374, -69.1491,-69.3615,-69.5738,-69.7869, -70.0003,-70.2142,-70.4285,-70.6433, -70.8583,-71.0739,-71.2899,-71.5061, -71.7227,-72.0472,-72.2614,-72.4747, -72.6864,-72.8974,-73.1063,-73.2738)
FOOTPRINT_POINT_LONGITUDE = (201.829,203.017,204.641,205.78,206.711 ,208.01,208.766,208.882,208.994,209.105 ,209.212,209.318,209.422,209.523, 209.621,209.716,209.808,209.899,209.987 ,210.073,210.157,210.241,210.321, 210.399,210.475,210.551,210.628,210.702 ,210.771,210.83,210.896,210.961,211.024 ,211.085,211.146,211.205,211.262, 211.317,211.372,211.425,211.478,211.581 ,211.678,211.772,211.861,211.947, 212.029,212.094,211.791,211.153,210.643 ,209.881,209.058,208.489,207.92,207.226 ,206.346,205.718,205.339,205.247, 205.149,205.047,204.94,204.828,204.709, 204.585,204.454,204.386,204.315,204.243 ,204.17,204.094,204.016,203.937,203.855 ,203.772,203.686,203.597,203.507, 203.414,203.318,203.218,203.119,203.014 ,202.907,202.796,202.682,202.564, 202.444,202.32,202.191,202.06,201.925, 201.716,201.573,201.427,201.277,201.124 ,200.97,201.829)
ORBIT_NUMBER = 2692
ORBITAL_ECCENTRICITY = 0.572
ORBITAL_INCLINATION = 86.62
ORBITAL_SEMIMAJOR_AXIS = 8547.37
PERIAPSIS_ALTITUDE = 282.5
PERIAPSIS_ARGUMENT_ANGLE = 245.47
PERIAPSIS_TIME = 2006-02-15T11:21:42.000Z
SPACECRAFT_ORIENTATION = (0.0,-1.0,0.0)
^MEX_ORIENTATION_DESC = "MEX_ORIENTATION_DESC.TXT"
SPACECRAFT_POINTING_MODE = NADIR
^MEX_POINTING_DESC = "MEX_POINTING_DESC.TXT"
RIGHT_ASCENSION = -1e+32
DECLINATION = -1e+32
OFFSET_ANGLE = -1e+32
SPACECRAFT_SOLAR_DISTANCE = 2.37389e+08
TARGET_NAME = MARS
/* CAMERA DATA ELEMENTS */
DETECTOR_TEMPERATURE = 18.3705
FOCAL_PLANE_TEMPERATURE = 8.5833
INST_CMPRS_NAME = "DISCRETE COSINE TRANSFORMATION (DCT)"
INST_CMPRS_RATIO = 15.3505
INST_CMPRS_QUALITY = 0
INST_CMPRS_QUANTZ_TBL_ID = 0
INSTRUMENT_TEMPERATURE = 11.0301
LENS_TEMPERATURE = 8.9911
MACROPIXEL_SIZE = 4
MISSING_FRAMES = 0
PIXEL_SUBSAMPLING_FLAG = N
SIGNAL_CHAIN_ID = 2
/* RADIOMETRIC DATA ELEMENTS */
BANDWIDTH = 76.0
CENTER_FILTER_WAVELENGTH = 444.0
RADIANCE_OFFSET = 0.00871382
RADIANCE_SCALING_FACTOR = 0.00117893
REFLECTANCE_SCALING_FACTOR = 6.82605e-05
MEX:REFLECTANCE_OFFSET = 0.000504534
/* IMAGE OBJECT DEFINITIONS */
OBJECT = IMAGE
  INTERCHANGE_FORMAT = BINARY
  LINES = 6425
  LINE_SAMPLES = 2380
  SAMPLE_TYPE = UNSIGNED_INTEGER
  SAMPLE_BITS = 8
  BANDS = 1
  BAND_STORAGE_TYPE = BAND_SEQUENTIAL
  MAXIMUM = 254
  MEAN = 110.49
  MINIMUM = 4
  STANDARD_DEVIATION = 48.2535
END_OBJECT = IMAGE
/* MAP OBJECT DEFINITIONS */
OBJECT = IMAGE_MAP_PROJECTION
  ^DATA_SET_MAP_PROJECTION_CATALOG= "DSMAP.CAT"
  A_AXIS_RADIUS = 3396.0
  B_AXIS_RADIUS = 3396.0
  C_AXIS_RADIUS = 3396.0
  CENTER_LATITUDE = 0.0
  CENTER_LONGITUDE = 207.0
  COORDINATE_SYSTEM_NAME = PLANETOGRAPHIC
  COORDINATE_SYSTEM_TYPE = "BODY-FIXED ROTATING"
  EASTERNMOST_LONGITUDE = 212.094
  FIRST_STANDARD_PARALLEL = "N/A"
  LINE_FIRST_PIXEL = 1
  LINE_LAST_PIXEL = 6425
  LINE_PROJECTION_OFFSET = -37222.25
  MAP_PROJECTION_ROTATION = 0.0
  MAP_PROJECTION_TYPE = SINUSOIDAL
  MAP_RESOLUTION = 592.713803866667
  MAP_SCALE = 0.1
  MAXIMUM_LATITUDE = -62.8175
  MINIMUM_LATITUDE = -73.6022
  POSITIVE_LONGITUDE_DIRECTION = EAST
  REFERENCE_LATITUDE = "N/A"
  REFERENCE_LONGITUDE = "N/A"
  SAMPLE_FIRST_PIXEL = 1
  SAMPLE_LAST_PIXEL = 2380
  SAMPLE_PROJECTION_OFFSET = 1024.25
  SECOND_STANDARD_PARALLEL = "N/A"
  WESTERNMOST_LONGITUDE = 200.97
END_OBJECT = IMAGE_MAP_PROJECTION
/* The JPEG2000 image data file associated with this label. */
OBJECT = COMPRESSED_FILE
  FILE_NAME = "H2692_0000_BL3.JP2"
  RECORD_TYPE = UNDEFINED
  FILE_RECORDS = UNK
  ENCODING_TYPE = "JP2"
  INTERCHANGE_FORMAT = BINARY
  UNCOMPRESSED_FILE_NAME = "H2692_0000_BL3.IMG"
  REQUIRED_STORAGE_BYTES = "15310540"
  ^DESCRIPTION = "JP2INFO.TXT"
END_OBJECT = COMPRESSED_FILE
END
