PDS_VERSION_ID = PDS3
/* FILE DATA ELEMENTS */
RECORD_TYPE = STREAM
/* POINTERS TO DATA OBJECTS */
^COMPRESSED_FILE = "H2694_0000_GR3.JP2"
/* IDENTIFICATION DATA ELEMENTS */
DATA_SET_ID = "MEX-M-HRSC-5-REFDR-MAPPROJECTED-V3.0"
DATA_SET_NAME = "MARS EXPRESS HRSC MAP PROJECTED REFDR V3.0"
DETECTOR_ID = MEX_HRSC_GREEN
EVENT_TYPE = "MARS-TERMINATOR-VARIABLE-At"
INSTRUMENT_HOST_ID = MEX
INSTRUMENT_HOST_NAME = "MARS EXPRESS"
INSTRUMENT_ID = HRSC
INSTRUMENT_NAME = "HIGH RESOLUTION STEREO CAMERA"
MISSION_NAME = "MARS EXPRESS"
MISSION_PHASE_NAME = ME_Phase_2
PROCESSING_LEVEL_ID = 3
PRODUCT_CREATION_TIME = 2016-04-08T01:44:18.000Z
PRODUCT_ID = "H2694_0000_GR3.JP2"
RELEASE_ID = 0033
REVISION_ID = 0000
/* QUALITY DATA ELEMENTS */
DATA_QUALITY_ID = 1
DATA_QUALITY_DESC = "Data calculated based on original SPICE kernels"
/* TIME DATA ELEMENTS */
SPACECRAFT_CLOCK_START_COUNT = "1/0088131490.09058"
SPACECRAFT_CLOCK_STOP_COUNT = "1/0088131765.59315"
START_TIME = 2006-02-16T00:59:07.242Z
STOP_TIME = 2006-02-16T01:00:48.562Z
/* ORBITAL DATA ELEMENTS */
ASCENDING_NODE_LONGITUDE = 171.76
MAXIMUM_RESOLUTION = 103.7
FOOTPRINT_POINT_LATITUDE = (-72.5903,-72.6332,-72.6652,-72.7048, -72.7384,-72.7784,-72.8086,-72.8339, -72.8613,-72.8966,-72.9205,-72.9428, -72.9559,-72.8025,-72.5962,-72.3902, -72.1815,-71.9209,-71.7098,-71.5514, -71.2325,-71.0193,-70.9116,-70.8034, -70.6955,-70.5335,-70.3695,-70.2604, -70.0969,-69.9865,-69.8761,-69.7658, -69.6556,-69.544,-69.3767,-69.2652, -69.1529,-69.0401,-68.9275,-68.815, -68.7011,-68.5872,-68.4734,-68.3593, -68.2446,-68.1295,-68.0146,-67.8408, -67.7247,-67.6087,-67.4368,-67.4277, -67.4048,-67.3864,-67.3662,-67.3417, -67.315,-67.2896,-67.2695,-67.2376, -67.2074,-67.1798,-67.1423,-67.1162, -67.2235,-67.3382,-67.4529,-67.5678, -67.682,-67.7955,-67.9092,-68.0792, -68.1915,-68.3039,-68.4726,-68.5838, -68.695,-68.8064,-68.9172,-69.0272, -69.1373,-69.3024,-69.4113,-69.5202, -69.6292,-69.7921,-69.8997,-70.0611, -70.1687,-70.3816,-70.6472,-70.8577, -71.0679,-71.2758,-71.5357,-71.741, -71.9977,-72.2004,-72.5041,-72.5903)
FOOTPRINT_POINT_LONGITUDE = (5.21938,5.82147,6.29095,6.89712,7.4383 ,8.11814,8.66302,9.14136,9.68978, 10.4468,10.9997,11.5552,12.3798,12.4572 ,12.559,12.6585,12.7561,12.8747,12.9681 ,13.0372,13.1713,13.257,13.3006,13.3439 ,13.3863,13.4505,13.5135,13.5535, 13.6136,13.6535,13.693,13.732,13.7703, 13.8089,13.8658,13.9036,13.9406,13.9776 ,14.014,14.0498,14.0858,14.1215,14.157, 14.1931,14.2254,14.2603,14.2943,14.3448 ,14.378,14.4109,14.3346,14.0125,13.3077 ,12.7964,12.2866,11.7143,11.1433, 10.6371,10.2574,9.6892,9.18567,8.7464, 8.1823,7.80676,7.61766,7.57492,7.53177, 7.48784,7.44341,7.3989,7.35378,7.28517, 7.23878,7.19192,7.12058,7.07286,7.02432 ,6.9752,6.92538,6.87523,6.82467,6.74757 ,6.69641,6.64405,6.59119,6.51131, 6.45732,6.37377,6.31769,6.20503,6.05914 ,5.94112,5.81888,5.69612,5.53734,5.4082 ,5.2418,5.10649,4.89681,5.21938)
ORBIT_NUMBER = 2694
ORBITAL_ECCENTRICITY = 0.571
ORBITAL_INCLINATION = 86.61
ORBITAL_SEMIMAJOR_AXIS = 8546.29
PERIAPSIS_ALTITUDE = 283.96
PERIAPSIS_ARGUMENT_ANGLE = 245.09
PERIAPSIS_TIME = 2006-02-16T00:48:11.000Z
SPACECRAFT_ORIENTATION = (0.0,-1.0,0.0)
^MEX_ORIENTATION_DESC = "MEX_ORIENTATION_DESC.TXT"
SPACECRAFT_POINTING_MODE = NADIR
^MEX_POINTING_DESC = "MEX_POINTING_DESC.TXT"
RIGHT_ASCENSION = -1e+32
DECLINATION = -1e+32
OFFSET_ANGLE = -1e+32
SPACECRAFT_SOLAR_DISTANCE = 2.37483e+08
TARGET_NAME = MARS
/* CAMERA DATA ELEMENTS */
DETECTOR_TEMPERATURE = 18.1666
FOCAL_PLANE_TEMPERATURE = 8.1755
INST_CMPRS_NAME = "DISCRETE COSINE TRANSFORMATION (DCT)"
INST_CMPRS_RATIO = 36.1417
INST_CMPRS_QUALITY = 0
INST_CMPRS_QUANTZ_TBL_ID = 0
INSTRUMENT_TEMPERATURE = 11.0301
LENS_TEMPERATURE = 8.5833
MACROPIXEL_SIZE = 4
MISSING_FRAMES = 0
PIXEL_SUBSAMPLING_FLAG = N
SIGNAL_CHAIN_ID = 2
/* RADIOMETRIC DATA ELEMENTS */
BANDWIDTH = 88.0
CENTER_FILTER_WAVELENGTH = 538.0
RADIANCE_OFFSET = 0.0387898
RADIANCE_SCALING_FACTOR = 0.00106482
REFLECTANCE_SCALING_FACTOR = 5.17053e-05
MEX:REFLECTANCE_OFFSET = 0.00188355
/* IMAGE OBJECT DEFINITIONS */
OBJECT = IMAGE
  INTERCHANGE_FORMAT = BINARY
  LINES = 3464
  LINE_SAMPLES = 1968
  SAMPLE_TYPE = UNSIGNED_INTEGER
  SAMPLE_BITS = 8
  BANDS = 1
  BAND_STORAGE_TYPE = BAND_SEQUENTIAL
  MAXIMUM = 255
  MEAN = 114.675
  MINIMUM = 2
  STANDARD_DEVIATION = 46.8491
END_OBJECT = IMAGE
/* MAP OBJECT DEFINITIONS */
OBJECT = IMAGE_MAP_PROJECTION
  ^DATA_SET_MAP_PROJECTION_CATALOG= "DSMAP.CAT"
  A_AXIS_RADIUS = 3396.0
  B_AXIS_RADIUS = 3396.0
  C_AXIS_RADIUS = 3396.0
  CENTER_LATITUDE = 0.0
  CENTER_LONGITUDE = 10.0
  COORDINATE_SYSTEM_NAME = PLANETOGRAPHIC
  COORDINATE_SYSTEM_TYPE = "BODY-FIXED ROTATING"
  EASTERNMOST_LONGITUDE = 14.4109
  FIRST_STANDARD_PARALLEL = "N/A"
  LINE_FIRST_PIXEL = 1
  LINE_LAST_PIXEL = 3464
  LINE_PROJECTION_OFFSET = -39782.625
  MAP_PROJECTION_ROTATION = 0.0
  MAP_PROJECTION_TYPE = SINUSOIDAL
  MAP_RESOLUTION = 592.713803866667
  MAP_SCALE = 0.1
  MAXIMUM_LATITUDE = -67.11620000000001
  MINIMUM_LATITUDE = -72.9559
  POSITIVE_LONGITUDE_DIRECTION = EAST
  REFERENCE_LATITUDE = "N/A"
  REFERENCE_LONGITUDE = "N/A"
  SAMPLE_FIRST_PIXEL = 1
  SAMPLE_LAST_PIXEL = 1968
  SAMPLE_PROJECTION_OFFSET = 928.375
  SECOND_STANDARD_PARALLEL = "N/A"
  WESTERNMOST_LONGITUDE = 4.89681
END_OBJECT = IMAGE_MAP_PROJECTION
/* The JPEG2000 image data file associated with this label. */
OBJECT = COMPRESSED_FILE
  FILE_NAME = "H2694_0000_GR3.JP2"
  RECORD_TYPE = UNDEFINED
  FILE_RECORDS = UNK
  ENCODING_TYPE = "JP2"
  INTERCHANGE_FORMAT = BINARY
  UNCOMPRESSED_FILE_NAME = "H2694_0000_GR3.IMG"
  REQUIRED_STORAGE_BYTES = "6836832"
  ^DESCRIPTION = "JP2INFO.TXT"
END_OBJECT = COMPRESSED_FILE
END
