PDS_VERSION_ID = PDS3
/* FILE DATA ELEMENTS */
RECORD_TYPE = STREAM
/* POINTERS TO DATA OBJECTS */
^COMPRESSED_FILE = "H2694_0000_P23.JP2"
/* IDENTIFICATION DATA ELEMENTS */
DATA_SET_ID = "MEX-M-HRSC-5-REFDR-MAPPROJECTED-V3.0"
DATA_SET_NAME = "MARS EXPRESS HRSC MAP PROJECTED REFDR V3.0"
DETECTOR_ID = MEX_HRSC_P2
EVENT_TYPE = "MARS-TERMINATOR-VARIABLE-At"
INSTRUMENT_HOST_ID = MEX
INSTRUMENT_HOST_NAME = "MARS EXPRESS"
INSTRUMENT_ID = HRSC
INSTRUMENT_NAME = "HIGH RESOLUTION STEREO CAMERA"
MISSION_NAME = "MARS EXPRESS"
MISSION_PHASE_NAME = ME_Phase_2
PROCESSING_LEVEL_ID = 3
PRODUCT_CREATION_TIME = 2016-04-08T01:44:18.000Z
PRODUCT_ID = "H2694_0000_P23.JP2"
RELEASE_ID = 0033
REVISION_ID = 0000
/* QUALITY DATA ELEMENTS */
DATA_QUALITY_ID = 1
DATA_QUALITY_DESC = "Data calculated based on original SPICE kernels"
/* TIME DATA ELEMENTS */
SPACECRAFT_CLOCK_START_COUNT = "1/0088131490.09058"
SPACECRAFT_CLOCK_STOP_COUNT = "1/0088131765.59315"
START_TIME = 2006-02-16T01:00:10.318Z
STOP_TIME = 2006-02-16T01:02:07.761Z
/* ORBITAL DATA ELEMENTS */
ASCENDING_NODE_LONGITUDE = 171.76
MAXIMUM_RESOLUTION = 118.3
FOOTPRINT_POINT_LATITUDE = (-72.4748,-72.5056,-72.5452,-72.5785, -72.6014,-72.6369,-72.6707,-72.699, -72.7297,-72.7588,-72.7862,-72.8119, -72.8359,-72.8501,-72.8688,-72.9526, -72.7467,-72.5905,-72.4344,-72.2254, -71.9626,-71.6972,-71.4847,-71.2707, -70.9999,-70.8373,-70.6212,-70.4029, -70.0734,-69.8523,-69.7409,-69.6292, -69.5178,-69.4056,-69.2934,-69.1813, -69.0116,-68.8986,-68.785,-68.6708, -68.5568,-68.4422,-68.3272,-68.2125, -68.0971,-67.9815,-67.8077,-67.6912, -67.5747,-67.4575,-67.4321,-67.4227, -67.4145,-67.4025,-67.3933,-67.3764, -67.3581,-67.3325,-67.3077,-67.2947, -67.2812,-67.2562,-67.2415,-67.2189, -67.1908,-67.1743,-67.1575,-67.1399, -67.1219,-67.1036,-67.2194,-67.334, -67.4488,-67.6201,-67.7341,-67.8481, -67.9611,-68.1306,-68.2992,-68.4116, -68.579,-68.6905,-68.8575,-68.9681, -69.0788,-69.2984,-69.4625,-69.6802, -69.951,-70.167,-70.3808,-70.5412, -70.7532,-71.0693,-71.2266,-71.4348, -71.7453,-72.0537,-72.3092,-72.4748)
FOOTPRINT_POINT_LONGITUDE = (4.79791,5.24454,5.84107,6.36443,6.7394 ,7.34079,7.94475,8.47503,9.08257, 9.69185,10.303,10.9162,11.532,11.918, 12.4596,12.8727,12.9768,13.0537,13.1293 ,13.2287,13.3493,13.4675,13.5606, 13.6511,13.7609,13.8257,13.9134,13.9983 ,14.1226,14.2031,14.2428,14.2822, 14.3211,14.36,14.3986,14.4367,14.4934, 14.5307,14.5675,14.6041,14.6404,14.6764 ,14.7122,14.7476,14.7827,14.8177, 14.8693,14.9035,14.9373,14.971,14.6166, 14.2519,13.9603,13.5244,13.2339,12.7268 ,12.2208,11.5713,10.9951,10.7073, 10.4197,9.91732,9.63081,9.20141,8.7013, 8.41603,8.13057,7.84555,7.56044,7.25119 ,7.20945,7.16751,7.125,7.06023,7.01649, 6.97199,6.92729,6.85988,6.79069,6.74398 ,6.67308,6.62501,6.55157,6.50217, 6.45213,6.35116,6.27437,6.16912,6.0342, 5.92303,5.81065,5.7237,5.60682,5.42591, 5.33359,5.20823,5.01463,4.81442,4.64228 ,4.79791)
ORBIT_NUMBER = 2694
ORBITAL_ECCENTRICITY = 0.571
ORBITAL_INCLINATION = 86.61
ORBITAL_SEMIMAJOR_AXIS = 8546.29
PERIAPSIS_ALTITUDE = 283.96
PERIAPSIS_ARGUMENT_ANGLE = 245.09
PERIAPSIS_TIME = 2006-02-16T00:48:11.000Z
SPACECRAFT_ORIENTATION = (0.0,-1.0,0.0)
^MEX_ORIENTATION_DESC = "MEX_ORIENTATION_DESC.TXT"
SPACECRAFT_POINTING_MODE = NADIR
^MEX_POINTING_DESC = "MEX_POINTING_DESC.TXT"
RIGHT_ASCENSION = -1e+32
DECLINATION = -1e+32
OFFSET_ANGLE = -1e+32
SPACECRAFT_SOLAR_DISTANCE = 2.37483e+08
TARGET_NAME = MARS
/* CAMERA DATA ELEMENTS */
DETECTOR_TEMPERATURE = 18.1666
FOCAL_PLANE_TEMPERATURE = 8.1755
INST_CMPRS_NAME = "DISCRETE COSINE TRANSFORMATION (DCT)"
INST_CMPRS_RATIO = 37.5888
INST_CMPRS_QUALITY = 0
INST_CMPRS_QUANTZ_TBL_ID = 0
INSTRUMENT_TEMPERATURE = 11.0301
LENS_TEMPERATURE = 8.5833
MACROPIXEL_SIZE = 4
MISSING_FRAMES = 0
PIXEL_SUBSAMPLING_FLAG = N
SIGNAL_CHAIN_ID = 3
/* RADIOMETRIC DATA ELEMENTS */
BANDWIDTH = 177.0
CENTER_FILTER_WAVELENGTH = 676.5
RADIANCE_OFFSET = 0.0204005
RADIANCE_SCALING_FACTOR = 0.00272007
REFLECTANCE_SCALING_FACTOR = 8.13405e-05
MEX:REFLECTANCE_OFFSET = 0.000610054
/* IMAGE OBJECT DEFINITIONS */
OBJECT = IMAGE
  INTERCHANGE_FORMAT = BINARY
  LINES = 3464
  LINE_SAMPLES = 1968
  SAMPLE_TYPE = UNSIGNED_INTEGER
  SAMPLE_BITS = 8
  BANDS = 1
  BAND_STORAGE_TYPE = BAND_SEQUENTIAL
  MAXIMUM = 255
  MEAN = 132.388
  MINIMUM = 7
  STANDARD_DEVIATION = 51.7117
END_OBJECT = IMAGE
/* MAP OBJECT DEFINITIONS */
OBJECT = IMAGE_MAP_PROJECTION
  ^DATA_SET_MAP_PROJECTION_CATALOG= "DSMAP.CAT"
  A_AXIS_RADIUS = 3396.0
  B_AXIS_RADIUS = 3396.0
  C_AXIS_RADIUS = 3396.0
  CENTER_LATITUDE = 0.0
  CENTER_LONGITUDE = 10.0
  COORDINATE_SYSTEM_NAME = PLANETOGRAPHIC
  COORDINATE_SYSTEM_TYPE = "BODY-FIXED ROTATING"
  EASTERNMOST_LONGITUDE = 14.971
  FIRST_STANDARD_PARALLEL = "N/A"
  LINE_FIRST_PIXEL = 1
  LINE_LAST_PIXEL = 3464
  LINE_PROJECTION_OFFSET = -39782.625
  MAP_PROJECTION_ROTATION = 0.0
  MAP_PROJECTION_TYPE = SINUSOIDAL
  MAP_RESOLUTION = 592.713803866667
  MAP_SCALE = 0.1
  MAXIMUM_LATITUDE = -67.1036
  MINIMUM_LATITUDE = -72.9526
  POSITIVE_LONGITUDE_DIRECTION = EAST
  REFERENCE_LATITUDE = "N/A"
  REFERENCE_LONGITUDE = "N/A"
  SAMPLE_FIRST_PIXEL = 1
  SAMPLE_LAST_PIXEL = 1968
  SAMPLE_PROJECTION_OFFSET = 928.375
  SECOND_STANDARD_PARALLEL = "N/A"
  WESTERNMOST_LONGITUDE = 4.64228
END_OBJECT = IMAGE_MAP_PROJECTION
/* The JPEG2000 image data file associated with this label. */
OBJECT = COMPRESSED_FILE
  FILE_NAME = "H2694_0000_P23.JP2"
  RECORD_TYPE = UNDEFINED
  FILE_RECORDS = UNK
  ENCODING_TYPE = "JP2"
  INTERCHANGE_FORMAT = BINARY
  UNCOMPRESSED_FILE_NAME = "H2694_0000_P23.IMG"
  REQUIRED_STORAGE_BYTES = "6836832"
  ^DESCRIPTION = "JP2INFO.TXT"
END_OBJECT = COMPRESSED_FILE
END
