PDS_VERSION_ID = PDS3
/* FILE DATA ELEMENTS */
RECORD_TYPE = STREAM
/* POINTERS TO DATA OBJECTS */
^COMPRESSED_FILE = "H2719_0000_RE3.JP2"
/* IDENTIFICATION DATA ELEMENTS */
DATA_SET_ID = "MEX-M-HRSC-5-REFDR-MAPPROJECTED-V3.0"
DATA_SET_NAME = "MARS EXPRESS HRSC MAP PROJECTED REFDR V3.0"
DETECTOR_ID = MEX_HRSC_RED
EVENT_TYPE = "MARS-TERMINATOR-VARIABLE-At"
INSTRUMENT_HOST_ID = MEX
INSTRUMENT_HOST_NAME = "MARS EXPRESS"
INSTRUMENT_ID = HRSC
INSTRUMENT_NAME = "HIGH RESOLUTION STEREO CAMERA"
MISSION_NAME = "MARS EXPRESS"
MISSION_PHASE_NAME = ME_Phase_2
PROCESSING_LEVEL_ID = 3
PRODUCT_CREATION_TIME = 2016-04-08T11:40:40.000Z
PRODUCT_ID = "H2719_0000_RE3.JP2"
RELEASE_ID = 0034
REVISION_ID = 0000
/* QUALITY DATA ELEMENTS */
DATA_QUALITY_ID = 1
DATA_QUALITY_DESC = "Data calculated based on original SPICE kernels"
/* TIME DATA ELEMENTS */
SPACECRAFT_CLOCK_START_COUNT = "1/0088736525.07275"
SPACECRAFT_CLOCK_STOP_COUNT = "1/0088737599.22158"
START_TIME = 2006-02-23T01:05:19.354Z
STOP_TIME = 2006-02-23T01:17:57.625Z
/* ORBITAL DATA ELEMENTS */
ASCENDING_NODE_LONGITUDE = 171.24
MAXIMUM_RESOLUTION = 166.6
FOOTPRINT_POINT_LATITUDE = (-67.7992,-67.8735,-67.9604,-68.0184, -68.06,-68.092,-67.6903,-66.9171, -66.3969,-65.8768,-65.3483,-64.809, -64.2628,-63.7183,-63.1683,-62.61, -62.0543,-61.5052,-60.9701,-60.4346, -59.9058,-59.3821,-58.8705,-58.3511, -57.8541,-57.1099,-56.6212,-56.1363, -55.432,-54.9623,-54.5046,-53.83, -53.3843,-52.9414,-52.5039,-52.0757, -51.6561,-51.0268,-50.6117,-49.7978, -49.004,-48.2275,-47.4687,-46.7289, -46.0063,-45.3001,-45.1153,-45.155, -45.2035,-45.245,-45.272,-45.2891, -45.3167,-45.333,-45.3655,-45.3839, -45.3993,-45.4059,-45.8869,-46.559, -47.2479,-47.9562,-48.6843,-49.4289, -50.1973,-50.9849,-51.7893,-52.2005, -52.616,-53.0366,-53.4631,-53.895, -54.3329,-54.7759,-55.226,-55.6812, -56.1433,-56.6117,-57.0862,-57.5668, -58.0552,-58.5499,-59.0505,-59.5578, -60.0722,-60.5932,-61.121,-61.6552, -62.1987,-62.7456,-63.289,-63.8265, -64.358,-64.8843,-65.4063,-65.9215, -66.4308,-66.9349,-67.6846,-67.7992)
FOOTPRINT_POINT_LONGITUDE = (70.2502,71.5932,73.4512,74.9784, 76.3424,77.7153,78.3127,78.5209,78.6556 ,78.7907,78.9192,79.0403,79.1562, 79.2749,79.3905,79.5006,79.6055,79.7056 ,79.8069,79.8988,79.9871,80.0709, 80.1557,80.2272,80.3078,80.4164,80.4858 ,80.5515,80.6549,80.7163,80.7804, 80.8747,80.9337,80.9895,81.0441,81.1003 ,81.1577,81.2354,81.2847,81.3818, 81.4764,81.5673,81.6556,81.7427,81.8281 ,81.9117,80.5419,79.7402,78.741,77.641, 76.8414,76.1412,75.3401,74.6384,73.7322 ,72.6241,71.8124,71.1695,71.2045, 71.2399,71.2721,71.2994,71.3212,71.3394 ,71.3492,71.3529,71.3519,71.3476, 71.3418,71.3341,71.3236,71.3107,71.2949 ,71.2765,71.2541,71.229,71.1995,71.1661 ,71.1287,71.0869,71.0391,70.9864, 70.9288,70.8652,70.7948,70.7178,70.6335 ,70.5418,70.4391,70.3298,70.2126, 70.0889,69.9586,69.8203,69.673,69.5189, 69.3573,69.1872,68.91,70.2502)
ORBIT_NUMBER = 2719
ORBITAL_ECCENTRICITY = 0.571
ORBITAL_INCLINATION = 86.62
ORBITAL_SEMIMAJOR_AXIS = 8552.12
PERIAPSIS_ALTITUDE = 284.61
PERIAPSIS_ARGUMENT_ANGLE = 240.77
PERIAPSIS_TIME = 2006-02-23T00:49:36.000Z
SPACECRAFT_ORIENTATION = (0.0,-1.0,0.0)
^MEX_ORIENTATION_DESC = "MEX_ORIENTATION_DESC.TXT"
SPACECRAFT_POINTING_MODE = NADIR
^MEX_POINTING_DESC = "MEX_POINTING_DESC.TXT"
RIGHT_ASCENSION = -1e+32
DECLINATION = -1e+32
OFFSET_ANGLE = -1e+32
SPACECRAFT_SOLAR_DISTANCE = 2.38632e+08
TARGET_NAME = MARS
/* CAMERA DATA ELEMENTS */
DETECTOR_TEMPERATURE = 18.5744
FOCAL_PLANE_TEMPERATURE = 8.1755
INST_CMPRS_NAME = "DISCRETE COSINE TRANSFORMATION (DCT)"
INST_CMPRS_RATIO = 36.5376
INST_CMPRS_QUALITY = 0
INST_CMPRS_QUANTZ_TBL_ID = 0
INSTRUMENT_TEMPERATURE = 11.0301
LENS_TEMPERATURE = 8.3794
MACROPIXEL_SIZE = 4
MISSING_FRAMES = 0
PIXEL_SUBSAMPLING_FLAG = N
SIGNAL_CHAIN_ID = 2
/* RADIOMETRIC DATA ELEMENTS */
BANDWIDTH = 48.0
CENTER_FILTER_WAVELENGTH = 748.0
RADIANCE_OFFSET = 0.0
RADIANCE_SCALING_FACTOR = 0.00318785
REFLECTANCE_SCALING_FACTOR = 0.000414274
MEX:REFLECTANCE_OFFSET = 0.0
/* IMAGE OBJECT DEFINITIONS */
OBJECT = IMAGE
  INTERCHANGE_FORMAT = BINARY
  LINES = 13662
  LINE_SAMPLES = 3341
  SAMPLE_TYPE = UNSIGNED_INTEGER
  SAMPLE_BITS = 8
  BANDS = 1
  BAND_STORAGE_TYPE = BAND_SEQUENTIAL
  MAXIMUM = 227
  MEAN = 84.0788
  MINIMUM = 1
  STANDARD_DEVIATION = 51.5507
END_OBJECT = IMAGE
/* MAP OBJECT DEFINITIONS */
OBJECT = IMAGE_MAP_PROJECTION
  ^DATA_SET_MAP_PROJECTION_CATALOG= "DSMAP.CAT"
  A_AXIS_RADIUS = 3396.0
  B_AXIS_RADIUS = 3396.0
  C_AXIS_RADIUS = 3396.0
  CENTER_LATITUDE = 0.0
  CENTER_LONGITUDE = 76.0
  COORDINATE_SYSTEM_NAME = PLANETOGRAPHIC
  COORDINATE_SYSTEM_TYPE = "BODY-FIXED ROTATING"
  EASTERNMOST_LONGITUDE = 81.9117
  FIRST_STANDARD_PARALLEL = "N/A"
  LINE_FIRST_PIXEL = 1
  LINE_LAST_PIXEL = 13662
  LINE_PROJECTION_OFFSET = -26771.625
  MAP_PROJECTION_ROTATION = 0.0
  MAP_PROJECTION_TYPE = SINUSOIDAL
  MAP_RESOLUTION = 592.713803866667
  MAP_SCALE = 0.1
  MAXIMUM_LATITUDE = -45.1153
  MINIMUM_LATITUDE = -68.092
  POSITIVE_LONGITUDE_DIRECTION = EAST
  REFERENCE_LATITUDE = "N/A"
  REFERENCE_LONGITUDE = "N/A"
  SAMPLE_FIRST_PIXEL = 1
  SAMPLE_LAST_PIXEL = 3341
  SAMPLE_PROJECTION_OFFSET = 1587.125
  SECOND_STANDARD_PARALLEL = "N/A"
  WESTERNMOST_LONGITUDE = 68.91
END_OBJECT = IMAGE_MAP_PROJECTION
/* The JPEG2000 image data file associated with this label. */
OBJECT = COMPRESSED_FILE
  FILE_NAME = "H2719_0000_RE3.JP2"
  RECORD_TYPE = UNDEFINED
  FILE_RECORDS = UNK
  ENCODING_TYPE = "JP2"
  INTERCHANGE_FORMAT = BINARY
  UNCOMPRESSED_FILE_NAME = "H2719_0000_RE3.IMG"
  REQUIRED_STORAGE_BYTES = "45668129"
  ^DESCRIPTION = "JP2INFO.TXT"
END_OBJECT = COMPRESSED_FILE
END
